BEGIN:VCALENDAR
VERSION:2.0
PRODID:-//Parkside Middle School - ECPv6.15.20//NONSGML v1.0//EN
CALSCALE:GREGORIAN
METHOD:PUBLISH
X-WR-CALNAME:Parkside Middle School
X-ORIGINAL-URL:https://www.parkside.worcs.sch.uk
X-WR-CALDESC:Events for Parkside Middle School
REFRESH-INTERVAL;VALUE=DURATION:PT1H
X-Robots-Tag:noindex
X-PUBLISHED-TTL:PT1H
BEGIN:VTIMEZONE
TZID:Europe/London
BEGIN:DAYLIGHT
TZOFFSETFROM:+0000
TZOFFSETTO:+0100
TZNAME:BST
DTSTART:20250330T010000
END:DAYLIGHT
BEGIN:STANDARD
TZOFFSETFROM:+0100
TZOFFSETTO:+0000
TZNAME:GMT
DTSTART:20251026T010000
END:STANDARD
BEGIN:DAYLIGHT
TZOFFSETFROM:+0000
TZOFFSETTO:+0100
TZNAME:BST
DTSTART:20260329T010000
END:DAYLIGHT
BEGIN:STANDARD
TZOFFSETFROM:+0100
TZOFFSETTO:+0000
TZNAME:GMT
DTSTART:20261025T010000
END:STANDARD
BEGIN:DAYLIGHT
TZOFFSETFROM:+0000
TZOFFSETTO:+0100
TZNAME:BST
DTSTART:20270328T010000
END:DAYLIGHT
BEGIN:STANDARD
TZOFFSETFROM:+0100
TZOFFSETTO:+0000
TZNAME:GMT
DTSTART:20271031T010000
END:STANDARD
END:VTIMEZONE
BEGIN:VEVENT
DTSTART;TZID=Europe/London:20260213T151500
DTEND;TZID=Europe/London:20260213T151500
DTSTAMP:20260423T002355
CREATED:20250630T120056Z
LAST-MODIFIED:20250630T120056Z
UID:10176-1770995700-1770995700@www.parkside.worcs.sch.uk
SUMMARY:School closes for half term
DESCRIPTION:
URL:https://www.parkside.worcs.sch.uk/event/school-closes-for-half-term-10/
END:VEVENT
BEGIN:VEVENT
DTSTART;TZID=Europe/London:20260223T085000
DTEND;TZID=Europe/London:20260223T151500
DTSTAMP:20260423T002355
CREATED:20250630T120209Z
LAST-MODIFIED:20250630T120209Z
UID:10178-1771836600-1771859700@www.parkside.worcs.sch.uk
SUMMARY:School reopens
DESCRIPTION:
URL:https://www.parkside.worcs.sch.uk/event/school-reopens-20/
END:VEVENT
BEGIN:VEVENT
DTSTART;VALUE=DATE:20260225
DTEND;VALUE=DATE:20260226
DTSTAMP:20260423T002355
CREATED:20250909T095107Z
LAST-MODIFIED:20250909T095107Z
UID:10416-1771977600-1772063999@www.parkside.worcs.sch.uk
SUMMARY:5SN start swimming
DESCRIPTION:
URL:https://www.parkside.worcs.sch.uk/event/5sn-start-swimming-2/
END:VEVENT
BEGIN:VEVENT
DTSTART;TZID=Europe/London:20260226T090000
DTEND;TZID=Europe/London:20260226T150000
DTSTAMP:20260423T002355
CREATED:20250909T095257Z
LAST-MODIFIED:20250909T095811Z
UID:10418-1772096400-1772118000@www.parkside.worcs.sch.uk
SUMMARY:Production Dress Rehearsal
DESCRIPTION:(KS2 & Meadows KS2)
URL:https://www.parkside.worcs.sch.uk/event/production-dress-rehearsal/
END:VEVENT
BEGIN:VEVENT
DTSTART;TZID=Europe/London:20260227T090000
DTEND;TZID=Europe/London:20260227T150000
DTSTAMP:20260423T002355
CREATED:20250909T095401Z
LAST-MODIFIED:20250909T095629Z
UID:10420-1772182800-1772204400@www.parkside.worcs.sch.uk
SUMMARY:Production Dress Rehearsal
DESCRIPTION:(KS3)
URL:https://www.parkside.worcs.sch.uk/event/production-dress-rehearsal-2/
END:VEVENT
END:VCALENDAR