BEGIN:VCALENDAR
VERSION:2.0
PRODID:-//Parkside Middle School - ECPv6.15.20//NONSGML v1.0//EN
CALSCALE:GREGORIAN
METHOD:PUBLISH
X-WR-CALNAME:Parkside Middle School
X-ORIGINAL-URL:https://www.parkside.worcs.sch.uk
X-WR-CALDESC:Events for Parkside Middle School
REFRESH-INTERVAL;VALUE=DURATION:PT1H
X-Robots-Tag:noindex
X-PUBLISHED-TTL:PT1H
BEGIN:VTIMEZONE
TZID:Europe/London
BEGIN:DAYLIGHT
TZOFFSETFROM:+0000
TZOFFSETTO:+0100
TZNAME:BST
DTSTART:20240331T010000
END:DAYLIGHT
BEGIN:STANDARD
TZOFFSETFROM:+0100
TZOFFSETTO:+0000
TZNAME:GMT
DTSTART:20241027T010000
END:STANDARD
BEGIN:DAYLIGHT
TZOFFSETFROM:+0000
TZOFFSETTO:+0100
TZNAME:BST
DTSTART:20250330T010000
END:DAYLIGHT
BEGIN:STANDARD
TZOFFSETFROM:+0100
TZOFFSETTO:+0000
TZNAME:GMT
DTSTART:20251026T010000
END:STANDARD
BEGIN:DAYLIGHT
TZOFFSETFROM:+0000
TZOFFSETTO:+0100
TZNAME:BST
DTSTART:20260329T010000
END:DAYLIGHT
BEGIN:STANDARD
TZOFFSETFROM:+0100
TZOFFSETTO:+0000
TZNAME:GMT
DTSTART:20261025T010000
END:STANDARD
END:VTIMEZONE
BEGIN:VEVENT
DTSTART;TZID=Europe/London:20251001T090000
DTEND;TZID=Europe/London:20251001T090000
DTSTAMP:20260423T075259
CREATED:20250908T080123Z
LAST-MODIFIED:20250908T080123Z
UID:10359-1759309200-1759309200@www.parkside.worcs.sch.uk
SUMMARY:KS2 Battle of the Bands ‘Rocktober’ starts
DESCRIPTION:
URL:https://www.parkside.worcs.sch.uk/event/ks2-battle-of-the-bands-rocktober-starts-3/
END:VEVENT
BEGIN:VEVENT
DTSTART;TZID=Europe/London:20251002T180000
DTEND;TZID=Europe/London:20251002T203000
DTSTAMP:20260423T075259
CREATED:20250908T123919Z
LAST-MODIFIED:20250908T123919Z
UID:10361-1759428000-1759437000@www.parkside.worcs.sch.uk
SUMMARY:SBHS Open Evening
DESCRIPTION:
URL:https://www.parkside.worcs.sch.uk/event/sbhs-open-evening-4/
END:VEVENT
BEGIN:VEVENT
DTSTART;VALUE=DATE:20251003
DTEND;VALUE=DATE:20251004
DTSTAMP:20260423T075259
CREATED:20250908T124026Z
LAST-MODIFIED:20250908T124308Z
UID:10363-1759449600-1759535999@www.parkside.worcs.sch.uk
SUMMARY:Year 5 Blackwell trip
DESCRIPTION:
URL:https://www.parkside.worcs.sch.uk/event/year-5-blackwell-trip-2/
END:VEVENT
BEGIN:VEVENT
DTSTART;TZID=Europe/London:20251010T091500
DTEND;TZID=Europe/London:20251010T120000
DTSTAMP:20260423T075259
CREATED:20250908T124558Z
LAST-MODIFIED:20250908T124855Z
UID:10365-1760087700-1760097600@www.parkside.worcs.sch.uk
SUMMARY:EHCP SEND Coffee Morning – Meet the LSA
DESCRIPTION:
URL:https://www.parkside.worcs.sch.uk/event/ehcp-send-coffee-morning-meet-the-lsa/
END:VEVENT
BEGIN:VEVENT
DTSTART;TZID=Europe/London:20251013T091500
DTEND;TZID=Europe/London:20251013T120000
DTSTAMP:20260423T075259
CREATED:20250908T124710Z
LAST-MODIFIED:20250908T124710Z
UID:10367-1760346900-1760356800@www.parkside.worcs.sch.uk
SUMMARY:Year 5 Maths and English Morning for parents
DESCRIPTION:
URL:https://www.parkside.worcs.sch.uk/event/year-5-maths-and-english-morning-for-parents/
END:VEVENT
BEGIN:VEVENT
DTSTART;VALUE=DATE:20251015
DTEND;VALUE=DATE:20251016
DTSTAMP:20260423T075259
CREATED:20250908T125114Z
LAST-MODIFIED:20250908T125114Z
UID:10369-1760486400-1760572799@www.parkside.worcs.sch.uk
SUMMARY:Year 6 – Black Country Museum trip
DESCRIPTION:
URL:https://www.parkside.worcs.sch.uk/event/year-6-black-country-museum-trip-2/
END:VEVENT
BEGIN:VEVENT
DTSTART;TZID=Europe/London:20251016T180000
DTEND;TZID=Europe/London:20251016T190000
DTSTAMP:20260423T075259
CREATED:20250908T125155Z
LAST-MODIFIED:20250908T125155Z
UID:10371-1760637600-1760641200@www.parkside.worcs.sch.uk
SUMMARY:Year 6 Information Evening
DESCRIPTION:
URL:https://www.parkside.worcs.sch.uk/event/year-6-information-evening-4/
END:VEVENT
BEGIN:VEVENT
DTSTART;TZID=Europe/London:20251017T140000
DTEND;TZID=Europe/London:20251017T150000
DTSTAMP:20260423T075259
CREATED:20250908T125254Z
LAST-MODIFIED:20250908T125254Z
UID:10374-1760709600-1760713200@www.parkside.worcs.sch.uk
SUMMARY:Year 7 Family Thrive Afternoon
DESCRIPTION:
URL:https://www.parkside.worcs.sch.uk/event/year-7-family-thrive-afternoon-3/
END:VEVENT
BEGIN:VEVENT
DTSTART;TZID=Europe/London:20251024T151500
DTEND;TZID=Europe/London:20251024T151500
DTSTAMP:20260423T075259
CREATED:20250630T115327Z
LAST-MODIFIED:20250630T115327Z
UID:10165-1761318900-1761318900@www.parkside.worcs.sch.uk
SUMMARY:School closes for half term
DESCRIPTION:
URL:https://www.parkside.worcs.sch.uk/event/school-closes-for-half-term-9/
END:VEVENT
BEGIN:VEVENT
DTSTART;VALUE=DATE:20251031
DTEND;VALUE=DATE:20251101
DTSTAMP:20260423T075259
CREATED:20250908T125405Z
LAST-MODIFIED:20250908T130609Z
UID:10376-1761868800-1761955199@www.parkside.worcs.sch.uk
SUMMARY:Last day of ‘Rocktober’ (in half term)
DESCRIPTION:
URL:https://www.parkside.worcs.sch.uk/event/last-day-of-rocktober-in-half-term/
END:VEVENT
END:VCALENDAR