BEGIN:VCALENDAR
VERSION:2.0
PRODID:-//Parkside Middle School - ECPv6.15.20//NONSGML v1.0//EN
CALSCALE:GREGORIAN
METHOD:PUBLISH
X-ORIGINAL-URL:https://www.parkside.worcs.sch.uk
X-WR-CALDESC:Events for Parkside Middle School
REFRESH-INTERVAL;VALUE=DURATION:PT1H
X-Robots-Tag:noindex
X-PUBLISHED-TTL:PT1H
BEGIN:VTIMEZONE
TZID:Europe/London
BEGIN:DAYLIGHT
TZOFFSETFROM:+0000
TZOFFSETTO:+0100
TZNAME:BST
DTSTART:20240331T010000
END:DAYLIGHT
BEGIN:STANDARD
TZOFFSETFROM:+0100
TZOFFSETTO:+0000
TZNAME:GMT
DTSTART:20241027T010000
END:STANDARD
BEGIN:DAYLIGHT
TZOFFSETFROM:+0000
TZOFFSETTO:+0100
TZNAME:BST
DTSTART:20250330T010000
END:DAYLIGHT
BEGIN:STANDARD
TZOFFSETFROM:+0100
TZOFFSETTO:+0000
TZNAME:GMT
DTSTART:20251026T010000
END:STANDARD
BEGIN:DAYLIGHT
TZOFFSETFROM:+0000
TZOFFSETTO:+0100
TZNAME:BST
DTSTART:20260329T010000
END:DAYLIGHT
BEGIN:STANDARD
TZOFFSETFROM:+0100
TZOFFSETTO:+0000
TZNAME:GMT
DTSTART:20261025T010000
END:STANDARD
END:VTIMEZONE
BEGIN:VEVENT
DTSTART;TZID=Europe/London:20250303T080000
DTEND;TZID=Europe/London:20250307T170000
DTSTAMP:20260421T155348
CREATED:20240902T143153Z
LAST-MODIFIED:20240902T143153Z
UID:8626-1740988800-1741366800@www.parkside.worcs.sch.uk
SUMMARY:National Careers Week
DESCRIPTION:
URL:https://www.parkside.worcs.sch.uk/event/national-careers-week-2/
END:VEVENT
BEGIN:VEVENT
DTSTART;TZID=Europe/London:20250304T160000
DTEND;TZID=Europe/London:20250304T190000
DTSTAMP:20260421T155348
CREATED:20240902T143311Z
LAST-MODIFIED:20240902T143755Z
UID:8628-1741104000-1741114800@www.parkside.worcs.sch.uk
SUMMARY:Parents' Evening (Face-to-Face)
DESCRIPTION:
URL:https://www.parkside.worcs.sch.uk/event/parents-evening-face-to-face-3/
END:VEVENT
BEGIN:VEVENT
DTSTART;VALUE=DATE:20250306
DTEND;VALUE=DATE:20250307
DTSTAMP:20260421T155348
CREATED:20240902T143442Z
LAST-MODIFIED:20240902T143442Z
UID:8630-1741219200-1741305599@www.parkside.worcs.sch.uk
SUMMARY:World Book Day
DESCRIPTION:
URL:https://www.parkside.worcs.sch.uk/event/world-book-day-2/
END:VEVENT
BEGIN:VEVENT
DTSTART;TZID=Europe/London:20250306T040000
DTEND;TZID=Europe/London:20250306T190000
DTSTAMP:20260421T155348
CREATED:20240902T143624Z
LAST-MODIFIED:20240902T143700Z
UID:8632-1741233600-1741287600@www.parkside.worcs.sch.uk
SUMMARY:Parents' Evening (Virtual)
DESCRIPTION:
URL:https://www.parkside.worcs.sch.uk/event/parents-evening-virtual-3/
END:VEVENT
BEGIN:VEVENT
DTSTART;TZID=Europe/London:20250311T040000
DTEND;TZID=Europe/London:20250311T190000
DTSTAMP:20260421T155348
CREATED:20240902T144005Z
LAST-MODIFIED:20240902T144005Z
UID:8635-1741665600-1741719600@www.parkside.worcs.sch.uk
SUMMARY:Parents' Evening (Virtual)
DESCRIPTION:
URL:https://www.parkside.worcs.sch.uk/event/parents-evening-virtual-4/
END:VEVENT
BEGIN:VEVENT
DTSTART;VALUE=DATE:20250319
DTEND;VALUE=DATE:20250320
DTSTAMP:20260421T155348
CREATED:20240906T125145Z
LAST-MODIFIED:20240906T125403Z
UID:8749-1742342400-1742428799@www.parkside.worcs.sch.uk
SUMMARY:Key Stage 3 Mixed Hockey Tournament
DESCRIPTION:North Worcestershire – turn up & play tournament to be held at Aston Fields Middle School. \nTimings to be confirmed.
URL:https://www.parkside.worcs.sch.uk/event/key-stage-3-mixed-hockey-tournament/
END:VEVENT
BEGIN:VEVENT
DTSTART;TZID=Europe/London:20250324T080000
DTEND;TZID=Europe/London:20250328T170000
DTSTAMP:20260421T155348
CREATED:20240902T144112Z
LAST-MODIFIED:20240902T144112Z
UID:8638-1742803200-1743181200@www.parkside.worcs.sch.uk
SUMMARY:Year 6 Mocks SATs Assessments
DESCRIPTION:
URL:https://www.parkside.worcs.sch.uk/event/year-6-mocks-sats-assessments/
END:VEVENT
END:VCALENDAR