BEGIN:VCALENDAR
VERSION:2.0
PRODID:-//Parkside Middle School - ECPv6.15.20//NONSGML v1.0//EN
CALSCALE:GREGORIAN
METHOD:PUBLISH
X-WR-CALNAME:Parkside Middle School
X-ORIGINAL-URL:https://www.parkside.worcs.sch.uk
X-WR-CALDESC:Events for Parkside Middle School
REFRESH-INTERVAL;VALUE=DURATION:PT1H
X-Robots-Tag:noindex
X-PUBLISHED-TTL:PT1H
BEGIN:VTIMEZONE
TZID:Europe/London
BEGIN:DAYLIGHT
TZOFFSETFROM:+0000
TZOFFSETTO:+0100
TZNAME:BST
DTSTART:20240331T010000
END:DAYLIGHT
BEGIN:STANDARD
TZOFFSETFROM:+0100
TZOFFSETTO:+0000
TZNAME:GMT
DTSTART:20241027T010000
END:STANDARD
BEGIN:DAYLIGHT
TZOFFSETFROM:+0000
TZOFFSETTO:+0100
TZNAME:BST
DTSTART:20250330T010000
END:DAYLIGHT
BEGIN:STANDARD
TZOFFSETFROM:+0100
TZOFFSETTO:+0000
TZNAME:GMT
DTSTART:20251026T010000
END:STANDARD
BEGIN:DAYLIGHT
TZOFFSETFROM:+0000
TZOFFSETTO:+0100
TZNAME:BST
DTSTART:20260329T010000
END:DAYLIGHT
BEGIN:STANDARD
TZOFFSETFROM:+0100
TZOFFSETTO:+0000
TZNAME:GMT
DTSTART:20261025T010000
END:STANDARD
END:VTIMEZONE
BEGIN:VEVENT
DTSTART;VALUE=DATE:20250204
DTEND;VALUE=DATE:20250206
DTSTAMP:20260421T140639
CREATED:20250203T161029Z
LAST-MODIFIED:20250203T161029Z
UID:9603-1738627200-1738799999@www.parkside.worcs.sch.uk
SUMMARY:Ofsted Inspection
DESCRIPTION:
URL:https://www.parkside.worcs.sch.uk/event/ofsted-inspection/
END:VEVENT
BEGIN:VEVENT
DTSTART;VALUE=DATE:20250205
DTEND;VALUE=DATE:20250206
DTSTAMP:20260421T140639
CREATED:20240906T124851Z
LAST-MODIFIED:20240906T125432Z
UID:8747-1738713600-1738799999@www.parkside.worcs.sch.uk
SUMMARY:Key Stage 2 Mixed Hockey Tournament
DESCRIPTION:North Worcestershire – turn up & play tournament to be held at Alvechurch Middle School. \nTimings to be confirmed.
URL:https://www.parkside.worcs.sch.uk/event/key-stage-2-mixed-hockey-tournament/
END:VEVENT
BEGIN:VEVENT
DTSTART;TZID=Europe/London:20250212T090000
DTEND;TZID=Europe/London:20250212T150000
DTSTAMP:20260421T140639
CREATED:20240902T142812Z
LAST-MODIFIED:20240902T142812Z
UID:8621-1739350800-1739372400@www.parkside.worcs.sch.uk
SUMMARY:Key Stage 2 - 66 Test 4
DESCRIPTION:
URL:https://www.parkside.worcs.sch.uk/event/key-stage-2-66-test-4/
END:VEVENT
BEGIN:VEVENT
DTSTART;TZID=Europe/London:20250214T151500
DTEND;TZID=Europe/London:20250214T151500
DTSTAMP:20260421T140639
CREATED:20240123T105400Z
LAST-MODIFIED:20240123T105430Z
UID:7360-1739546100-1739546100@www.parkside.worcs.sch.uk
SUMMARY:School closes for the half term
DESCRIPTION:
URL:https://www.parkside.worcs.sch.uk/event/school-closes-for-the-half-term/
END:VEVENT
BEGIN:VEVENT
DTSTART;TZID=Europe/London:20250224T085000
DTEND;TZID=Europe/London:20250224T151500
DTSTAMP:20260421T140639
CREATED:20240123T105538Z
LAST-MODIFIED:20240123T105538Z
UID:7362-1740387000-1740410100@www.parkside.worcs.sch.uk
SUMMARY:School reopens
DESCRIPTION:
URL:https://www.parkside.worcs.sch.uk/event/school-reopens-15/
END:VEVENT
BEGIN:VEVENT
DTSTART;TZID=Europe/London:20250226T090000
DTEND;TZID=Europe/London:20250226T150000
DTSTAMP:20260421T140639
CREATED:20240902T142951Z
LAST-MODIFIED:20240902T143009Z
UID:8623-1740560400-1740582000@www.parkside.worcs.sch.uk
SUMMARY:5SN start swimming
DESCRIPTION:
URL:https://www.parkside.worcs.sch.uk/event/5sn-start-swimming/
END:VEVENT
END:VCALENDAR