BEGIN:VCALENDAR
VERSION:2.0
PRODID:-//Parkside Middle School - ECPv6.15.20//NONSGML v1.0//EN
CALSCALE:GREGORIAN
METHOD:PUBLISH
X-ORIGINAL-URL:https://www.parkside.worcs.sch.uk
X-WR-CALDESC:Events for Parkside Middle School
REFRESH-INTERVAL;VALUE=DURATION:PT1H
X-Robots-Tag:noindex
X-PUBLISHED-TTL:PT1H
BEGIN:VTIMEZONE
TZID:Europe/London
BEGIN:DAYLIGHT
TZOFFSETFROM:+0000
TZOFFSETTO:+0100
TZNAME:BST
DTSTART:20230326T010000
END:DAYLIGHT
BEGIN:STANDARD
TZOFFSETFROM:+0100
TZOFFSETTO:+0000
TZNAME:GMT
DTSTART:20231029T010000
END:STANDARD
BEGIN:DAYLIGHT
TZOFFSETFROM:+0000
TZOFFSETTO:+0100
TZNAME:BST
DTSTART:20240331T010000
END:DAYLIGHT
BEGIN:STANDARD
TZOFFSETFROM:+0100
TZOFFSETTO:+0000
TZNAME:GMT
DTSTART:20241027T010000
END:STANDARD
BEGIN:DAYLIGHT
TZOFFSETFROM:+0000
TZOFFSETTO:+0100
TZNAME:BST
DTSTART:20250330T010000
END:DAYLIGHT
BEGIN:STANDARD
TZOFFSETFROM:+0100
TZOFFSETTO:+0000
TZNAME:GMT
DTSTART:20251026T010000
END:STANDARD
END:VTIMEZONE
BEGIN:VEVENT
DTSTART;TZID=Europe/London:20241204T090000
DTEND;TZID=Europe/London:20241204T150000
DTSTAMP:20260420T140138
CREATED:20240902T141241Z
LAST-MODIFIED:20240902T142711Z
UID:8601-1733302800-1733324400@www.parkside.worcs.sch.uk
SUMMARY:Key Stage 2 - 66 Test #3
DESCRIPTION:
URL:https://www.parkside.worcs.sch.uk/event/key-stage-2-66-test-3/
END:VEVENT
BEGIN:VEVENT
DTSTART;VALUE=DATE:20241210
DTEND;VALUE=DATE:20241211
DTSTAMP:20260420T140138
CREATED:20240902T141432Z
LAST-MODIFIED:20240902T141432Z
UID:8604-1733788800-1733875199@www.parkside.worcs.sch.uk
SUMMARY:Christmas Arts Concert
DESCRIPTION:
URL:https://www.parkside.worcs.sch.uk/event/christmas-arts-concert/
END:VEVENT
BEGIN:VEVENT
DTSTART;VALUE=DATE:20241213
DTEND;VALUE=DATE:20241214
DTSTAMP:20260420T140138
CREATED:20241211T150403Z
LAST-MODIFIED:20241211T150403Z
UID:9391-1734048000-1734134399@www.parkside.worcs.sch.uk
SUMMARY:Santa Dash - All Years
DESCRIPTION:
URL:https://www.parkside.worcs.sch.uk/event/santa-dash-all-years/
END:VEVENT
BEGIN:VEVENT
DTSTART;TZID=Europe/London:20241217T090000
DTEND;TZID=Europe/London:20241217T150000
DTSTAMP:20260420T140138
CREATED:20241210T123030Z
LAST-MODIFIED:20241211T151216Z
UID:9368-1734426000-1734447600@www.parkside.worcs.sch.uk
SUMMARY:Year 8 Cinema reward trip
DESCRIPTION:
URL:https://www.parkside.worcs.sch.uk/event/year-8-cinema-reward-trip-2/
END:VEVENT
BEGIN:VEVENT
DTSTART;TZID=Europe/London:20241217T164500
DTEND;TZID=Europe/London:20241217T180000
DTSTAMP:20260420T140138
CREATED:20241211T151012Z
LAST-MODIFIED:20241211T151056Z
UID:9393-1734453900-1734458400@www.parkside.worcs.sch.uk
SUMMARY:Music Concert
DESCRIPTION:Parents/carers with reserved places are welcome to arrive from 4.45pm\, where there will be mince pies on offer.\nThe concert will run between 5-6pm.
URL:https://www.parkside.worcs.sch.uk/event/music-concert-2/
END:VEVENT
BEGIN:VEVENT
DTSTART;VALUE=DATE:20241218
DTEND;VALUE=DATE:20241219
DTSTAMP:20260420T140138
CREATED:20240902T141542Z
LAST-MODIFIED:20240902T141611Z
UID:8606-1734480000-1734566399@www.parkside.worcs.sch.uk
SUMMARY:Christmas Dinner
DESCRIPTION:
URL:https://www.parkside.worcs.sch.uk/event/christmas-dinner-2/
END:VEVENT
BEGIN:VEVENT
DTSTART;TZID=Europe/London:20241219T090000
DTEND;TZID=Europe/London:20241219T150000
DTSTAMP:20260420T140138
CREATED:20241210T123142Z
LAST-MODIFIED:20241211T151329Z
UID:9370-1734598800-1734620400@www.parkside.worcs.sch.uk
SUMMARY:Year 7 Cinema reward trip
DESCRIPTION:
URL:https://www.parkside.worcs.sch.uk/event/year-7-cinema-reward-trip/
END:VEVENT
BEGIN:VEVENT
DTSTART;TZID=Europe/London:20241219T090000
DTEND;TZID=Europe/London:20241219T150000
DTSTAMP:20260420T140138
CREATED:20241210T123400Z
LAST-MODIFIED:20241211T151423Z
UID:9372-1734598800-1734620400@www.parkside.worcs.sch.uk
SUMMARY:Y6 Reward day
DESCRIPTION:
URL:https://www.parkside.worcs.sch.uk/event/y6-reward-day/
END:VEVENT
BEGIN:VEVENT
DTSTART;TZID=Europe/London:20241219T130000
DTEND;TZID=Europe/London:20241219T150000
DTSTAMP:20260420T140138
CREATED:20241108T124059Z
LAST-MODIFIED:20241108T124059Z
UID:9250-1734613200-1734620400@www.parkside.worcs.sch.uk
SUMMARY:Year 5 Panto
DESCRIPTION:Venue: Bromsgrove Baptist Church\nPupils will leave Parkside around 1pm and return before the end of school.
URL:https://www.parkside.worcs.sch.uk/event/year-5-panto/
END:VEVENT
BEGIN:VEVENT
DTSTART;TZID=Europe/London:20241220T090000
DTEND;TZID=Europe/London:20241220T150000
DTSTAMP:20260420T140138
CREATED:20240902T141705Z
LAST-MODIFIED:20240902T141705Z
UID:8608-1734685200-1734706800@www.parkside.worcs.sch.uk
SUMMARY:Christmas Jumper Day
DESCRIPTION:
URL:https://www.parkside.worcs.sch.uk/event/christmas-jumper-day-2/
END:VEVENT
BEGIN:VEVENT
DTSTART;TZID=Europe/London:20241220T151500
DTEND;TZID=Europe/London:20241220T151500
DTSTAMP:20260420T140138
CREATED:20240123T102406Z
LAST-MODIFIED:20240902T141911Z
UID:7354-1734707700-1734707700@www.parkside.worcs.sch.uk
SUMMARY:School closes for Christmas holidays
DESCRIPTION:
URL:https://www.parkside.worcs.sch.uk/event/school-closes-for-christmas-holidays-2/
END:VEVENT
END:VCALENDAR