BEGIN:VCALENDAR
VERSION:2.0
PRODID:-//Parkside Middle School - ECPv6.15.20//NONSGML v1.0//EN
CALSCALE:GREGORIAN
METHOD:PUBLISH
X-WR-CALNAME:Parkside Middle School
X-ORIGINAL-URL:https://www.parkside.worcs.sch.uk
X-WR-CALDESC:Events for Parkside Middle School
REFRESH-INTERVAL;VALUE=DURATION:PT1H
X-Robots-Tag:noindex
X-PUBLISHED-TTL:PT1H
BEGIN:VTIMEZONE
TZID:Europe/London
BEGIN:DAYLIGHT
TZOFFSETFROM:+0000
TZOFFSETTO:+0100
TZNAME:BST
DTSTART:20230326T010000
END:DAYLIGHT
BEGIN:STANDARD
TZOFFSETFROM:+0100
TZOFFSETTO:+0000
TZNAME:GMT
DTSTART:20231029T010000
END:STANDARD
BEGIN:DAYLIGHT
TZOFFSETFROM:+0000
TZOFFSETTO:+0100
TZNAME:BST
DTSTART:20240331T010000
END:DAYLIGHT
BEGIN:STANDARD
TZOFFSETFROM:+0100
TZOFFSETTO:+0000
TZNAME:GMT
DTSTART:20241027T010000
END:STANDARD
BEGIN:DAYLIGHT
TZOFFSETFROM:+0000
TZOFFSETTO:+0100
TZNAME:BST
DTSTART:20250330T010000
END:DAYLIGHT
BEGIN:STANDARD
TZOFFSETFROM:+0100
TZOFFSETTO:+0000
TZNAME:GMT
DTSTART:20251026T010000
END:STANDARD
END:VTIMEZONE
BEGIN:VEVENT
DTSTART;TZID=Europe/London:20240205T150000
DTEND;TZID=Europe/London:20240205T173000
DTSTAMP:20260421T053432
CREATED:20240126T121127Z
LAST-MODIFIED:20240126T121543Z
UID:7387-1707145200-1707154200@www.parkside.worcs.sch.uk
SUMMARY:Year 8 District Netball Tournament
DESCRIPTION:Venue: St John’s Middle School (Watt Close\, Bromsgrove\, B61 7DH)
URL:https://www.parkside.worcs.sch.uk/event/year-7-district-netball-tournament-2/
END:VEVENT
BEGIN:VEVENT
DTSTART;VALUE=DATE:20240209
DTEND;VALUE=DATE:20240210
DTSTAMP:20260421T053432
CREATED:20240219T145925Z
LAST-MODIFIED:20240219T145925Z
UID:7539-1707436800-1707523199@www.parkside.worcs.sch.uk
SUMMARY:Year 8 Think Tank trip
DESCRIPTION:
URL:https://www.parkside.worcs.sch.uk/event/year-8-think-tank-trip/
END:VEVENT
BEGIN:VEVENT
DTSTART;TZID=Europe/London:20240209T150000
DTEND;TZID=Europe/London:20240209T170000
DTSTAMP:20260421T053432
CREATED:20240209T122537Z
LAST-MODIFIED:20240209T122537Z
UID:7513-1707490800-1707498000@www.parkside.worcs.sch.uk
SUMMARY:Year 8 girls football team @ Worcester
DESCRIPTION:Our Parkside Year 8 girls football team will be playing in the ¼ finals of the Worcestershire FA Cup \nOpponents: Christopher Whitehead School.\nVenue: Christopher Whitehead School\, Worcester\nStart Time : 3pm\nReturn Time : 5pm to 5:15pm depending on traffic \n  \n 
URL:https://www.parkside.worcs.sch.uk/event/year-8-girls-football-team-worcester/
END:VEVENT
BEGIN:VEVENT
DTSTART;TZID=Europe/London:20240209T151500
DTEND;TZID=Europe/London:20240209T151500
DTSTAMP:20260421T053432
CREATED:20230105T141252Z
LAST-MODIFIED:20230105T141252Z
UID:5520-1707491700-1707491700@www.parkside.worcs.sch.uk
SUMMARY:School closes for half term
DESCRIPTION:The school closes to pupils at 3:15pm
URL:https://www.parkside.worcs.sch.uk/event/school-closes-for-half-term-5/
END:VEVENT
BEGIN:VEVENT
DTSTART;TZID=Europe/London:20240219T085000
DTEND;TZID=Europe/London:20240219T151500
DTSTAMP:20260421T053432
CREATED:20230105T140632Z
LAST-MODIFIED:20230105T140632Z
UID:5506-1708332600-1708355700@www.parkside.worcs.sch.uk
SUMMARY:School reopens
DESCRIPTION:Parkside welcomes all pupils at 8:50am.
URL:https://www.parkside.worcs.sch.uk/event/school-reopens-9/
END:VEVENT
BEGIN:VEVENT
DTSTART;TZID=Europe/London:20240220T080000
DTEND;TZID=Europe/London:20240220T170000
DTSTAMP:20260421T053432
CREATED:20240220T081149Z
LAST-MODIFIED:20240220T081207Z
UID:7567-1708416000-1708448400@www.parkside.worcs.sch.uk
SUMMARY:Sports Day
DESCRIPTION:Intra-House Sports Competition
URL:https://www.parkside.worcs.sch.uk/event/sports-day-3/
END:VEVENT
BEGIN:VEVENT
DTSTART;TZID=Europe/London:20240228T090000
DTEND;TZID=Europe/London:20240228T150000
DTSTAMP:20260421T053432
CREATED:20230808T091743Z
LAST-MODIFIED:20230808T091743Z
UID:6601-1709110800-1709132400@www.parkside.worcs.sch.uk
SUMMARY:5CWi start swimming
DESCRIPTION:
URL:https://www.parkside.worcs.sch.uk/event/5cwi-start-swimming/
END:VEVENT
BEGIN:VEVENT
DTSTART;TZID=Europe/London:20240229T153000
DTEND;TZID=Europe/London:20240229T170000
DTSTAMP:20260421T053432
CREATED:20240126T122035Z
LAST-MODIFIED:20240219T152136Z
UID:7394-1709220600-1709226000@www.parkside.worcs.sch.uk
SUMMARY:Year 7 District Netball Tournament
DESCRIPTION:Venue: St John’s Middle School (Watt Close\, Bromsgrove\, B61 7DH)
URL:https://www.parkside.worcs.sch.uk/event/year-7-district-netball-tournament-3/
END:VEVENT
END:VCALENDAR