BEGIN:VCALENDAR
VERSION:2.0
PRODID:-//Parkside Middle School - ECPv6.15.20//NONSGML v1.0//EN
CALSCALE:GREGORIAN
METHOD:PUBLISH
X-ORIGINAL-URL:https://www.parkside.worcs.sch.uk
X-WR-CALDESC:Events for Parkside Middle School
REFRESH-INTERVAL;VALUE=DURATION:PT1H
X-Robots-Tag:noindex
X-PUBLISHED-TTL:PT1H
BEGIN:VTIMEZONE
TZID:Europe/London
BEGIN:DAYLIGHT
TZOFFSETFROM:+0000
TZOFFSETTO:+0100
TZNAME:BST
DTSTART:20230326T010000
END:DAYLIGHT
BEGIN:STANDARD
TZOFFSETFROM:+0100
TZOFFSETTO:+0000
TZNAME:GMT
DTSTART:20231029T010000
END:STANDARD
BEGIN:DAYLIGHT
TZOFFSETFROM:+0000
TZOFFSETTO:+0100
TZNAME:BST
DTSTART:20240331T010000
END:DAYLIGHT
BEGIN:STANDARD
TZOFFSETFROM:+0100
TZOFFSETTO:+0000
TZNAME:GMT
DTSTART:20241027T010000
END:STANDARD
BEGIN:DAYLIGHT
TZOFFSETFROM:+0000
TZOFFSETTO:+0100
TZNAME:BST
DTSTART:20250330T010000
END:DAYLIGHT
BEGIN:STANDARD
TZOFFSETFROM:+0100
TZOFFSETTO:+0000
TZNAME:GMT
DTSTART:20251026T010000
END:STANDARD
END:VTIMEZONE
BEGIN:VEVENT
DTSTART;TZID=Europe/London:20240108T085000
DTEND;TZID=Europe/London:20240108T151500
DTSTAMP:20260421T073524
CREATED:20230105T140520Z
LAST-MODIFIED:20230105T140520Z
UID:5507-1704703800-1704726900@www.parkside.worcs.sch.uk
SUMMARY:School reopens
DESCRIPTION:Parkside welcomes all pupils at 8:50am.
URL:https://www.parkside.worcs.sch.uk/event/school-reopens-8/
END:VEVENT
BEGIN:VEVENT
DTSTART;TZID=Europe/London:20240110T090000
DTEND;TZID=Europe/London:20240110T150000
DTSTAMP:20260421T073524
CREATED:20230808T091532Z
LAST-MODIFIED:20230808T091532Z
UID:6597-1704877200-1704898800@www.parkside.worcs.sch.uk
SUMMARY:5JB start swimming
DESCRIPTION:
URL:https://www.parkside.worcs.sch.uk/event/5jb-start-swimming/
END:VEVENT
BEGIN:VEVENT
DTSTART;VALUE=DATE:20240122
DTEND;VALUE=DATE:20240123
DTSTAMP:20260421T073524
CREATED:20230808T091640Z
LAST-MODIFIED:20230808T091640Z
UID:6599-1705881600-1705967999@www.parkside.worcs.sch.uk
SUMMARY:Young Voices
DESCRIPTION:
URL:https://www.parkside.worcs.sch.uk/event/young-voices/
END:VEVENT
BEGIN:VEVENT
DTSTART;TZID=Europe/London:20240122T130000
DTEND;TZID=Europe/London:20240122T153000
DTSTAMP:20260421T073524
CREATED:20231124T143349Z
LAST-MODIFIED:20231124T144022Z
UID:7148-1705928400-1705937400@www.parkside.worcs.sch.uk
SUMMARY:KS3 Netball vs RGS Dodderhill
DESCRIPTION:
URL:https://www.parkside.worcs.sch.uk/event/ks3-netball-vs-rgs-dodderhill/
END:VEVENT
BEGIN:VEVENT
DTSTART;TZID=Europe/London:20240124T124500
DTEND;TZID=Europe/London:20240124T150000
DTSTAMP:20260421T073524
CREATED:20231124T142918Z
LAST-MODIFIED:20231124T142918Z
UID:7145-1706100300-1706108400@www.parkside.worcs.sch.uk
SUMMARY:Secondary Pentathlon Xtend Competition
DESCRIPTION:Date: Wednesday 24th January 2024\nTime: 12:45-2:30pm Venue: The Ryland Centre\nSporting Event: KS3/4 Secondary Pentathlon Xtend Competition\nWhat pupils need to bring: Come to school in PE kit\, bring packed lunch.\nWhen and where pupils need to meet: Miss Wallis @ bottom of main school stair case 12:30\nTime arriving back at Parkside if event is of school grounds: 3p
URL:https://www.parkside.worcs.sch.uk/event/secondary-pentathlon-xtend-competition/
END:VEVENT
BEGIN:VEVENT
DTSTART;TZID=Europe/London:20240129T120000
DTEND;TZID=Europe/London:20240129T150000
DTSTAMP:20260421T073524
CREATED:20240126T122213Z
LAST-MODIFIED:20240126T122213Z
UID:7396-1706529600-1706540400@www.parkside.worcs.sch.uk
SUMMARY:District Cross-country
DESCRIPTION:Venue: Bromsgrove School
URL:https://www.parkside.worcs.sch.uk/event/district-cross-country-2/
END:VEVENT
BEGIN:VEVENT
DTSTART;TZID=Europe/London:20240129T153000
DTEND;TZID=Europe/London:20240129T161500
DTSTAMP:20260421T073524
CREATED:20240126T121819Z
LAST-MODIFIED:20240126T121819Z
UID:7391-1706542200-1706544900@www.parkside.worcs.sch.uk
SUMMARY:Year 7 Netball v Catshill
DESCRIPTION:Venue: Parkside Middle School
URL:https://www.parkside.worcs.sch.uk/event/year-7-netball-v-catshill/
END:VEVENT
BEGIN:VEVENT
DTSTART;TZID=Europe/London:20240130T144500
DTEND;TZID=Europe/London:20240130T173000
DTSTAMP:20260421T073524
CREATED:20240126T122341Z
LAST-MODIFIED:20240126T122341Z
UID:7398-1706625900-1706635800@www.parkside.worcs.sch.uk
SUMMARY:KS2 Indoor Athletics
DESCRIPTION:Venue: South Bromsgrove High School
URL:https://www.parkside.worcs.sch.uk/event/ks2-indoor-athletics/
END:VEVENT
BEGIN:VEVENT
DTSTART;TZID=Europe/London:20240131T133000
DTEND;TZID=Europe/London:20240131T173000
DTSTAMP:20260421T073524
CREATED:20240126T122658Z
LAST-MODIFIED:20240126T132359Z
UID:7400-1706707800-1706722200@www.parkside.worcs.sch.uk
SUMMARY:KS3 Indoor Athletics
DESCRIPTION:Venue: South Bromsgrove High School
URL:https://www.parkside.worcs.sch.uk/event/ks3-indoor-athletics/
END:VEVENT
END:VCALENDAR