BEGIN:VCALENDAR
VERSION:2.0
PRODID:-//Parkside Middle School - ECPv6.15.20//NONSGML v1.0//EN
CALSCALE:GREGORIAN
METHOD:PUBLISH
X-ORIGINAL-URL:https://www.parkside.worcs.sch.uk
X-WR-CALDESC:Events for Parkside Middle School
REFRESH-INTERVAL;VALUE=DURATION:PT1H
X-Robots-Tag:noindex
X-PUBLISHED-TTL:PT1H
BEGIN:VTIMEZONE
TZID:Europe/London
BEGIN:DAYLIGHT
TZOFFSETFROM:+0000
TZOFFSETTO:+0100
TZNAME:BST
DTSTART:20220327T010000
END:DAYLIGHT
BEGIN:STANDARD
TZOFFSETFROM:+0100
TZOFFSETTO:+0000
TZNAME:GMT
DTSTART:20221030T010000
END:STANDARD
BEGIN:DAYLIGHT
TZOFFSETFROM:+0000
TZOFFSETTO:+0100
TZNAME:BST
DTSTART:20230326T010000
END:DAYLIGHT
BEGIN:STANDARD
TZOFFSETFROM:+0100
TZOFFSETTO:+0000
TZNAME:GMT
DTSTART:20231029T010000
END:STANDARD
BEGIN:DAYLIGHT
TZOFFSETFROM:+0000
TZOFFSETTO:+0100
TZNAME:BST
DTSTART:20240331T010000
END:DAYLIGHT
BEGIN:STANDARD
TZOFFSETFROM:+0100
TZOFFSETTO:+0000
TZNAME:GMT
DTSTART:20241027T010000
END:STANDARD
END:VTIMEZONE
BEGIN:VEVENT
DTSTART;TZID=Europe/London:20231219T144000
DTEND;TZID=Europe/London:20231219T173000
DTSTAMP:20260421T094643
CREATED:20231213T134322Z
LAST-MODIFIED:20231213T134322Z
UID:7224-1702996800-1703007000@www.parkside.worcs.sch.uk
SUMMARY:Year 7 Girls - 5-a-side Football Tournament
DESCRIPTION:Date: Tuesday 19th December 2023\nTime: 3:30pm KO\nVenue: South Bromsgrove High School\nSporting Event: 5 aside indoor football tournament\nWhat pupils need to bring: indoor football boots / astros / trainers – NO MOULDS\nWhen and where pupils need to meet: Miss Wallis @ 2:40pm outside the changing rooms\nPUPILS TO BE COLLECTED FROM SOUTH BROMSGROVE HIGH SCHOOL @ 5:30pm AS THEY WILL NOT BE RETURNING TO PARKSIDE FOLLOWING THE TOURNAMENT.
URL:https://www.parkside.worcs.sch.uk/event/year-7-girls-5-a-side-football-tournament/
END:VEVENT
BEGIN:VEVENT
DTSTART;TZID=Europe/London:20231219T161500
DTEND;TZID=Europe/London:20231219T180000
DTSTAMP:20260421T094643
CREATED:20231219T151831Z
LAST-MODIFIED:20231219T151912Z
UID:7249-1703002500-1703008800@www.parkside.worcs.sch.uk
SUMMARY:Parkside Christmas Concert
DESCRIPTION:Parkside Christmas Concert \nVenue: Main Hall\nDoors open 4:15pm\nStart Time 4:30pm\nFinish Time 6pm approx. \n  \n 
URL:https://www.parkside.worcs.sch.uk/event/parkside-christmas-concert/
END:VEVENT
BEGIN:VEVENT
DTSTART;TZID=Europe/London:20231220T123000
DTEND;TZID=Europe/London:20231220T133000
DTSTAMP:20260421T094643
CREATED:20230704T130418Z
LAST-MODIFIED:20230704T130418Z
UID:6400-1703075400-1703079000@www.parkside.worcs.sch.uk
SUMMARY:Christmas Lunch
DESCRIPTION:
URL:https://www.parkside.worcs.sch.uk/event/christmas-lunch/
END:VEVENT
BEGIN:VEVENT
DTSTART;TZID=Europe/London:20231221T090000
DTEND;TZID=Europe/London:20231221T151500
DTSTAMP:20260421T094643
CREATED:20230808T091412Z
LAST-MODIFIED:20230808T091412Z
UID:6595-1703149200-1703171700@www.parkside.worcs.sch.uk
SUMMARY:Christmas Jumper Day
DESCRIPTION:
URL:https://www.parkside.worcs.sch.uk/event/christmas-jumper-day/
END:VEVENT
BEGIN:VEVENT
DTSTART;TZID=Europe/London:20231221T151500
DTEND;TZID=Europe/London:20231221T151500
DTSTAMP:20260421T094643
CREATED:20230105T141820Z
LAST-MODIFIED:20230117T093854Z
UID:5524-1703171700-1703171700@www.parkside.worcs.sch.uk
SUMMARY:School closes for Christmas holidays
DESCRIPTION:We wish you a Merry Christmas and a Happy New Year.
URL:https://www.parkside.worcs.sch.uk/event/school-closes-for-christmas-holidays/
END:VEVENT
BEGIN:VEVENT
DTSTART;VALUE=DATE:20231222
DTEND;VALUE=DATE:20231223
DTSTAMP:20260421T094643
CREATED:20230117T092318Z
LAST-MODIFIED:20230117T094656Z
UID:5575-1703203200-1703289599@www.parkside.worcs.sch.uk
SUMMARY:School closed – TE Day
DESCRIPTION:Teacher Education day.
URL:https://www.parkside.worcs.sch.uk/event/school-closed-te-day-7/
END:VEVENT
END:VCALENDAR