BEGIN:VCALENDAR
VERSION:2.0
PRODID:-//Parkside Middle School - ECPv6.15.20//NONSGML v1.0//EN
CALSCALE:GREGORIAN
METHOD:PUBLISH
X-ORIGINAL-URL:https://www.parkside.worcs.sch.uk
X-WR-CALDESC:Events for Parkside Middle School
REFRESH-INTERVAL;VALUE=DURATION:PT1H
X-Robots-Tag:noindex
X-PUBLISHED-TTL:PT1H
BEGIN:VTIMEZONE
TZID:Europe/London
BEGIN:DAYLIGHT
TZOFFSETFROM:+0000
TZOFFSETTO:+0100
TZNAME:BST
DTSTART:20220327T010000
END:DAYLIGHT
BEGIN:STANDARD
TZOFFSETFROM:+0100
TZOFFSETTO:+0000
TZNAME:GMT
DTSTART:20221030T010000
END:STANDARD
BEGIN:DAYLIGHT
TZOFFSETFROM:+0000
TZOFFSETTO:+0100
TZNAME:BST
DTSTART:20230326T010000
END:DAYLIGHT
BEGIN:STANDARD
TZOFFSETFROM:+0100
TZOFFSETTO:+0000
TZNAME:GMT
DTSTART:20231029T010000
END:STANDARD
BEGIN:DAYLIGHT
TZOFFSETFROM:+0000
TZOFFSETTO:+0100
TZNAME:BST
DTSTART:20240331T010000
END:DAYLIGHT
BEGIN:STANDARD
TZOFFSETFROM:+0100
TZOFFSETTO:+0000
TZNAME:GMT
DTSTART:20241027T010000
END:STANDARD
END:VTIMEZONE
BEGIN:VEVENT
DTSTART;TZID=Europe/London:20231106T085000
DTEND;TZID=Europe/London:20231106T151500
DTSTAMP:20260421T113630
CREATED:20230105T134708Z
LAST-MODIFIED:20230105T134708Z
UID:5508-1699260600-1699283700@www.parkside.worcs.sch.uk
SUMMARY:School reopens
DESCRIPTION:Parkside welcomes all pupils at 8:50am.
URL:https://www.parkside.worcs.sch.uk/event/school-reopens-7/
END:VEVENT
BEGIN:VEVENT
DTSTART;TZID=Europe/London:20231108T090000
DTEND;TZID=Europe/London:20231108T150000
DTSTAMP:20260421T113630
CREATED:20230808T090922Z
LAST-MODIFIED:20230808T090922Z
UID:6591-1699434000-1699455600@www.parkside.worcs.sch.uk
SUMMARY:5HP start swimming
DESCRIPTION:
URL:https://www.parkside.worcs.sch.uk/event/5hp-start-swimming/
END:VEVENT
BEGIN:VEVENT
DTSTART;TZID=Europe/London:20231108T153000
DTEND;TZID=Europe/London:20231108T164500
DTSTAMP:20260421T113630
CREATED:20231107T181151Z
LAST-MODIFIED:20231107T181151Z
UID:7049-1699457400-1699461900@www.parkside.worcs.sch.uk
SUMMARY:KS3 Boys Football
DESCRIPTION:KS3 Boys Football @ Parkside 3:30pm – 4:45pm
URL:https://www.parkside.worcs.sch.uk/event/ks3-boys-football/
END:VEVENT
BEGIN:VEVENT
DTSTART;TZID=Europe/London:20231109T091500
DTEND;TZID=Europe/London:20231109T151500
DTSTAMP:20260421T113630
CREATED:20230922T141255Z
LAST-MODIFIED:20230922T142020Z
UID:6799-1699521300-1699542900@www.parkside.worcs.sch.uk
SUMMARY:Year 5 Blackwell Adventure Trip
DESCRIPTION:Depart Parkside = 9.15am\nDepart Blackwell = 3pm
URL:https://www.parkside.worcs.sch.uk/event/year-5-blackwell-adventure-trip/
END:VEVENT
BEGIN:VEVENT
DTSTART;TZID=Europe/London:20231109T123000
DTEND;TZID=Europe/London:20231109T151500
DTSTAMP:20260421T113630
CREATED:20230913T081804Z
LAST-MODIFIED:20230913T081804Z
UID:6743-1699533000-1699542900@www.parkside.worcs.sch.uk
SUMMARY:KS2 Girls Football tournament
DESCRIPTION:Time:12:30-2:30pm\nOpposition: A variety of schools\nVenue: Centre of Sporting Excellence\, Zortech Ave DY11 7DY Sporting\nEvent: Kidderminster Harriers NLT National 6-a-Side Football Tournament for Year 5/6\nWhat pupils need to bring: Football boots\, packed lunch\, waterproof.\nWhen and where pupils need to meet:Miss Wallis @ bottom of the main stair case @ 11:30am \nBus information: Collecting from & Time: Collection from front of school @ 11:30am\nDeparting from & Time: Collect from Centre of Sporting Excellence\, Zortech Ave DY11 7DY @ 2:30pm\nTime returning to school: 3:15pm.
URL:https://www.parkside.worcs.sch.uk/event/ks2-girls-football-tournament/
END:VEVENT
BEGIN:VEVENT
DTSTART;TZID=Europe/London:20231110T151500
DTEND;TZID=Europe/London:20231110T170000
DTSTAMP:20260421T113630
CREATED:20231110T101416Z
LAST-MODIFIED:20231110T101416Z
UID:7089-1699629300-1699635600@www.parkside.worcs.sch.uk
SUMMARY:KS3 Netball Tournament
DESCRIPTION:Date: Thursday 16th November 2023\nTime: Leave school 3:15pm\nOpposition: A variety of Middle Schools\nVenue: St Johns Middle School Sporting Event: Netball Tournament\nWhat pupils need to bring: Water bottle\, warm clothing\, waterproof clothing.\nlWhen and where pupils need to meet: Miss Wallis in the changing rooms at 3:10pm
URL:https://www.parkside.worcs.sch.uk/event/ks3-netball-tournament/
END:VEVENT
BEGIN:VEVENT
DTSTART;TZID=Europe/London:20231113T143000
DTEND;TZID=Europe/London:20231113T170000
DTSTAMP:20260421T113630
CREATED:20231106T155042Z
LAST-MODIFIED:20231106T155649Z
UID:7039-1699885800-1699894800@www.parkside.worcs.sch.uk
SUMMARY:Football - U13 Girls County Cup Game v Nunnery Wood
DESCRIPTION:Date: Monday 13th November 2023\nTime: 3:30-4:30pm Venue: Nunnery Wood High School\nSporting Event: U13 Cup Game\nWhat pupils need to bring: Shin pads ( compulsory) Water bottle\, waterproof clothing\, warm clothing\, football boots\nWhen and where pupils need to meet: Miss Wallis @ 2:30pm at the bottom of the main stair case\nTime arriving back at Parkside if event is of school grounds: 5pm (traffic dependant) \nBus information: Collecting from & Time: Front of school 2:30pm Departing from & Time: Nunnery Wood 4:30pm Time returning to school: 5pm
URL:https://www.parkside.worcs.sch.uk/event/football-u13-cup-game-v-nunnery-wood/
END:VEVENT
BEGIN:VEVENT
DTSTART;TZID=Europe/London:20231114T160000
DTEND;TZID=Europe/London:20231114T190000
DTSTAMP:20260421T113630
CREATED:20230711T075710Z
LAST-MODIFIED:20230808T091218Z
UID:6517-1699977600-1699988400@www.parkside.worcs.sch.uk
SUMMARY:Parents Evening (Face-2-Face)
DESCRIPTION:
URL:https://www.parkside.worcs.sch.uk/event/parents-evening-f2f/
END:VEVENT
BEGIN:VEVENT
DTSTART;TZID=Europe/London:20231121T160000
DTEND;TZID=Europe/London:20231121T190000
DTSTAMP:20260421T113630
CREATED:20230711T075814Z
LAST-MODIFIED:20230711T075814Z
UID:6519-1700582400-1700593200@www.parkside.worcs.sch.uk
SUMMARY:Parents Evening (Virtual)
DESCRIPTION:
URL:https://www.parkside.worcs.sch.uk/event/parents-evening-virtual/
END:VEVENT
BEGIN:VEVENT
DTSTART;TZID=Europe/London:20231128T160000
DTEND;TZID=Europe/London:20231128T190000
DTSTAMP:20260421T113630
CREATED:20230711T075939Z
LAST-MODIFIED:20230808T091115Z
UID:6521-1701187200-1701198000@www.parkside.worcs.sch.uk
SUMMARY:Parents Evening (Face-2-Face)
DESCRIPTION:
URL:https://www.parkside.worcs.sch.uk/event/parents-evening-f2f-2/
END:VEVENT
END:VCALENDAR