BEGIN:VCALENDAR
VERSION:2.0
PRODID:-//Parkside Middle School - ECPv6.15.20//NONSGML v1.0//EN
CALSCALE:GREGORIAN
METHOD:PUBLISH
X-WR-CALNAME:Parkside Middle School
X-ORIGINAL-URL:https://www.parkside.worcs.sch.uk
X-WR-CALDESC:Events for Parkside Middle School
REFRESH-INTERVAL;VALUE=DURATION:PT1H
X-Robots-Tag:noindex
X-PUBLISHED-TTL:PT1H
BEGIN:VTIMEZONE
TZID:Europe/London
BEGIN:DAYLIGHT
TZOFFSETFROM:+0000
TZOFFSETTO:+0100
TZNAME:BST
DTSTART:20210328T010000
END:DAYLIGHT
BEGIN:STANDARD
TZOFFSETFROM:+0100
TZOFFSETTO:+0000
TZNAME:GMT
DTSTART:20211031T010000
END:STANDARD
BEGIN:DAYLIGHT
TZOFFSETFROM:+0000
TZOFFSETTO:+0100
TZNAME:BST
DTSTART:20220327T010000
END:DAYLIGHT
BEGIN:STANDARD
TZOFFSETFROM:+0100
TZOFFSETTO:+0000
TZNAME:GMT
DTSTART:20221030T010000
END:STANDARD
BEGIN:DAYLIGHT
TZOFFSETFROM:+0000
TZOFFSETTO:+0100
TZNAME:BST
DTSTART:20230326T010000
END:DAYLIGHT
BEGIN:STANDARD
TZOFFSETFROM:+0100
TZOFFSETTO:+0000
TZNAME:GMT
DTSTART:20231029T010000
END:STANDARD
END:VTIMEZONE
BEGIN:VEVENT
DTSTART;TZID=Europe/London:20221122T090000
DTEND;TZID=Europe/London:20221122T100000
DTSTAMP:20260422T081027
CREATED:20221003T135128Z
LAST-MODIFIED:20221003T135128Z
UID:4939-1669107600-1669111200@www.parkside.worcs.sch.uk
SUMMARY:New Year 5 Parents Open Morning
DESCRIPTION:Please contact school if you wish to book an appointment.
URL:https://www.parkside.worcs.sch.uk/event/new-year-5-parents-open-morning-3/
END:VEVENT
BEGIN:VEVENT
DTSTART;VALUE=DATE:20221121
DTEND;VALUE=DATE:20221126
DTSTAMP:20260422T081027
CREATED:20220922T083227Z
LAST-MODIFIED:20220922T083227Z
UID:4737-1668988800-1669420799@www.parkside.worcs.sch.uk
SUMMARY:Year 5/7 Assessments
DESCRIPTION:
URL:https://www.parkside.worcs.sch.uk/event/year-5-7-assessments/
END:VEVENT
BEGIN:VEVENT
DTSTART;TZID=Europe/London:20221118T090000
DTEND;TZID=Europe/London:20221118T150000
DTSTAMP:20260422T081027
CREATED:20220922T082056Z
LAST-MODIFIED:20220922T082056Z
UID:4735-1668762000-1668783600@www.parkside.worcs.sch.uk
SUMMARY:Whole School Inspiration Day
DESCRIPTION:
URL:https://www.parkside.worcs.sch.uk/event/whole-school-inspiration-day/
END:VEVENT
BEGIN:VEVENT
DTSTART;TZID=Europe/London:20221117T144500
DTEND;TZID=Europe/London:20221117T163000
DTSTAMP:20260422T081027
CREATED:20221109T154019Z
LAST-MODIFIED:20221109T154019Z
UID:5229-1668696300-1668702600@www.parkside.worcs.sch.uk
SUMMARY:Year 5\, 6 & 7 Football @ Westacre
DESCRIPTION:
URL:https://www.parkside.worcs.sch.uk/event/year-5-6-7-football-westacre/
END:VEVENT
BEGIN:VEVENT
DTSTART;TZID=Europe/London:20221116T100000
DTEND;TZID=Europe/London:20221116T120000
DTSTAMP:20260422T081027
CREATED:20221101T112510Z
LAST-MODIFIED:20221101T112510Z
UID:5135-1668592800-1668600000@www.parkside.worcs.sch.uk
SUMMARY:KS2 Fitness Festival
DESCRIPTION:Fixture Information: \nDate: Wednesday 16th November 2023 \nTime: 10am – 12pm \nVenue: Bromsgrove Hockey Club \nSporting event : Physical activity and Fitness Festival \nWhat pupils need to bring: PE kit and drinks bottle. warm clothing/waterproofs OR sun hats/sun cream if the forecast is looking nicer. \nWhen and where pupils need to meet: 9:40 am at the bottom of the main stair case \nBus information \nCollection from School: 9:45am \nPick up: 12pm Bromsgrove Hockey Club \nTravelling to: Bromsgrove Cricket\, Hockey & Tennis Club
URL:https://www.parkside.worcs.sch.uk/event/ks2-fitness-festival/
END:VEVENT
BEGIN:VEVENT
DTSTART;TZID=Europe/London:20221115T090000
DTEND;TZID=Europe/London:20221115T140000
DTSTAMP:20260422T081027
CREATED:20220930T143044Z
LAST-MODIFIED:20220930T143044Z
UID:4931-1668502800-1668520800@www.parkside.worcs.sch.uk
SUMMARY:Year 8 Cinema Reward Trip
DESCRIPTION:For further information please see the Year 8 Cinema Reward Trip letter here.
URL:https://www.parkside.worcs.sch.uk/event/year-8-cinema-reward-trip/
END:VEVENT
BEGIN:VEVENT
DTSTART;TZID=Europe/London:20221115T090000
DTEND;TZID=Europe/London:20221115T100000
DTSTAMP:20260422T081027
CREATED:20221003T134910Z
LAST-MODIFIED:20221003T134910Z
UID:4937-1668502800-1668506400@www.parkside.worcs.sch.uk
SUMMARY:New Year 5 Parents Open Morning
DESCRIPTION:Please contact school if you wish to book an appointment.
URL:https://www.parkside.worcs.sch.uk/event/new-year-5-parents-open-morning-2/
END:VEVENT
BEGIN:VEVENT
DTSTART;TZID=Europe/London:20221114T090000
DTEND;TZID=Europe/London:20221114T150000
DTSTAMP:20260422T081027
CREATED:20221104T165344Z
LAST-MODIFIED:20221104T165705Z
UID:5185-1668416400-1668438000@www.parkside.worcs.sch.uk
SUMMARY:Odd Socks Day
DESCRIPTION:To celebrate Anti-Bullying Week pupils may wear odd socks on this day. Please see the Odd Socks Day letter for more information.
URL:https://www.parkside.worcs.sch.uk/event/anti-bullying-week-odd-socks-day/
END:VEVENT
BEGIN:VEVENT
DTSTART;TZID=Europe/London:20221110T090000
DTEND;TZID=Europe/London:20221110T150000
DTSTAMP:20260422T081027
CREATED:20220824T193925Z
LAST-MODIFIED:20220930T142625Z
UID:4285-1668070800-1668092400@www.parkside.worcs.sch.uk
SUMMARY:Whole School Flu Nasal Spray Vaccinations
DESCRIPTION:Please find the consent letter here. \nWe recommend pupils eat a hearty breakfast before their vaccination. \n 
URL:https://www.parkside.worcs.sch.uk/event/year-5-6-flu-nasal-spray-vaccinations/
END:VEVENT
BEGIN:VEVENT
DTSTART;TZID=Europe/London:20221108T090000
DTEND;TZID=Europe/London:20221108T100000
DTSTAMP:20260422T081027
CREATED:20221003T134809Z
LAST-MODIFIED:20221003T134809Z
UID:4935-1667898000-1667901600@www.parkside.worcs.sch.uk
SUMMARY:New Year 5 Parents Open Morning
DESCRIPTION:Please contact school if you wish to book an appointment.
URL:https://www.parkside.worcs.sch.uk/event/new-year-5-parents-open-morning/
END:VEVENT
BEGIN:VEVENT
DTSTART;TZID=Europe/London:20221104T120000
DTEND;TZID=Europe/London:20221104T153000
DTSTAMP:20260422T081027
CREATED:20220916T131515Z
LAST-MODIFIED:20220922T092431Z
UID:4683-1667563200-1667575800@www.parkside.worcs.sch.uk
SUMMARY:NLT National 6-a-Side Football Tournament for Year 5/6 Boys
DESCRIPTION:Boys tournament @ Kidderminster Harriers Friday 4th November \, leaving school 12pm\, return 3:30pm.
URL:https://www.parkside.worcs.sch.uk/event/nlt-national-6-a-side-football-tournament-for-year-5-6-boys/
END:VEVENT
BEGIN:VEVENT
DTSTART;TZID=Europe/London:20221103T120000
DTEND;TZID=Europe/London:20221103T153000
DTSTAMP:20260422T081027
CREATED:20220916T131332Z
LAST-MODIFIED:20220916T131332Z
UID:4681-1667476800-1667489400@www.parkside.worcs.sch.uk
SUMMARY:NLT National 6-a-Side Football Tournament for Year 5/6 Girls
DESCRIPTION:Girls tournament  @Kidderminster Harriers Thursday 3rd November\, leaving school 12pm\, return 3:30pm.
URL:https://www.parkside.worcs.sch.uk/event/nlt-national-6-a-side-football-tournament-for-year-5-6-girls/
END:VEVENT
BEGIN:VEVENT
DTSTART;TZID=Europe/London:20221101T160000
DTEND;TZID=Europe/London:20221101T190000
DTSTAMP:20260422T081027
CREATED:20220922T081910Z
LAST-MODIFIED:20220930T123839Z
UID:4733-1667318400-1667329200@www.parkside.worcs.sch.uk
SUMMARY:Virtual Parents Evening
DESCRIPTION:Further information on this can be found in our Parents Consultation Evening letter.
URL:https://www.parkside.worcs.sch.uk/event/virtual-parents-evening-2/
END:VEVENT
BEGIN:VEVENT
DTSTART;TZID=Europe/London:20221101T121500
DTEND;TZID=Europe/London:20221101T153000
DTSTAMP:20260422T081027
CREATED:20221018T090306Z
LAST-MODIFIED:20221018T091649Z
UID:5058-1667304900-1667316600@www.parkside.worcs.sch.uk
SUMMARY:KS3 girls Worcs Girls Can Girls' Health & Wellbeing Festivals
DESCRIPTION:
URL:https://www.parkside.worcs.sch.uk/event/ks3-girls-worcs-girls-can-girls-health-wellbeing-festivals/
END:VEVENT
BEGIN:VEVENT
DTSTART;TZID=Europe/London:20221031T085000
DTEND;TZID=Europe/London:20221031T151500
DTSTAMP:20260422T081027
CREATED:20220824T193839Z
LAST-MODIFIED:20220831T210222Z
UID:4283-1667206200-1667229300@www.parkside.worcs.sch.uk
SUMMARY:School reopens
DESCRIPTION:Parkside welcomes all pupils at 8:50am.
URL:https://www.parkside.worcs.sch.uk/event/school-reopens/
END:VEVENT
BEGIN:VEVENT
DTSTART;VALUE=DATE:20221021
DTEND;VALUE=DATE:20221022
DTSTAMP:20260422T081027
CREATED:20220824T193623Z
LAST-MODIFIED:20220831T210938Z
UID:4281-1666310400-1666396799@www.parkside.worcs.sch.uk
SUMMARY:School closed – TE Day
DESCRIPTION:Teacher Education day.
URL:https://www.parkside.worcs.sch.uk/event/school-closed-te-day-2/
END:VEVENT
BEGIN:VEVENT
DTSTART;TZID=Europe/London:20221020T160000
DTEND;TZID=Europe/London:20221020T190000
DTSTAMP:20260422T081027
CREATED:20220922T081728Z
LAST-MODIFIED:20220930T123759Z
UID:4731-1666281600-1666292400@www.parkside.worcs.sch.uk
SUMMARY:Virtual Parents Evening
DESCRIPTION:Further information on this can be found in our Parents Consultation Evening letter.
URL:https://www.parkside.worcs.sch.uk/event/virtual-parents-evening/
END:VEVENT
BEGIN:VEVENT
DTSTART;TZID=Europe/London:20221020T151500
DTEND;TZID=Europe/London:20221020T151500
DTSTAMP:20260422T081027
CREATED:20220824T192926Z
LAST-MODIFIED:20220831T211437Z
UID:4279-1666278900-1666278900@www.parkside.worcs.sch.uk
SUMMARY:School closes for half term
DESCRIPTION:The school closes to pupils at 3:15pm
URL:https://www.parkside.worcs.sch.uk/event/school-closes-for-half-term/
END:VEVENT
BEGIN:VEVENT
DTSTART;TZID=Europe/London:20221020T091500
DTEND;TZID=Europe/London:20221020T153000
DTSTAMP:20260422T081027
CREATED:20220920T152201Z
LAST-MODIFIED:20220930T142343Z
UID:4707-1666257300-1666279800@www.parkside.worcs.sch.uk
SUMMARY:Blackwell Adventure Trip - 5JP\, 5HP & The Den 5
DESCRIPTION:For further information please see the Blackwell Adventure letter here.
URL:https://www.parkside.worcs.sch.uk/event/blackwell-adventure-trip-5jp-5hp-the-den-5/
END:VEVENT
BEGIN:VEVENT
DTSTART;TZID=Europe/London:20221019T153000
DTEND;TZID=Europe/London:20221019T164500
DTSTAMP:20260422T081027
CREATED:20220907T145447Z
LAST-MODIFIED:20220907T145447Z
UID:4624-1666193400-1666197900@www.parkside.worcs.sch.uk
SUMMARY:Year 5 Netball and Boys' Football
DESCRIPTION:
URL:https://www.parkside.worcs.sch.uk/event/year-5-netball-and-boys-football/
END:VEVENT
BEGIN:VEVENT
DTSTART;TZID=Europe/London:20221019T091500
DTEND;TZID=Europe/London:20221019T153000
DTSTAMP:20260422T081027
CREATED:20220920T152007Z
LAST-MODIFIED:20220930T142719Z
UID:4705-1666170900-1666193400@www.parkside.worcs.sch.uk
SUMMARY:Blackwell Adventure Trip - 5SN\, 5JB & 5CWi
DESCRIPTION:For further information please see the Blackwell Adventure letter here.
URL:https://www.parkside.worcs.sch.uk/event/blackwell-adventure-trip-5sn-5jb-5cwi/
END:VEVENT
BEGIN:VEVENT
DTSTART;TZID=Europe/London:20221018T160000
DTEND;TZID=Europe/London:20221018T190000
DTSTAMP:20260422T081027
CREATED:20220922T073909Z
LAST-MODIFIED:20220930T123048Z
UID:4727-1666108800-1666119600@www.parkside.worcs.sch.uk
SUMMARY:Virtual Parents Evening
DESCRIPTION:Further information on this can be found in our Parents Consultation Evening letter.
URL:https://www.parkside.worcs.sch.uk/event/virtual-parents-evening-0/
END:VEVENT
BEGIN:VEVENT
DTSTART;TZID=Europe/London:20221017T093000
DTEND;TZID=Europe/London:20221017T150000
DTSTAMP:20260422T081027
CREATED:20221004T094556Z
LAST-MODIFIED:20221004T094556Z
UID:4949-1665999000-1666018800@www.parkside.worcs.sch.uk
SUMMARY:Harvest Festival
DESCRIPTION:Reverend Levett & NewStart charity will be attending our Harvest Festival this Year.
URL:https://www.parkside.worcs.sch.uk/event/harvest-festival/
END:VEVENT
BEGIN:VEVENT
DTSTART;TZID=Europe/London:20221014T091500
DTEND;TZID=Europe/London:20221014T150000
DTSTAMP:20260422T081027
CREATED:20220920T151307Z
LAST-MODIFIED:20220920T151307Z
UID:4702-1665738900-1665759600@www.parkside.worcs.sch.uk
SUMMARY:Year 6 Black Country Living Museum Trip
DESCRIPTION:Year 6 will be visiting Black Country Living Museum on Friday 14th October. \nDeparture from school will be at 9:15am and pupils will return at approximately 3pm. Pupils should wear full school uniform on this day and a packed lunch will be required. \nPlease follow the link below to complete the consent form and make payment via ParentPay. \n https://forms.office.com/r/siu67SnSF7
URL:https://www.parkside.worcs.sch.uk/event/year-6-black-country-living-museum-trip/
END:VEVENT
BEGIN:VEVENT
DTSTART;TZID=Europe/London:20221013T091500
DTEND;TZID=Europe/London:20221013T120000
DTSTAMP:20260422T081027
CREATED:20220922T093349Z
LAST-MODIFIED:20220930T141953Z
UID:4783-1665652500-1665662400@www.parkside.worcs.sch.uk
SUMMARY:Year 5 Maths and English Morning for Parents/Carers
DESCRIPTION:For further information please see the Year 5 Maths and English morning letter here.
URL:https://www.parkside.worcs.sch.uk/event/year-5-english-and-maths-morning-for-parents/
END:VEVENT
BEGIN:VEVENT
DTSTART;TZID=Europe/London:20221012T153000
DTEND;TZID=Europe/London:20221012T164500
DTSTAMP:20260422T081027
CREATED:20220907T145340Z
LAST-MODIFIED:20220907T145340Z
UID:4622-1665588600-1665593100@www.parkside.worcs.sch.uk
SUMMARY:Year 6 Netball and Boys' Football
DESCRIPTION:
URL:https://www.parkside.worcs.sch.uk/event/year-6-netball-and-boys-football/
END:VEVENT
BEGIN:VEVENT
DTSTART;TZID=Europe/London:20221012T133000
DTEND;TZID=Europe/London:20221012T152000
DTSTAMP:20260422T081027
CREATED:20221007T092738Z
LAST-MODIFIED:20221007T092738Z
UID:4972-1665581400-1665588000@www.parkside.worcs.sch.uk
SUMMARY:Year 5/6 District Football Tournament
DESCRIPTION:Fixture Information: \nDate: Wednesday 12th October \nStart time: 1:30 \nFinish time: 3:20pm \nVenue: Catshill Middle School \nSporting event : Year 5/6 District Football Tournament \nWhat pupils need to bring: PE kit\, drinks bottle\, football boots and packed lunch \nWhat time pupils need to meet: 12:30pm at the main staircase \nBus information : \nCollect 12:35pm from Parkside\, collect us 3pm from Catshill.
URL:https://www.parkside.worcs.sch.uk/event/year-5-6-district-football-tournament/
END:VEVENT
BEGIN:VEVENT
DTSTART;TZID=Europe/London:20221006T180000
DTEND;TZID=Europe/London:20221006T190000
DTSTAMP:20260422T081027
CREATED:20220930T141131Z
LAST-MODIFIED:20220930T141131Z
UID:4911-1665079200-1665082800@www.parkside.worcs.sch.uk
SUMMARY:Year 6 Information Evening
DESCRIPTION:We would like to invite you join us for a Year 6 information evening on Thursday 6th October at\n6pm.\nThe Senior Leadership team\, Year Leaders and Form Tutors will be there to meet you and\nduring the evening will share key information regarding the curriculum\, homework\, behaviour\npolicy and standards\, KS2 SATs\, trips and how best we can work together in supporting your\nchild.\nDue to maximum capacity numbers in our school hall\, unfortunately we are unable to\naccommodate children and only two adults per pupil.\nWe hope to see you there.\nPlease confirm your attendance by completing the form via the link below:\nhttps://forms.office.com/r/qG67pQCatA
URL:https://www.parkside.worcs.sch.uk/event/year-6-information-evening/
END:VEVENT
BEGIN:VEVENT
DTSTART;TZID=Europe/London:20221005T153000
DTEND;TZID=Europe/London:20221005T164500
DTSTAMP:20260422T081027
CREATED:20220907T144714Z
LAST-MODIFIED:20220907T144714Z
UID:4619-1664983800-1664988300@www.parkside.worcs.sch.uk
SUMMARY:Year 7 Netball and Boys' Football
DESCRIPTION:
URL:https://www.parkside.worcs.sch.uk/event/year-7-netball-and-boys-football/
END:VEVENT
BEGIN:VEVENT
DTSTART;TZID=Europe/London:20221004T180000
DTEND;TZID=Europe/London:20221004T190000
DTSTAMP:20260422T081027
CREATED:20220922T073844Z
LAST-MODIFIED:20220922T073844Z
UID:4725-1664906400-1664910000@www.parkside.worcs.sch.uk
SUMMARY:Year 7 Information Evening
DESCRIPTION:
URL:https://www.parkside.worcs.sch.uk/event/year-7-information-evening/
END:VEVENT
END:VCALENDAR