BEGIN:VCALENDAR
VERSION:2.0
PRODID:-//Parkside Middle School - ECPv6.15.20//NONSGML v1.0//EN
CALSCALE:GREGORIAN
METHOD:PUBLISH
X-WR-CALNAME:Parkside Middle School
X-ORIGINAL-URL:https://www.parkside.worcs.sch.uk
X-WR-CALDESC:Events for Parkside Middle School
REFRESH-INTERVAL;VALUE=DURATION:PT1H
X-Robots-Tag:noindex
X-PUBLISHED-TTL:PT1H
BEGIN:VTIMEZONE
TZID:Europe/London
BEGIN:DAYLIGHT
TZOFFSETFROM:+0000
TZOFFSETTO:+0100
TZNAME:BST
DTSTART:20220327T010000
END:DAYLIGHT
BEGIN:STANDARD
TZOFFSETFROM:+0100
TZOFFSETTO:+0000
TZNAME:GMT
DTSTART:20221030T010000
END:STANDARD
BEGIN:DAYLIGHT
TZOFFSETFROM:+0000
TZOFFSETTO:+0100
TZNAME:BST
DTSTART:20230326T010000
END:DAYLIGHT
BEGIN:STANDARD
TZOFFSETFROM:+0100
TZOFFSETTO:+0000
TZNAME:GMT
DTSTART:20231029T010000
END:STANDARD
BEGIN:DAYLIGHT
TZOFFSETFROM:+0000
TZOFFSETTO:+0100
TZNAME:BST
DTSTART:20240331T010000
END:DAYLIGHT
BEGIN:STANDARD
TZOFFSETFROM:+0100
TZOFFSETTO:+0000
TZNAME:GMT
DTSTART:20241027T010000
END:STANDARD
END:VTIMEZONE
BEGIN:VEVENT
DTSTART;VALUE=DATE:20230929
DTEND;VALUE=DATE:20230930
DTSTAMP:20260421T151713
CREATED:20230922T132510Z
LAST-MODIFIED:20230922T133309Z
UID:6792-1695945600-1696031999@www.parkside.worcs.sch.uk
SUMMARY:Solihull School Trip
DESCRIPTION:Kindness: A Legacy of the Holocaust
URL:https://www.parkside.worcs.sch.uk/event/solihull-school-trip/
END:VEVENT
BEGIN:VEVENT
DTSTART;TZID=Europe/London:20230925T090000
DTEND;TZID=Europe/London:20230925T150000
DTSTAMP:20260421T151713
CREATED:20230808T084935Z
LAST-MODIFIED:20230808T084935Z
UID:6577-1695632400-1695654000@www.parkside.worcs.sch.uk
SUMMARY:Launch of TTRS in Year 5 'Rocktober'
DESCRIPTION:
URL:https://www.parkside.worcs.sch.uk/event/launch-of-ttrs-in-year-5-rocktober/
END:VEVENT
BEGIN:VEVENT
DTSTART;TZID=Europe/London:20230922T090000
DTEND;TZID=Europe/London:20230922T150000
DTSTAMP:20260421T151713
CREATED:20230105T150116Z
LAST-MODIFIED:20230105T150116Z
UID:5539-1695373200-1695394800@www.parkside.worcs.sch.uk
SUMMARY:Whole school photographs
DESCRIPTION:
URL:https://www.parkside.worcs.sch.uk/event/whole-school-photographs-2/
END:VEVENT
BEGIN:VEVENT
DTSTART;VALUE=DATE:20230921
DTEND;VALUE=DATE:20230922
DTSTAMP:20260421T151713
CREATED:20230922T132308Z
LAST-MODIFIED:20230922T132308Z
UID:6790-1695254400-1695340799@www.parkside.worcs.sch.uk
SUMMARY:Year 7 Warwick Castle Trip
DESCRIPTION:
URL:https://www.parkside.worcs.sch.uk/event/year-7-warwick-castle-trip-2/
END:VEVENT
BEGIN:VEVENT
DTSTART;TZID=Europe/London:20230920T090000
DTEND;TZID=Europe/London:20230920T100000
DTSTAMP:20260421T151713
CREATED:20230808T084807Z
LAST-MODIFIED:20230914T071418Z
UID:6575-1695200400-1695204000@www.parkside.worcs.sch.uk
SUMMARY:5JP start swimming
DESCRIPTION:
URL:https://www.parkside.worcs.sch.uk/event/5jp-start-swimming/
END:VEVENT
BEGIN:VEVENT
DTSTART;TZID=Europe/London:20230914T180000
DTEND;TZID=Europe/London:20230914T190000
DTSTAMP:20260421T151713
CREATED:20230711T074957Z
LAST-MODIFIED:20230711T075054Z
UID:6511-1694714400-1694718000@www.parkside.worcs.sch.uk
SUMMARY:Year 8 Information Evening
DESCRIPTION:
URL:https://www.parkside.worcs.sch.uk/event/year-8-information-evening-2/
END:VEVENT
BEGIN:VEVENT
DTSTART;TZID=Europe/London:20230906T085000
DTEND;TZID=Europe/London:20230906T151500
DTSTAMP:20260421T151713
CREATED:20230711T074742Z
LAST-MODIFIED:20230711T074825Z
UID:6508-1693990200-1694013300@www.parkside.worcs.sch.uk
SUMMARY:School reopens to Years 6\, 7 and 8
DESCRIPTION:School welcomes all pupils
URL:https://www.parkside.worcs.sch.uk/event/school-reopens-to-years-6-7-and-8/
END:VEVENT
BEGIN:VEVENT
DTSTART;TZID=Europe/London:20230905T085000
DTEND;TZID=Europe/London:20230905T151500
DTSTAMP:20260421T151713
CREATED:20230105T134225Z
LAST-MODIFIED:20230711T074540Z
UID:5509-1693903800-1693926900@www.parkside.worcs.sch.uk
SUMMARY:School reopens to Year 5
DESCRIPTION:Parkside welcomes Year 5 pupils at 8:50am.
URL:https://www.parkside.worcs.sch.uk/event/school-reopens-6/
END:VEVENT
BEGIN:VEVENT
DTSTART;VALUE=DATE:20230904
DTEND;VALUE=DATE:20230905
DTSTAMP:20260421T151713
CREATED:20230117T091641Z
LAST-MODIFIED:20230117T094832Z
UID:5571-1693785600-1693871999@www.parkside.worcs.sch.uk
SUMMARY:School closed – TE Day
DESCRIPTION:Teacher Education day.
URL:https://www.parkside.worcs.sch.uk/event/school-closed-te-day-5/
END:VEVENT
BEGIN:VEVENT
DTSTART;VALUE=DATE:20230724
DTEND;VALUE=DATE:20230726
DTSTAMP:20260421T151713
CREATED:20220824T200000Z
LAST-MODIFIED:20230117T095026Z
UID:4310-1690156800-1690329599@www.parkside.worcs.sch.uk
SUMMARY:School closed – TE Day
DESCRIPTION:Teacher Education day.
URL:https://www.parkside.worcs.sch.uk/event/school-closed-te-day-4/
END:VEVENT
BEGIN:VEVENT
DTSTART;TZID=Europe/London:20230721T151500
DTEND;TZID=Europe/London:20230721T151500
DTSTAMP:20260421T151713
CREATED:20220824T195851Z
LAST-MODIFIED:20220824T195851Z
UID:4308-1689952500-1689952500@www.parkside.worcs.sch.uk
SUMMARY:School closes for Summer holidays
DESCRIPTION:
URL:https://www.parkside.worcs.sch.uk/event/school-closes-for-summer-holidays-2/
END:VEVENT
BEGIN:VEVENT
DTSTART;TZID=Europe/London:20230721T093000
DTEND;TZID=Europe/London:20230721T093000
DTSTAMP:20260421T151713
CREATED:20220922T094252Z
LAST-MODIFIED:20220922T094444Z
UID:4795-1689931800-1689931800@www.parkside.worcs.sch.uk
SUMMARY:Talent Show & Year 8 Leavers' Assembly
DESCRIPTION:
URL:https://www.parkside.worcs.sch.uk/event/talent-show-and-year-8-leavers-assembly/
END:VEVENT
BEGIN:VEVENT
DTSTART;TZID=Europe/London:20230720T090000
DTEND;TZID=Europe/London:20230720T143000
DTSTAMP:20260421T151713
CREATED:20230616T135309Z
LAST-MODIFIED:20230616T140348Z
UID:6266-1689843600-1689863400@www.parkside.worcs.sch.uk
SUMMARY:The Den at Sanders Park
DESCRIPTION:
URL:https://www.parkside.worcs.sch.uk/event/the-den-at-sanders-park/
END:VEVENT
BEGIN:VEVENT
DTSTART;VALUE=DATE:20230720
DTEND;VALUE=DATE:20230721
DTSTAMP:20260421T151713
CREATED:20230616T131432Z
LAST-MODIFIED:20230616T133518Z
UID:6258-1689811200-1689897599@www.parkside.worcs.sch.uk
SUMMARY:Year 7 Reward Day
DESCRIPTION:
URL:https://www.parkside.worcs.sch.uk/event/year-7-reward-day/
END:VEVENT
BEGIN:VEVENT
DTSTART;VALUE=DATE:20230720
DTEND;VALUE=DATE:20230721
DTSTAMP:20260421T151713
CREATED:20220922T094123Z
LAST-MODIFIED:20220922T094123Z
UID:4793-1689811200-1689897599@www.parkside.worcs.sch.uk
SUMMARY:Year 8 Inflatables
DESCRIPTION:
URL:https://www.parkside.worcs.sch.uk/event/year-8-inflatables/
END:VEVENT
BEGIN:VEVENT
DTSTART;TZID=Europe/London:20230719T133000
DTEND;TZID=Europe/London:20230719T150000
DTSTAMP:20260421T151713
CREATED:20220922T094039Z
LAST-MODIFIED:20220922T094039Z
UID:4791-1689773400-1689778800@www.parkside.worcs.sch.uk
SUMMARY:Year 8 Presentation Afternoon
DESCRIPTION:
URL:https://www.parkside.worcs.sch.uk/event/year-8-presentation-afternoon-2/
END:VEVENT
BEGIN:VEVENT
DTSTART;VALUE=DATE:20230719
DTEND;VALUE=DATE:20230720
DTSTAMP:20260421T151713
CREATED:20230616T134948Z
LAST-MODIFIED:20230616T135022Z
UID:6262-1689724800-1689811199@www.parkside.worcs.sch.uk
SUMMARY:Year 7 Upton Warren trip 7CW\, 7KWS & 7VS
DESCRIPTION:
URL:https://www.parkside.worcs.sch.uk/event/year-7-upton-warren-7cw-7kws-7vs/
END:VEVENT
BEGIN:VEVENT
DTSTART;VALUE=DATE:20230718
DTEND;VALUE=DATE:20230719
DTSTAMP:20260421T151713
CREATED:20230616T134907Z
LAST-MODIFIED:20230616T135148Z
UID:6260-1689638400-1689724799@www.parkside.worcs.sch.uk
SUMMARY:Year 7 Upton Warren trip 7AF\, 7CF & The Den
DESCRIPTION:
URL:https://www.parkside.worcs.sch.uk/event/year-7-upton-warren-7af-7cf-the-den/
END:VEVENT
BEGIN:VEVENT
DTSTART;TZID=Europe/London:20230717T090000
DTEND;TZID=Europe/London:20230717T150000
DTSTAMP:20260421T151713
CREATED:20220922T093742Z
LAST-MODIFIED:20220922T093742Z
UID:4787-1689584400-1689606000@www.parkside.worcs.sch.uk
SUMMARY:Transition Day
DESCRIPTION:
URL:https://www.parkside.worcs.sch.uk/event/transition-day/
END:VEVENT
BEGIN:VEVENT
DTSTART;TZID=Europe/London:20230714T080000
DTEND;TZID=Europe/London:20230714T170000
DTSTAMP:20260421T151713
CREATED:20230217T121500Z
LAST-MODIFIED:20230316T082444Z
UID:5799-1689321600-1689354000@www.parkside.worcs.sch.uk
SUMMARY:Year 7 Gurdwara
DESCRIPTION:Form Groups  7AF\, 7VSa & Group 1 7CW
URL:https://www.parkside.worcs.sch.uk/event/year-7-gurdwara/
END:VEVENT
BEGIN:VEVENT
DTSTART;VALUE=DATE:20230713
DTEND;VALUE=DATE:20230714
DTSTAMP:20260421T151713
CREATED:20230117T100809Z
LAST-MODIFIED:20230616T135900Z
UID:5582-1689206400-1689292799@www.parkside.worcs.sch.uk
SUMMARY:Year 5 Activity Day
DESCRIPTION:Year 5 Activity Day at Bablake Cricket Club
URL:https://www.parkside.worcs.sch.uk/event/year-5-activity-day-2/
END:VEVENT
BEGIN:VEVENT
DTSTART;TZID=Europe/London:20230711T180000
DTEND;TZID=Europe/London:20230711T190000
DTSTAMP:20260421T151713
CREATED:20220922T093555Z
LAST-MODIFIED:20220922T093555Z
UID:4785-1689098400-1689102000@www.parkside.worcs.sch.uk
SUMMARY:New Intake Induction Evening
DESCRIPTION:
URL:https://www.parkside.worcs.sch.uk/event/new-intake-induction-evening/
END:VEVENT
BEGIN:VEVENT
DTSTART;TZID=Europe/London:20230711T090000
DTEND;TZID=Europe/London:20230711T150000
DTSTAMP:20260421T151713
CREATED:20230526T112221Z
LAST-MODIFIED:20230526T112242Z
UID:6162-1689066000-1689087600@www.parkside.worcs.sch.uk
SUMMARY:Sports Day
DESCRIPTION:KS3 Events will take place in the morning\, KS2 in the afternoon.
URL:https://www.parkside.worcs.sch.uk/event/sports-day-2/
END:VEVENT
BEGIN:VEVENT
DTSTART;TZID=Europe/London:20230707T080000
DTEND;TZID=Europe/London:20230707T170000
DTSTAMP:20260421T151713
CREATED:20230628T074248Z
LAST-MODIFIED:20230628T074712Z
UID:6366-1688716800-1688749200@www.parkside.worcs.sch.uk
SUMMARY:Industrial Action - School open for Year 6 pupils only
DESCRIPTION:The school will remain open for only Year 6 pupils who are not participating in the residential trip.\nThese pupils are expected to attend.\nThis means school will be closed to all Year 5\, Year 7 and Year 8 pupils.
URL:https://www.parkside.worcs.sch.uk/event/industrial-action-school-open-for-year-6-pupils/
END:VEVENT
BEGIN:VEVENT
DTSTART;TZID=Europe/London:20230705T080000
DTEND;TZID=Europe/London:20230705T170000
DTSTAMP:20260421T151713
CREATED:20230628T073954Z
LAST-MODIFIED:20230628T073954Z
UID:6364-1688544000-1688576400@www.parkside.worcs.sch.uk
SUMMARY:Industrial Action - School Open for Year 6 and Year 8 only
DESCRIPTION:The school will remain open for only Year 6 and Year 8 pupils\nwho are not participating in the residential trips. These pupils are expected to attend.\nThis means school will be closed to all Year 5 and Year 7 pupils.
URL:https://www.parkside.worcs.sch.uk/event/industrial-action-school-open-for-year-6-and-year-8-only/
END:VEVENT
BEGIN:VEVENT
DTSTART;VALUE=DATE:20230705
DTEND;VALUE=DATE:20230708
DTSTAMP:20260421T151713
CREATED:20220922T093213Z
LAST-MODIFIED:20221213T094021Z
UID:4781-1688515200-1688774399@www.parkside.worcs.sch.uk
SUMMARY:Year 6 Oaker Wood Residential
DESCRIPTION:Details to be confirmed.
URL:https://www.parkside.worcs.sch.uk/event/year-6-residential/
END:VEVENT
BEGIN:VEVENT
DTSTART;TZID=Europe/London:20230704T090000
DTEND;TZID=Europe/London:20230704T150000
DTSTAMP:20260421T151713
CREATED:20230616T135730Z
LAST-MODIFIED:20230616T135730Z
UID:6270-1688461200-1688482800@www.parkside.worcs.sch.uk
SUMMARY:Year 6 Dental check
DESCRIPTION:
URL:https://www.parkside.worcs.sch.uk/event/year-6-dental-check/
END:VEVENT
BEGIN:VEVENT
DTSTART;VALUE=DATE:20230703
DTEND;VALUE=DATE:20230706
DTSTAMP:20260421T151713
CREATED:20220922T093049Z
LAST-MODIFIED:20221213T093914Z
UID:4779-1688342400-1688601599@www.parkside.worcs.sch.uk
SUMMARY:Year 8 Bushcraft Residential
DESCRIPTION:Details to be confirmed.
URL:https://www.parkside.worcs.sch.uk/event/year-8-residential/
END:VEVENT
BEGIN:VEVENT
DTSTART;VALUE=DATE:20230629
DTEND;VALUE=DATE:20230630
DTSTAMP:20260421T151713
CREATED:20230616T135523Z
LAST-MODIFIED:20230616T135523Z
UID:6268-1687996800-1688083199@www.parkside.worcs.sch.uk
SUMMARY:KS2 Choir Trip to Demon Dentist
DESCRIPTION:
URL:https://www.parkside.worcs.sch.uk/event/ks2-choir-trip-to-demon-dentist/
END:VEVENT
BEGIN:VEVENT
DTSTART;TZID=Europe/London:20230628T133000
DTEND;TZID=Europe/London:20230628T150000
DTSTAMP:20260421T151713
CREATED:20220922T092207Z
LAST-MODIFIED:20220922T092207Z
UID:4775-1687959000-1687964400@www.parkside.worcs.sch.uk
SUMMARY:New Intake Transition Afternoon #4
DESCRIPTION:
URL:https://www.parkside.worcs.sch.uk/event/new-intake-transition-afternoon-4/
END:VEVENT
END:VCALENDAR