BEGIN:VCALENDAR
VERSION:2.0
PRODID:-//Parkside Middle School - ECPv6.15.20//NONSGML v1.0//EN
CALSCALE:GREGORIAN
METHOD:PUBLISH
X-WR-CALNAME:Parkside Middle School
X-ORIGINAL-URL:https://www.parkside.worcs.sch.uk
X-WR-CALDESC:Events for Parkside Middle School
REFRESH-INTERVAL;VALUE=DURATION:PT1H
X-Robots-Tag:noindex
X-PUBLISHED-TTL:PT1H
BEGIN:VTIMEZONE
TZID:Europe/London
BEGIN:DAYLIGHT
TZOFFSETFROM:+0000
TZOFFSETTO:+0100
TZNAME:BST
DTSTART:20210328T010000
END:DAYLIGHT
BEGIN:STANDARD
TZOFFSETFROM:+0100
TZOFFSETTO:+0000
TZNAME:GMT
DTSTART:20211031T010000
END:STANDARD
BEGIN:DAYLIGHT
TZOFFSETFROM:+0000
TZOFFSETTO:+0100
TZNAME:BST
DTSTART:20220327T010000
END:DAYLIGHT
BEGIN:STANDARD
TZOFFSETFROM:+0100
TZOFFSETTO:+0000
TZNAME:GMT
DTSTART:20221030T010000
END:STANDARD
BEGIN:DAYLIGHT
TZOFFSETFROM:+0000
TZOFFSETTO:+0100
TZNAME:BST
DTSTART:20230326T010000
END:DAYLIGHT
BEGIN:STANDARD
TZOFFSETFROM:+0100
TZOFFSETTO:+0000
TZNAME:GMT
DTSTART:20231029T010000
END:STANDARD
BEGIN:DAYLIGHT
TZOFFSETFROM:+0000
TZOFFSETTO:+0100
TZNAME:BST
DTSTART:20240331T010000
END:DAYLIGHT
BEGIN:STANDARD
TZOFFSETFROM:+0100
TZOFFSETTO:+0000
TZNAME:GMT
DTSTART:20241027T010000
END:STANDARD
END:VTIMEZONE
BEGIN:VEVENT
DTSTART;TZID=Europe/London:20230217T151500
DTEND;TZID=Europe/London:20230217T151500
DTSTAMP:20260422T040339
CREATED:20220824T194441Z
LAST-MODIFIED:20220831T211456Z
UID:4293-1676646900-1676646900@www.parkside.worcs.sch.uk
SUMMARY:School closes for half term
DESCRIPTION:The school closes to pupils at 3:15pm
URL:https://www.parkside.worcs.sch.uk/event/school-closes-for-half-term-2/
END:VEVENT
BEGIN:VEVENT
DTSTART;TZID=Europe/London:20230216T154500
DTEND;TZID=Europe/London:20230216T164500
DTSTAMP:20260422T040339
CREATED:20221216T144227Z
LAST-MODIFIED:20221216T144713Z
UID:5430-1676562300-1676565900@www.parkside.worcs.sch.uk
SUMMARY:KS2 Boys & Girls Football Tournament
DESCRIPTION:To be held at Catshill Middle School.
URL:https://www.parkside.worcs.sch.uk/event/ks3-boys-girls-football-tournament/
END:VEVENT
BEGIN:VEVENT
DTSTART;VALUE=DATE:20230216
DTEND;VALUE=DATE:20230217
DTSTAMP:20260422T040339
CREATED:20230117T101325Z
LAST-MODIFIED:20230131T105101Z
UID:5584-1676505600-1676591999@www.parkside.worcs.sch.uk
SUMMARY:Year 5 District Netball Tournament
DESCRIPTION:Timings: 3.30pm – 5.30pm\nVenue: Westacre Middle School (Ombersley Way\, Droitwich WR9 0AA)\nParking: Please park/drop off\, using the bus bay outside the front of school.\nEntries: 1 team per school (maximum of 12 in a squad). Squads can be mixed with a maximum of 2 boys in a squad/on a court at any time.\nUmpires: Accompanying school staff will be expected to umpire matches.\nRules: England Netball rules apply. Format\, including match timings will be determined once entries have been received.\nEquipment: Please provide your own (positional) bibs. All other equipment will be provided.
URL:https://www.parkside.worcs.sch.uk/event/year-5-district-netball-tournament/
END:VEVENT
BEGIN:VEVENT
DTSTART;TZID=Europe/London:20230213T090000
DTEND;TZID=Europe/London:20230213T150000
DTSTAMP:20260422T040339
CREATED:20220922T084451Z
LAST-MODIFIED:20220922T084451Z
UID:4752-1676278800-1676300400@www.parkside.worcs.sch.uk
SUMMARY:Sport for Champions whole-school event
DESCRIPTION:
URL:https://www.parkside.worcs.sch.uk/event/sport-for-champions-whole-school-event/
END:VEVENT
BEGIN:VEVENT
DTSTART;TZID=Europe/London:20230209T154500
DTEND;TZID=Europe/London:20230209T164500
DTSTAMP:20260422T040339
CREATED:20221216T144625Z
LAST-MODIFIED:20221216T144625Z
UID:5433-1675957500-1675961100@www.parkside.worcs.sch.uk
SUMMARY:KS3 Boys & Girls Football Tournament
DESCRIPTION:To be held at Catshill Middle School.
URL:https://www.parkside.worcs.sch.uk/event/ks3-boys-girls-football-tournament-2/
END:VEVENT
BEGIN:VEVENT
DTSTART;VALUE=DATE:20230209
DTEND;VALUE=DATE:20230210
DTSTAMP:20260422T040339
CREATED:20230127T135615Z
LAST-MODIFIED:20230127T135901Z
UID:5675-1675900800-1675987199@www.parkside.worcs.sch.uk
SUMMARY:Year 8 District Netball Tournament
DESCRIPTION:To be held at RGS Dodderhill. \nEvent times TBA.
URL:https://www.parkside.worcs.sch.uk/event/year-8-district-netball-tournament/
END:VEVENT
BEGIN:VEVENT
DTSTART;VALUE=DATE:20230206
DTEND;VALUE=DATE:20230211
DTSTAMP:20260422T040339
CREATED:20220922T084207Z
LAST-MODIFIED:20220922T084207Z
UID:4749-1675641600-1676073599@www.parkside.worcs.sch.uk
SUMMARY:Year 6 Assessments
DESCRIPTION:
URL:https://www.parkside.worcs.sch.uk/event/year-6-assessments/
END:VEVENT
BEGIN:VEVENT
DTSTART;VALUE=DATE:20230201
DTEND;VALUE=DATE:20230202
DTSTAMP:20260422T040339
CREATED:20230130T113324Z
LAST-MODIFIED:20230130T113324Z
UID:5692-1675209600-1675295999@www.parkside.worcs.sch.uk
SUMMARY:School closed due to industrial action
DESCRIPTION:School will be closed on this date due to industrial action.
URL:https://www.parkside.worcs.sch.uk/event/school-closed-due-to-industrial-action/
END:VEVENT
BEGIN:VEVENT
DTSTART;TZID=Europe/London:20230126T143000
DTEND;TZID=Europe/London:20230126T161500
DTSTAMP:20260422T040339
CREATED:20230124T110708Z
LAST-MODIFIED:20230124T110746Z
UID:5635-1674743400-1674749700@www.parkside.worcs.sch.uk
SUMMARY:KS3 Football vs Catshill
DESCRIPTION:Venue: Catshill Middle School
URL:https://www.parkside.worcs.sch.uk/event/ks3-football-vs-catshill/
END:VEVENT
BEGIN:VEVENT
DTSTART;TZID=Europe/London:20230119T090000
DTEND;TZID=Europe/London:20230119T150000
DTSTAMP:20260422T040339
CREATED:20220922T083958Z
LAST-MODIFIED:20220922T083958Z
UID:4747-1674118800-1674140400@www.parkside.worcs.sch.uk
SUMMARY:Faraday Challenge
DESCRIPTION:To be hosted at Parkside Middle School.
URL:https://www.parkside.worcs.sch.uk/event/faraday-challenge/
END:VEVENT
BEGIN:VEVENT
DTSTART;VALUE=DATE:20230113
DTEND;VALUE=DATE:20230114
DTSTAMP:20260422T040339
CREATED:20221213T093615Z
LAST-MODIFIED:20221213T093615Z
UID:5385-1673568000-1673654399@www.parkside.worcs.sch.uk
SUMMARY:Year 8 trip to Thinktank
DESCRIPTION:Year 8 trip to Thinktank
URL:https://www.parkside.worcs.sch.uk/event/year-8-trip-to-thinktank/
END:VEVENT
BEGIN:VEVENT
DTSTART;TZID=Europe/London:20230104T085000
DTEND;TZID=Europe/London:20230104T153000
DTSTAMP:20260422T040339
CREATED:20220824T194301Z
LAST-MODIFIED:20220831T210204Z
UID:4291-1672822200-1672846200@www.parkside.worcs.sch.uk
SUMMARY:School reopens
DESCRIPTION:Parkside welcomes all pupils at 8:50am.
URL:https://www.parkside.worcs.sch.uk/event/school-reopens-2/
END:VEVENT
BEGIN:VEVENT
DTSTART;VALUE=DATE:20230103
DTEND;VALUE=DATE:20230104
DTSTAMP:20260422T040339
CREATED:20220824T194203Z
LAST-MODIFIED:20220831T210922Z
UID:4289-1672704000-1672790399@www.parkside.worcs.sch.uk
SUMMARY:School closed – TE Day
DESCRIPTION:Teacher Education day.
URL:https://www.parkside.worcs.sch.uk/event/school-closed-te-day-3/
END:VEVENT
BEGIN:VEVENT
DTSTART;TZID=Europe/London:20221216T151500
DTEND;TZID=Europe/London:20221216T151500
DTSTAMP:20260422T040339
CREATED:20220824T194048Z
LAST-MODIFIED:20220905T080859Z
UID:4287-1671203700-1671203700@www.parkside.worcs.sch.uk
SUMMARY:School closes for Christmas break
DESCRIPTION:We wish you a Merry Christmas and a Happy New Year.
URL:https://www.parkside.worcs.sch.uk/event/school-closes-for-christmas-break/
END:VEVENT
BEGIN:VEVENT
DTSTART;TZID=Europe/London:20221216T090000
DTEND;TZID=Europe/London:20221216T150000
DTSTAMP:20260422T040339
CREATED:20220922T083813Z
LAST-MODIFIED:20220922T083813Z
UID:4745-1671181200-1671202800@www.parkside.worcs.sch.uk
SUMMARY:Christmas Service\, Christmas Jumper Day
DESCRIPTION:
URL:https://www.parkside.worcs.sch.uk/event/christmas-service-christmas-jumper-day/
END:VEVENT
BEGIN:VEVENT
DTSTART;TZID=Europe/London:20221215T090000
DTEND;TZID=Europe/London:20221215T150000
DTSTAMP:20260422T040339
CREATED:20220922T083728Z
LAST-MODIFIED:20221118T153120Z
UID:4743-1671094800-1671116400@www.parkside.worcs.sch.uk
SUMMARY:Year 5 Pantomime Visit
DESCRIPTION:For further information\, please see the Year 5 Pantomime Letter.
URL:https://www.parkside.worcs.sch.uk/event/year-5-pantomime-visit/
END:VEVENT
BEGIN:VEVENT
DTSTART;TZID=Europe/London:20221214T123000
DTEND;TZID=Europe/London:20221214T133000
DTSTAMP:20260422T040339
CREATED:20221213T093433Z
LAST-MODIFIED:20221213T093433Z
UID:5383-1671021000-1671024600@www.parkside.worcs.sch.uk
SUMMARY:Christmas Dinner
DESCRIPTION:
URL:https://www.parkside.worcs.sch.uk/event/christmas-dinner/
END:VEVENT
BEGIN:VEVENT
DTSTART;TZID=Europe/London:20221213T183000
DTEND;TZID=Europe/London:20221213T193000
DTSTAMP:20260422T040339
CREATED:20221116T204721Z
LAST-MODIFIED:20221116T204721Z
UID:5264-1670956200-1670959800@www.parkside.worcs.sch.uk
SUMMARY:Year 5 Production of Hosanna Rock
DESCRIPTION:Evening production to parents – Second night of two.
URL:https://www.parkside.worcs.sch.uk/event/year-5-production-of-hosanna-rock-2/
END:VEVENT
BEGIN:VEVENT
DTSTART;TZID=Europe/London:20221212T183000
DTEND;TZID=Europe/London:20221212T193000
DTSTAMP:20260422T040339
CREATED:20221116T204550Z
LAST-MODIFIED:20221116T204550Z
UID:5262-1670869800-1670873400@www.parkside.worcs.sch.uk
SUMMARY:Year 5 Production of Hosanna Rock
DESCRIPTION:Evening production to parents – First night of two.
URL:https://www.parkside.worcs.sch.uk/event/year-5-production-of-hosanna-rock/
END:VEVENT
BEGIN:VEVENT
DTSTART;TZID=Europe/London:20221212T153000
DTEND;TZID=Europe/London:20221212T173000
DTSTAMP:20260422T040339
CREATED:20221122T135440Z
LAST-MODIFIED:20221122T135440Z
UID:5292-1670859000-1670866200@www.parkside.worcs.sch.uk
SUMMARY:Girls Year 7 Five-A-Side District Tournament
DESCRIPTION:Five-A-Side District Tournament to be held at South Bromsgrove High School.
URL:https://www.parkside.worcs.sch.uk/event/girls-year-7-five-a-side-district-tournament/
END:VEVENT
BEGIN:VEVENT
DTSTART;TZID=Europe/London:20221212T093000
DTEND;TZID=Europe/London:20221212T103000
DTSTAMP:20260422T040339
CREATED:20221116T204251Z
LAST-MODIFIED:20221116T204251Z
UID:5260-1670837400-1670841000@www.parkside.worcs.sch.uk
SUMMARY:Year 5 Production of Hosanna Rock - Dress Rehearsal
DESCRIPTION:Dress rehearsal to the school.
URL:https://www.parkside.worcs.sch.uk/event/year-5-production-of-hosanna-rock-dress-rehearsal/
END:VEVENT
BEGIN:VEVENT
DTSTART;TZID=Europe/London:20221206T120000
DTEND;TZID=Europe/London:20221206T153000
DTSTAMP:20260422T040339
CREATED:20221014T120150Z
LAST-MODIFIED:20221014T120150Z
UID:5028-1670328000-1670340600@www.parkside.worcs.sch.uk
SUMMARY:District Cross Country
DESCRIPTION:Venue: Bromsgrove School
URL:https://www.parkside.worcs.sch.uk/event/district-cross-country/
END:VEVENT
BEGIN:VEVENT
DTSTART;TZID=Europe/London:20221205T153000
DTEND;TZID=Europe/London:20221205T173000
DTSTAMP:20260422T040339
CREATED:20221122T135254Z
LAST-MODIFIED:20221122T135408Z
UID:5290-1670254200-1670261400@www.parkside.worcs.sch.uk
SUMMARY:Boys Year 7 Five-A-Side District Tournament
DESCRIPTION:Five-A-Side District Tournament to be held at South Bromsgrove High School.
URL:https://www.parkside.worcs.sch.uk/event/boys-year-7-five-a-side-district-tournament/
END:VEVENT
BEGIN:VEVENT
DTSTART;TZID=Europe/London:20221202T090000
DTEND;TZID=Europe/London:20221202T150000
DTSTAMP:20260422T040339
CREATED:20220922T083551Z
LAST-MODIFIED:20220922T083551Z
UID:4741-1669971600-1669993200@www.parkside.worcs.sch.uk
SUMMARY:Music Transition Event
DESCRIPTION:
URL:https://www.parkside.worcs.sch.uk/event/music-transition-event/
END:VEVENT
BEGIN:VEVENT
DTSTART;TZID=Europe/London:20221130T144500
DTEND;TZID=Europe/London:20221130T160000
DTSTAMP:20260422T040339
CREATED:20221111T100342Z
LAST-MODIFIED:20221122T134309Z
UID:5245-1669819500-1669824000@www.parkside.worcs.sch.uk
SUMMARY:KS3 girls football tournament
DESCRIPTION:To be held at Parkside.
URL:https://www.parkside.worcs.sch.uk/event/ks3-girls-football-tournament/
END:VEVENT
BEGIN:VEVENT
DTSTART;VALUE=DATE:20221128
DTEND;VALUE=DATE:20221203
DTSTAMP:20260422T040339
CREATED:20220922T083329Z
LAST-MODIFIED:20220922T083329Z
UID:4739-1669593600-1670025599@www.parkside.worcs.sch.uk
SUMMARY:Year 6/8 Assessments
DESCRIPTION:
URL:https://www.parkside.worcs.sch.uk/event/year-6-8-assessments/
END:VEVENT
BEGIN:VEVENT
DTSTART;TZID=Europe/London:20221122T090000
DTEND;TZID=Europe/London:20221122T100000
DTSTAMP:20260422T040339
CREATED:20221003T135128Z
LAST-MODIFIED:20221003T135128Z
UID:4939-1669107600-1669111200@www.parkside.worcs.sch.uk
SUMMARY:New Year 5 Parents Open Morning
DESCRIPTION:Please contact school if you wish to book an appointment.
URL:https://www.parkside.worcs.sch.uk/event/new-year-5-parents-open-morning-3/
END:VEVENT
BEGIN:VEVENT
DTSTART;VALUE=DATE:20221121
DTEND;VALUE=DATE:20221126
DTSTAMP:20260422T040339
CREATED:20220922T083227Z
LAST-MODIFIED:20220922T083227Z
UID:4737-1668988800-1669420799@www.parkside.worcs.sch.uk
SUMMARY:Year 5/7 Assessments
DESCRIPTION:
URL:https://www.parkside.worcs.sch.uk/event/year-5-7-assessments/
END:VEVENT
BEGIN:VEVENT
DTSTART;TZID=Europe/London:20221118T090000
DTEND;TZID=Europe/London:20221118T150000
DTSTAMP:20260422T040339
CREATED:20220922T082056Z
LAST-MODIFIED:20220922T082056Z
UID:4735-1668762000-1668783600@www.parkside.worcs.sch.uk
SUMMARY:Whole School Inspiration Day
DESCRIPTION:
URL:https://www.parkside.worcs.sch.uk/event/whole-school-inspiration-day/
END:VEVENT
BEGIN:VEVENT
DTSTART;TZID=Europe/London:20221117T144500
DTEND;TZID=Europe/London:20221117T163000
DTSTAMP:20260422T040339
CREATED:20221109T154019Z
LAST-MODIFIED:20221109T154019Z
UID:5229-1668696300-1668702600@www.parkside.worcs.sch.uk
SUMMARY:Year 5\, 6 & 7 Football @ Westacre
DESCRIPTION:
URL:https://www.parkside.worcs.sch.uk/event/year-5-6-7-football-westacre/
END:VEVENT
END:VCALENDAR