BEGIN:VCALENDAR
VERSION:2.0
PRODID:-//Parkside Middle School - ECPv6.15.20//NONSGML v1.0//EN
CALSCALE:GREGORIAN
METHOD:PUBLISH
X-ORIGINAL-URL:https://www.parkside.worcs.sch.uk
X-WR-CALDESC:Events for Parkside Middle School
REFRESH-INTERVAL;VALUE=DURATION:PT1H
X-Robots-Tag:noindex
X-PUBLISHED-TTL:PT1H
BEGIN:VTIMEZONE
TZID:Europe/London
BEGIN:DAYLIGHT
TZOFFSETFROM:+0000
TZOFFSETTO:+0100
TZNAME:BST
DTSTART:20240331T010000
END:DAYLIGHT
BEGIN:STANDARD
TZOFFSETFROM:+0100
TZOFFSETTO:+0000
TZNAME:GMT
DTSTART:20241027T010000
END:STANDARD
BEGIN:DAYLIGHT
TZOFFSETFROM:+0000
TZOFFSETTO:+0100
TZNAME:BST
DTSTART:20250330T010000
END:DAYLIGHT
BEGIN:STANDARD
TZOFFSETFROM:+0100
TZOFFSETTO:+0000
TZNAME:GMT
DTSTART:20251026T010000
END:STANDARD
BEGIN:DAYLIGHT
TZOFFSETFROM:+0000
TZOFFSETTO:+0100
TZNAME:BST
DTSTART:20260329T010000
END:DAYLIGHT
BEGIN:STANDARD
TZOFFSETFROM:+0100
TZOFFSETTO:+0000
TZNAME:GMT
DTSTART:20261025T010000
END:STANDARD
END:VTIMEZONE
BEGIN:VEVENT
DTSTART;TZID=Europe/London:20250523T090000
DTEND;TZID=Europe/London:20250523T150000
DTSTAMP:20260420T155730
CREATED:20240903T075835Z
LAST-MODIFIED:20240903T075835Z
UID:8662-1747990800-1748012400@www.parkside.worcs.sch.uk
SUMMARY:Year 5 Art Scheme in a day
DESCRIPTION:
URL:https://www.parkside.worcs.sch.uk/event/year-5-art-scheme-in-a-day-2/
END:VEVENT
BEGIN:VEVENT
DTSTART;TZID=Europe/London:20250523T151500
DTEND;TZID=Europe/London:20250523T151500
DTSTAMP:20260420T155730
CREATED:20240123T110112Z
LAST-MODIFIED:20240123T110112Z
UID:7370-1748013300-1748013300@www.parkside.worcs.sch.uk
SUMMARY:School closes for half term
DESCRIPTION:
URL:https://www.parkside.worcs.sch.uk/event/school-closes-for-half-term-8/
END:VEVENT
BEGIN:VEVENT
DTSTART;TZID=Europe/London:20250602T080000
DTEND;TZID=Europe/London:20250602T170000
DTSTAMP:20260420T155730
CREATED:20240123T110228Z
LAST-MODIFIED:20250428T153230Z
UID:7372-1748851200-1748883600@www.parkside.worcs.sch.uk
SUMMARY:School closed - TE day
DESCRIPTION:
URL:https://www.parkside.worcs.sch.uk/event/school-closed-te-day-4-2/
END:VEVENT
BEGIN:VEVENT
DTSTART;TZID=Europe/London:20250603T085000
DTEND;TZID=Europe/London:20250603T151500
DTSTAMP:20260420T155730
CREATED:20240123T110339Z
LAST-MODIFIED:20240123T110339Z
UID:7374-1748940600-1748963700@www.parkside.worcs.sch.uk
SUMMARY:School reopens
DESCRIPTION:
URL:https://www.parkside.worcs.sch.uk/event/school-reopens-17/
END:VEVENT
BEGIN:VEVENT
DTSTART;VALUE=DATE:20250604
DTEND;VALUE=DATE:20250605
DTSTAMP:20260420T155730
CREATED:20240906T130133Z
LAST-MODIFIED:20240906T130907Z
UID:8755-1748995200-1749081599@www.parkside.worcs.sch.uk
SUMMARY:Key Stage 3 Softball Cricket Tournament
DESCRIPTION:North Worcestershire – turn up & play tournament to be held at St John’s Middle School. \nTimings to be confirmed.
URL:https://www.parkside.worcs.sch.uk/event/key-stage-3-softball-cricket-tournament/
END:VEVENT
BEGIN:VEVENT
DTSTART;TZID=Europe/London:20250605T130000
DTEND;TZID=Europe/London:20250605T150000
DTSTAMP:20260420T155730
CREATED:20240903T092231Z
LAST-MODIFIED:20240903T092425Z
UID:8673-1749128400-1749135600@www.parkside.worcs.sch.uk
SUMMARY:Year 8 Individual/Year Group Photographs
DESCRIPTION:
URL:https://www.parkside.worcs.sch.uk/event/year-8-individual-year-group-photographs/
END:VEVENT
BEGIN:VEVENT
DTSTART;TZID=Europe/London:20250609T080000
DTEND;TZID=Europe/London:20250613T170000
DTSTAMP:20260420T155730
CREATED:20240903T093606Z
LAST-MODIFIED:20240903T093606Z
UID:8675-1749456000-1749834000@www.parkside.worcs.sch.uk
SUMMARY:Year 5/7 GL Assessments
DESCRIPTION:
URL:https://www.parkside.worcs.sch.uk/event/year-5-7-gl-assessments/
END:VEVENT
BEGIN:VEVENT
DTSTART;VALUE=DATE:20250611
DTEND;VALUE=DATE:20250612
DTSTAMP:20260420T155730
CREATED:20240906T130722Z
LAST-MODIFIED:20240906T130722Z
UID:8757-1749600000-1749686399@www.parkside.worcs.sch.uk
SUMMARY:Key Stage 2 & 3 Mixed Tennis Tournament
DESCRIPTION:North Worcestershire – turn up & play tournament to be held at Aston Fields Middle School. \nTimings to be confirmed.
URL:https://www.parkside.worcs.sch.uk/event/key-stage-2-3-mixed-tennis-tournament/
END:VEVENT
BEGIN:VEVENT
DTSTART;TZID=Europe/London:20250613T130000
DTEND;TZID=Europe/London:20250613T150000
DTSTAMP:20260420T155730
CREATED:20240703T110957Z
LAST-MODIFIED:20240903T095450Z
UID:8288-1749819600-1749826800@www.parkside.worcs.sch.uk
SUMMARY:Year 5 Group photos
DESCRIPTION:
URL:https://www.parkside.worcs.sch.uk/event/year-5-group-photos/
END:VEVENT
BEGIN:VEVENT
DTSTART;VALUE=DATE:20250617
DTEND;VALUE=DATE:20250618
DTSTAMP:20260420T155730
CREATED:20240903T095654Z
LAST-MODIFIED:20240903T095654Z
UID:8678-1750118400-1750204799@www.parkside.worcs.sch.uk
SUMMARY:Key Stage 3 District Athletics
DESCRIPTION:
URL:https://www.parkside.worcs.sch.uk/event/key-stage-3-district-athletics/
END:VEVENT
BEGIN:VEVENT
DTSTART;VALUE=DATE:20250618
DTEND;VALUE=DATE:20250619
DTSTAMP:20260420T155730
CREATED:20240906T131452Z
LAST-MODIFIED:20240906T131452Z
UID:8759-1750204800-1750291199@www.parkside.worcs.sch.uk
SUMMARY:Key Stage 3 Mixed Rounders Tournament
DESCRIPTION:North Worcestershire – turn up & play tournament to be held at RGS Dodderhill. \nTimings to be confirmed.
URL:https://www.parkside.worcs.sch.uk/event/key-stage-3-mixed-rounders-tournament/
END:VEVENT
BEGIN:VEVENT
DTSTART;TZID=Europe/London:20250623T090000
DTEND;TZID=Europe/London:20250623T150000
DTSTAMP:20260420T155730
CREATED:20240903T095905Z
LAST-MODIFIED:20240903T095905Z
UID:8680-1750669200-1750690800@www.parkside.worcs.sch.uk
SUMMARY:Year 8 GL Assessments
DESCRIPTION:
URL:https://www.parkside.worcs.sch.uk/event/year-8-gl-assessments/
END:VEVENT
BEGIN:VEVENT
DTSTART;VALUE=DATE:20250625
DTEND;VALUE=DATE:20250626
DTSTAMP:20260420T155730
CREATED:20240906T131641Z
LAST-MODIFIED:20240906T131728Z
UID:8761-1750809600-1750895999@www.parkside.worcs.sch.uk
SUMMARY:Key Stage 2 Mixed Rounders Tournament
DESCRIPTION:North Worcestershire – turn up & play tournament to be held at RGS Dodderhill. \nTimings to be confirmed.
URL:https://www.parkside.worcs.sch.uk/event/key-stage-2-mixed-rounders-tournament/
END:VEVENT
BEGIN:VEVENT
DTSTART;TZID=Europe/London:20250627T090000
DTEND;TZID=Europe/London:20250627T150000
DTSTAMP:20260420T155730
CREATED:20240903T103528Z
LAST-MODIFIED:20240903T103528Z
UID:8686-1751014800-1751036400@www.parkside.worcs.sch.uk
SUMMARY:Key Stage 2 Final 66 Test
DESCRIPTION:
URL:https://www.parkside.worcs.sch.uk/event/key-stage-2-final-66-test/
END:VEVENT
BEGIN:VEVENT
DTSTART;TZID=Europe/London:20250630T080000
DTEND;TZID=Europe/London:20250704T170000
DTSTAMP:20260420T155730
CREATED:20240903T105832Z
LAST-MODIFIED:20240903T105832Z
UID:8688-1751270400-1751648400@www.parkside.worcs.sch.uk
SUMMARY:Residential/Cultural Week
DESCRIPTION:
URL:https://www.parkside.worcs.sch.uk/event/residential-cultural-week/
END:VEVENT
BEGIN:VEVENT
DTSTART;VALUE=DATE:20250708
DTEND;VALUE=DATE:20250709
DTSTAMP:20260420T155730
CREATED:20240903T110238Z
LAST-MODIFIED:20240903T110238Z
UID:8692-1751932800-1752019199@www.parkside.worcs.sch.uk
SUMMARY:Music Concert
DESCRIPTION:
URL:https://www.parkside.worcs.sch.uk/event/music-concert/
END:VEVENT
BEGIN:VEVENT
DTSTART;TZID=Europe/London:20250708T090000
DTEND;TZID=Europe/London:20250708T150000
DTSTAMP:20260420T155730
CREATED:20240903T110117Z
LAST-MODIFIED:20240903T110117Z
UID:8690-1751965200-1751986800@www.parkside.worcs.sch.uk
SUMMARY:Intra-house Sports Competition
DESCRIPTION:
URL:https://www.parkside.worcs.sch.uk/event/intra-house-sports-competition/
END:VEVENT
BEGIN:VEVENT
DTSTART;TZID=Europe/London:20250709T090000
DTEND;TZID=Europe/London:20250709T150000
DTSTAMP:20260420T155730
CREATED:20240903T110423Z
LAST-MODIFIED:20240903T110423Z
UID:8694-1752051600-1752073200@www.parkside.worcs.sch.uk
SUMMARY:Reserve Day - Intra-house Sports Competition
DESCRIPTION:
URL:https://www.parkside.worcs.sch.uk/event/reserve-day-intra-house-sports-competition/
END:VEVENT
BEGIN:VEVENT
DTSTART;TZID=Europe/London:20250709T180000
DTEND;TZID=Europe/London:20250709T190000
DTSTAMP:20260420T155730
CREATED:20240903T111451Z
LAST-MODIFIED:20240903T111451Z
UID:8696-1752084000-1752087600@www.parkside.worcs.sch.uk
SUMMARY:New Intake Induction Evening
DESCRIPTION:
URL:https://www.parkside.worcs.sch.uk/event/new-intake-induction-evening-3/
END:VEVENT
BEGIN:VEVENT
DTSTART;VALUE=DATE:20250710
DTEND;VALUE=DATE:20250711
DTSTAMP:20260420T155730
CREATED:20240903T112811Z
LAST-MODIFIED:20250312T105943Z
UID:8698-1752105600-1752191999@www.parkside.worcs.sch.uk
SUMMARY:Year 5 Trip to Hollywood Bowl
DESCRIPTION:
URL:https://www.parkside.worcs.sch.uk/event/year-5-trip-to-hollywood-bowl/
END:VEVENT
BEGIN:VEVENT
DTSTART;TZID=Europe/London:20250711T090000
DTEND;TZID=Europe/London:20250711T150000
DTSTAMP:20260420T155730
CREATED:20240903T112952Z
LAST-MODIFIED:20240903T112952Z
UID:8700-1752224400-1752246000@www.parkside.worcs.sch.uk
SUMMARY:Social Awareness Day
DESCRIPTION:
URL:https://www.parkside.worcs.sch.uk/event/social-awareness-day-3/
END:VEVENT
BEGIN:VEVENT
DTSTART;VALUE=DATE:20250714
DTEND;VALUE=DATE:20250715
DTSTAMP:20260420T155730
CREATED:20240903T113208Z
LAST-MODIFIED:20240903T113208Z
UID:8702-1752451200-1752537599@www.parkside.worcs.sch.uk
SUMMARY:Transition Day - Year 8 to High Schools
DESCRIPTION:
URL:https://www.parkside.worcs.sch.uk/event/transition-day-year-8-to-high-schools/
END:VEVENT
BEGIN:VEVENT
DTSTART;VALUE=DATE:20250715
DTEND;VALUE=DATE:20250716
DTSTAMP:20260420T155730
CREATED:20240903T114631Z
LAST-MODIFIED:20240903T114631Z
UID:8704-1752537600-1752623999@www.parkside.worcs.sch.uk
SUMMARY:Year 7 - Upton Warren visit
DESCRIPTION:
URL:https://www.parkside.worcs.sch.uk/event/year-7-upton-warren-visit/
END:VEVENT
BEGIN:VEVENT
DTSTART;VALUE=DATE:20250716
DTEND;VALUE=DATE:20250717
DTSTAMP:20260420T155730
CREATED:20240903T120809Z
LAST-MODIFIED:20240903T120809Z
UID:8708-1752624000-1752710399@www.parkside.worcs.sch.uk
SUMMARY:Year 7 - Upton Warren visit
DESCRIPTION:
URL:https://www.parkside.worcs.sch.uk/event/year-7-upton-warren-visit-2/
END:VEVENT
BEGIN:VEVENT
DTSTART;TZID=Europe/London:20250716T130000
DTEND;TZID=Europe/London:20250716T150000
DTSTAMP:20260420T155730
CREATED:20240903T114829Z
LAST-MODIFIED:20240903T120644Z
UID:8706-1752670800-1752678000@www.parkside.worcs.sch.uk
SUMMARY:Year 8 Presentation Afternoon
DESCRIPTION:
URL:https://www.parkside.worcs.sch.uk/event/year-8-presentation-afternoon-3/
END:VEVENT
BEGIN:VEVENT
DTSTART;TZID=Europe/London:20250717T090000
DTEND;TZID=Europe/London:20250717T150000
DTSTAMP:20260420T155730
CREATED:20240903T121419Z
LAST-MODIFIED:20240903T121501Z
UID:8710-1752742800-1752764400@www.parkside.worcs.sch.uk
SUMMARY:Year 8 Inflatables/Treat Day
DESCRIPTION:
URL:https://www.parkside.worcs.sch.uk/event/year-8-inflatables-treat-day/
END:VEVENT
BEGIN:VEVENT
DTSTART;TZID=Europe/London:20250718T090000
DTEND;TZID=Europe/London:20250718T150000
DTSTAMP:20260420T155730
CREATED:20240903T121647Z
LAST-MODIFIED:20240903T121855Z
UID:8712-1752829200-1752850800@www.parkside.worcs.sch.uk
SUMMARY:Talent Show/Year 8 Leavers' Assembly
DESCRIPTION:
URL:https://www.parkside.worcs.sch.uk/event/talent-show-year-8-leavers-assembly/
END:VEVENT
BEGIN:VEVENT
DTSTART;TZID=Europe/London:20250718T151500
DTEND;TZID=Europe/London:20250718T151500
DTSTAMP:20260420T155730
CREATED:20240123T110451Z
LAST-MODIFIED:20240123T110451Z
UID:7376-1752851700-1752851700@www.parkside.worcs.sch.uk
SUMMARY:School closes for Summer holidays
DESCRIPTION:
URL:https://www.parkside.worcs.sch.uk/event/school-closes-for-summer-holidays-4/
END:VEVENT
BEGIN:VEVENT
DTSTART;VALUE=DATE:20250721
DTEND;VALUE=DATE:20250722
DTSTAMP:20260420T155730
CREATED:20240123T110557Z
LAST-MODIFIED:20240716T082553Z
UID:7379-1753056000-1753142399@www.parkside.worcs.sch.uk
SUMMARY:School closed - TE day
DESCRIPTION:
URL:https://www.parkside.worcs.sch.uk/event/school-closed-te-day-5-2/
END:VEVENT
BEGIN:VEVENT
DTSTART;VALUE=DATE:20250901
DTEND;VALUE=DATE:20250902
DTSTAMP:20260420T155730
CREATED:20250630T114251Z
LAST-MODIFIED:20250630T114309Z
UID:10156-1756684800-1756771199@www.parkside.worcs.sch.uk
SUMMARY:School closed - TE Day
DESCRIPTION:
URL:https://www.parkside.worcs.sch.uk/event/school-closed-te-days/
END:VEVENT
END:VCALENDAR