BEGIN:VCALENDAR
VERSION:2.0
PRODID:-//Parkside Middle School - ECPv6.15.20//NONSGML v1.0//EN
CALSCALE:GREGORIAN
METHOD:PUBLISH
X-ORIGINAL-URL:https://www.parkside.worcs.sch.uk
X-WR-CALDESC:Events for Parkside Middle School
REFRESH-INTERVAL;VALUE=DURATION:PT1H
X-Robots-Tag:noindex
X-PUBLISHED-TTL:PT1H
BEGIN:VTIMEZONE
TZID:Europe/London
BEGIN:DAYLIGHT
TZOFFSETFROM:+0000
TZOFFSETTO:+0100
TZNAME:BST
DTSTART:20240331T010000
END:DAYLIGHT
BEGIN:STANDARD
TZOFFSETFROM:+0100
TZOFFSETTO:+0000
TZNAME:GMT
DTSTART:20241027T010000
END:STANDARD
BEGIN:DAYLIGHT
TZOFFSETFROM:+0000
TZOFFSETTO:+0100
TZNAME:BST
DTSTART:20250330T010000
END:DAYLIGHT
BEGIN:STANDARD
TZOFFSETFROM:+0100
TZOFFSETTO:+0000
TZNAME:GMT
DTSTART:20251026T010000
END:STANDARD
BEGIN:DAYLIGHT
TZOFFSETFROM:+0000
TZOFFSETTO:+0100
TZNAME:BST
DTSTART:20260329T010000
END:DAYLIGHT
BEGIN:STANDARD
TZOFFSETFROM:+0100
TZOFFSETTO:+0000
TZNAME:GMT
DTSTART:20261025T010000
END:STANDARD
END:VTIMEZONE
BEGIN:VEVENT
DTSTART;VALUE=DATE:20250114
DTEND;VALUE=DATE:20250115
DTSTAMP:20260420T214103
CREATED:20240902T142229Z
LAST-MODIFIED:20240902T142229Z
UID:8613-1736812800-1736899199@www.parkside.worcs.sch.uk
SUMMARY:Young Voices
DESCRIPTION:
URL:https://www.parkside.worcs.sch.uk/event/young-voices-2/
END:VEVENT
BEGIN:VEVENT
DTSTART;VALUE=DATE:20250117
DTEND;VALUE=DATE:20250118
DTSTAMP:20260420T214103
CREATED:20240902T142343Z
LAST-MODIFIED:20240902T142343Z
UID:8615-1737072000-1737158399@www.parkside.worcs.sch.uk
SUMMARY:Mid-year Reports to parents
DESCRIPTION:
URL:https://www.parkside.worcs.sch.uk/event/mid-year-reports-to-parents/
END:VEVENT
BEGIN:VEVENT
DTSTART;VALUE=DATE:20250127
DTEND;VALUE=DATE:20250128
DTSTAMP:20260420T214103
CREATED:20240902T142451Z
LAST-MODIFIED:20240902T142451Z
UID:8617-1737936000-1738022399@www.parkside.worcs.sch.uk
SUMMARY:Holocaust Memorial Day
DESCRIPTION:
URL:https://www.parkside.worcs.sch.uk/event/holocaust-memorial-day/
END:VEVENT
BEGIN:VEVENT
DTSTART;VALUE=DATE:20250204
DTEND;VALUE=DATE:20250206
DTSTAMP:20260420T214103
CREATED:20250203T161029Z
LAST-MODIFIED:20250203T161029Z
UID:9603-1738627200-1738799999@www.parkside.worcs.sch.uk
SUMMARY:Ofsted Inspection
DESCRIPTION:
URL:https://www.parkside.worcs.sch.uk/event/ofsted-inspection/
END:VEVENT
BEGIN:VEVENT
DTSTART;VALUE=DATE:20250205
DTEND;VALUE=DATE:20250206
DTSTAMP:20260420T214103
CREATED:20240906T124851Z
LAST-MODIFIED:20240906T125432Z
UID:8747-1738713600-1738799999@www.parkside.worcs.sch.uk
SUMMARY:Key Stage 2 Mixed Hockey Tournament
DESCRIPTION:North Worcestershire – turn up & play tournament to be held at Alvechurch Middle School. \nTimings to be confirmed.
URL:https://www.parkside.worcs.sch.uk/event/key-stage-2-mixed-hockey-tournament/
END:VEVENT
BEGIN:VEVENT
DTSTART;TZID=Europe/London:20250212T090000
DTEND;TZID=Europe/London:20250212T150000
DTSTAMP:20260420T214103
CREATED:20240902T142812Z
LAST-MODIFIED:20240902T142812Z
UID:8621-1739350800-1739372400@www.parkside.worcs.sch.uk
SUMMARY:Key Stage 2 - 66 Test 4
DESCRIPTION:
URL:https://www.parkside.worcs.sch.uk/event/key-stage-2-66-test-4/
END:VEVENT
BEGIN:VEVENT
DTSTART;TZID=Europe/London:20250214T151500
DTEND;TZID=Europe/London:20250214T151500
DTSTAMP:20260420T214103
CREATED:20240123T105400Z
LAST-MODIFIED:20240123T105430Z
UID:7360-1739546100-1739546100@www.parkside.worcs.sch.uk
SUMMARY:School closes for the half term
DESCRIPTION:
URL:https://www.parkside.worcs.sch.uk/event/school-closes-for-the-half-term/
END:VEVENT
BEGIN:VEVENT
DTSTART;TZID=Europe/London:20250224T085000
DTEND;TZID=Europe/London:20250224T151500
DTSTAMP:20260420T214103
CREATED:20240123T105538Z
LAST-MODIFIED:20240123T105538Z
UID:7362-1740387000-1740410100@www.parkside.worcs.sch.uk
SUMMARY:School reopens
DESCRIPTION:
URL:https://www.parkside.worcs.sch.uk/event/school-reopens-15/
END:VEVENT
BEGIN:VEVENT
DTSTART;TZID=Europe/London:20250226T090000
DTEND;TZID=Europe/London:20250226T150000
DTSTAMP:20260420T214103
CREATED:20240902T142951Z
LAST-MODIFIED:20240902T143009Z
UID:8623-1740560400-1740582000@www.parkside.worcs.sch.uk
SUMMARY:5SN start swimming
DESCRIPTION:
URL:https://www.parkside.worcs.sch.uk/event/5sn-start-swimming/
END:VEVENT
BEGIN:VEVENT
DTSTART;TZID=Europe/London:20250303T080000
DTEND;TZID=Europe/London:20250307T170000
DTSTAMP:20260420T214103
CREATED:20240902T143153Z
LAST-MODIFIED:20240902T143153Z
UID:8626-1740988800-1741366800@www.parkside.worcs.sch.uk
SUMMARY:National Careers Week
DESCRIPTION:
URL:https://www.parkside.worcs.sch.uk/event/national-careers-week-2/
END:VEVENT
BEGIN:VEVENT
DTSTART;TZID=Europe/London:20250304T160000
DTEND;TZID=Europe/London:20250304T190000
DTSTAMP:20260420T214103
CREATED:20240902T143311Z
LAST-MODIFIED:20240902T143755Z
UID:8628-1741104000-1741114800@www.parkside.worcs.sch.uk
SUMMARY:Parents' Evening (Face-to-Face)
DESCRIPTION:
URL:https://www.parkside.worcs.sch.uk/event/parents-evening-face-to-face-3/
END:VEVENT
BEGIN:VEVENT
DTSTART;VALUE=DATE:20250306
DTEND;VALUE=DATE:20250307
DTSTAMP:20260420T214103
CREATED:20240902T143442Z
LAST-MODIFIED:20240902T143442Z
UID:8630-1741219200-1741305599@www.parkside.worcs.sch.uk
SUMMARY:World Book Day
DESCRIPTION:
URL:https://www.parkside.worcs.sch.uk/event/world-book-day-2/
END:VEVENT
BEGIN:VEVENT
DTSTART;TZID=Europe/London:20250306T040000
DTEND;TZID=Europe/London:20250306T190000
DTSTAMP:20260420T214103
CREATED:20240902T143624Z
LAST-MODIFIED:20240902T143700Z
UID:8632-1741233600-1741287600@www.parkside.worcs.sch.uk
SUMMARY:Parents' Evening (Virtual)
DESCRIPTION:
URL:https://www.parkside.worcs.sch.uk/event/parents-evening-virtual-3/
END:VEVENT
BEGIN:VEVENT
DTSTART;TZID=Europe/London:20250311T040000
DTEND;TZID=Europe/London:20250311T190000
DTSTAMP:20260420T214103
CREATED:20240902T144005Z
LAST-MODIFIED:20240902T144005Z
UID:8635-1741665600-1741719600@www.parkside.worcs.sch.uk
SUMMARY:Parents' Evening (Virtual)
DESCRIPTION:
URL:https://www.parkside.worcs.sch.uk/event/parents-evening-virtual-4/
END:VEVENT
BEGIN:VEVENT
DTSTART;VALUE=DATE:20250319
DTEND;VALUE=DATE:20250320
DTSTAMP:20260420T214103
CREATED:20240906T125145Z
LAST-MODIFIED:20240906T125403Z
UID:8749-1742342400-1742428799@www.parkside.worcs.sch.uk
SUMMARY:Key Stage 3 Mixed Hockey Tournament
DESCRIPTION:North Worcestershire – turn up & play tournament to be held at Aston Fields Middle School. \nTimings to be confirmed.
URL:https://www.parkside.worcs.sch.uk/event/key-stage-3-mixed-hockey-tournament/
END:VEVENT
BEGIN:VEVENT
DTSTART;TZID=Europe/London:20250324T080000
DTEND;TZID=Europe/London:20250328T170000
DTSTAMP:20260420T214103
CREATED:20240902T144112Z
LAST-MODIFIED:20240902T144112Z
UID:8638-1742803200-1743181200@www.parkside.worcs.sch.uk
SUMMARY:Year 6 Mocks SATs Assessments
DESCRIPTION:
URL:https://www.parkside.worcs.sch.uk/event/year-6-mocks-sats-assessments/
END:VEVENT
BEGIN:VEVENT
DTSTART;TZID=Europe/London:20250408T170000
DTEND;TZID=Europe/London:20250408T180000
DTSTAMP:20260420T214103
CREATED:20240902T144436Z
LAST-MODIFIED:20250407T091741Z
UID:8641-1744131600-1744135200@www.parkside.worcs.sch.uk
SUMMARY:Spring Music Concert
DESCRIPTION:
URL:https://www.parkside.worcs.sch.uk/event/spring-music-concert/
END:VEVENT
BEGIN:VEVENT
DTSTART;TZID=Europe/London:20250411T090000
DTEND;TZID=Europe/London:20250411T150000
DTSTAMP:20260420T214103
CREATED:20240902T144546Z
LAST-MODIFIED:20240902T144546Z
UID:8643-1744362000-1744383600@www.parkside.worcs.sch.uk
SUMMARY:Key Stage 2 - Clay in a Day
DESCRIPTION:
URL:https://www.parkside.worcs.sch.uk/event/key-stage-2-clay-in-a-day/
END:VEVENT
BEGIN:VEVENT
DTSTART;TZID=Europe/London:20250411T090000
DTEND;TZID=Europe/London:20250411T150000
DTSTAMP:20260420T214103
CREATED:20240902T144645Z
LAST-MODIFIED:20240902T144645Z
UID:8645-1744362000-1744383600@www.parkside.worcs.sch.uk
SUMMARY:Key Stage 3 - Reward Trip
DESCRIPTION:
URL:https://www.parkside.worcs.sch.uk/event/key-stage-3-reward-trip/
END:VEVENT
BEGIN:VEVENT
DTSTART;TZID=Europe/London:20250411T151500
DTEND;TZID=Europe/London:20250411T151500
DTSTAMP:20260420T214103
CREATED:20240123T105719Z
LAST-MODIFIED:20240123T105719Z
UID:7364-1744384500-1744384500@www.parkside.worcs.sch.uk
SUMMARY:School closes for Easter holidays
DESCRIPTION:
URL:https://www.parkside.worcs.sch.uk/event/school-closes-for-easter-holidays-3/
END:VEVENT
BEGIN:VEVENT
DTSTART;TZID=Europe/London:20250424T090000
DTEND;TZID=Europe/London:20250424T150000
DTSTAMP:20260420T214103
CREATED:20240903T101902Z
LAST-MODIFIED:20240903T101902Z
UID:8684-1745485200-1745506800@www.parkside.worcs.sch.uk
SUMMARY:Key Stage 2 District Athletics
DESCRIPTION:
URL:https://www.parkside.worcs.sch.uk/event/key-stage-2-district-athletics/
END:VEVENT
BEGIN:VEVENT
DTSTART;TZID=Europe/London:20250428T085000
DTEND;TZID=Europe/London:20250428T151500
DTSTAMP:20260420T214103
CREATED:20240123T105830Z
LAST-MODIFIED:20240123T105830Z
UID:7366-1745830200-1745853300@www.parkside.worcs.sch.uk
SUMMARY:School reopens
DESCRIPTION:
URL:https://www.parkside.worcs.sch.uk/event/school-reopens-16/
END:VEVENT
BEGIN:VEVENT
DTSTART;VALUE=DATE:20250430
DTEND;VALUE=DATE:20250501
DTSTAMP:20260420T214103
CREATED:20240902T144753Z
LAST-MODIFIED:20240902T144753Z
UID:8647-1745971200-1746057599@www.parkside.worcs.sch.uk
SUMMARY:5EO swimming starts
DESCRIPTION:
URL:https://www.parkside.worcs.sch.uk/event/5eo-swimming-starts/
END:VEVENT
BEGIN:VEVENT
DTSTART;VALUE=DATE:20250505
DTEND;VALUE=DATE:20250506
DTSTAMP:20260420T214103
CREATED:20240123T105938Z
LAST-MODIFIED:20240123T105938Z
UID:7368-1746403200-1746489599@www.parkside.worcs.sch.uk
SUMMARY:School closed for May day
DESCRIPTION:
URL:https://www.parkside.worcs.sch.uk/event/school-closed-for-may-day/
END:VEVENT
BEGIN:VEVENT
DTSTART;TZID=Europe/London:20250514T090000
DTEND;TZID=Europe/London:20250514T150000
DTSTAMP:20260420T214103
CREATED:20240903T071803Z
LAST-MODIFIED:20240903T073156Z
UID:8653-1747213200-1747234800@www.parkside.worcs.sch.uk
SUMMARY:Year 5 - 66 Test 5
DESCRIPTION:
URL:https://www.parkside.worcs.sch.uk/event/year-5-66-test-5/
END:VEVENT
BEGIN:VEVENT
DTSTART;TZID=Europe/London:20250519T080000
DTEND;TZID=Europe/London:20250523T170000
DTSTAMP:20260420T214103
CREATED:20240903T074944Z
LAST-MODIFIED:20240903T074944Z
UID:8655-1747641600-1748019600@www.parkside.worcs.sch.uk
SUMMARY:Year 6 Inspiration Week
DESCRIPTION:
URL:https://www.parkside.worcs.sch.uk/event/year-6-inspiration-week-2/
END:VEVENT
BEGIN:VEVENT
DTSTART;VALUE=DATE:20250520
DTEND;VALUE=DATE:20250521
DTSTAMP:20260420T214103
CREATED:20250326T102152Z
LAST-MODIFIED:20250404T083705Z
UID:9877-1747699200-1747785599@www.parkside.worcs.sch.uk
SUMMARY:HPV vaccincations - Year 8
DESCRIPTION:
URL:https://www.parkside.worcs.sch.uk/event/hpv-vaccincations-year-8/
END:VEVENT
BEGIN:VEVENT
DTSTART;VALUE=DATE:20250521
DTEND;VALUE=DATE:20250522
DTSTAMP:20260420T214103
CREATED:20240906T125627Z
LAST-MODIFIED:20240906T131034Z
UID:8753-1747785600-1747871999@www.parkside.worcs.sch.uk
SUMMARY:Key Stage 2 Softball Cricket Tournament
DESCRIPTION:North Worcestershire – turn up & play tournament to be held at St John’s Middle School. \nTimings to be confirmed.
URL:https://www.parkside.worcs.sch.uk/event/key-stage-2-softball-cricket-tournament/
END:VEVENT
BEGIN:VEVENT
DTSTART;TZID=Europe/London:20250523T090000
DTEND;TZID=Europe/London:20250523T150000
DTSTAMP:20260420T214103
CREATED:20240903T075613Z
LAST-MODIFIED:20240903T075613Z
UID:8660-1747990800-1748012400@www.parkside.worcs.sch.uk
SUMMARY:Year 6 Young Citizens Challenge
DESCRIPTION:
URL:https://www.parkside.worcs.sch.uk/event/year-6-young-citizens-challenge-3/
END:VEVENT
BEGIN:VEVENT
DTSTART;TZID=Europe/London:20250523T090000
DTEND;TZID=Europe/London:20250523T150000
DTSTAMP:20260420T214103
CREATED:20240903T075835Z
LAST-MODIFIED:20240903T075835Z
UID:8662-1747990800-1748012400@www.parkside.worcs.sch.uk
SUMMARY:Year 5 Art Scheme in a day
DESCRIPTION:
URL:https://www.parkside.worcs.sch.uk/event/year-5-art-scheme-in-a-day-2/
END:VEVENT
END:VCALENDAR