BEGIN:VCALENDAR
VERSION:2.0
PRODID:-//Parkside Middle School - ECPv6.15.20//NONSGML v1.0//EN
CALSCALE:GREGORIAN
METHOD:PUBLISH
X-ORIGINAL-URL:https://www.parkside.worcs.sch.uk
X-WR-CALDESC:Events for Parkside Middle School
REFRESH-INTERVAL;VALUE=DURATION:PT1H
X-Robots-Tag:noindex
X-PUBLISHED-TTL:PT1H
BEGIN:VTIMEZONE
TZID:Europe/London
BEGIN:DAYLIGHT
TZOFFSETFROM:+0000
TZOFFSETTO:+0100
TZNAME:BST
DTSTART:20230326T010000
END:DAYLIGHT
BEGIN:STANDARD
TZOFFSETFROM:+0100
TZOFFSETTO:+0000
TZNAME:GMT
DTSTART:20231029T010000
END:STANDARD
BEGIN:DAYLIGHT
TZOFFSETFROM:+0000
TZOFFSETTO:+0100
TZNAME:BST
DTSTART:20240331T010000
END:DAYLIGHT
BEGIN:STANDARD
TZOFFSETFROM:+0100
TZOFFSETTO:+0000
TZNAME:GMT
DTSTART:20241027T010000
END:STANDARD
BEGIN:DAYLIGHT
TZOFFSETFROM:+0000
TZOFFSETTO:+0100
TZNAME:BST
DTSTART:20250330T010000
END:DAYLIGHT
BEGIN:STANDARD
TZOFFSETFROM:+0100
TZOFFSETTO:+0000
TZNAME:GMT
DTSTART:20251026T010000
END:STANDARD
END:VTIMEZONE
BEGIN:VEVENT
DTSTART;TZID=Europe/London:20241016T090000
DTEND;TZID=Europe/London:20241016T150000
DTSTAMP:20260420T215201
CREATED:20240902T130324Z
LAST-MODIFIED:20240902T133006Z
UID:8552-1729069200-1729090800@www.parkside.worcs.sch.uk
SUMMARY:Key Stage 2 - 66 Test 2
DESCRIPTION:
URL:https://www.parkside.worcs.sch.uk/event/key-stage-2-66-test-2/
END:VEVENT
BEGIN:VEVENT
DTSTART;TZID=Europe/London:20241017T180000
DTEND;TZID=Europe/London:20241017T190000
DTSTAMP:20260420T215201
CREATED:20240902T130535Z
LAST-MODIFIED:20240902T130535Z
UID:8554-1729188000-1729191600@www.parkside.worcs.sch.uk
SUMMARY:Year 6 Information Evening
DESCRIPTION:
URL:https://www.parkside.worcs.sch.uk/event/year-6-information-evening-3/
END:VEVENT
BEGIN:VEVENT
DTSTART;TZID=Europe/London:20241018T140000
DTEND;TZID=Europe/London:20241018T150000
DTSTAMP:20260420T215201
CREATED:20240927T124938Z
LAST-MODIFIED:20240927T125629Z
UID:8987-1729260000-1729263600@www.parkside.worcs.sch.uk
SUMMARY:Year 7 Family Thrive Afternoon
DESCRIPTION:
URL:https://www.parkside.worcs.sch.uk/event/year-7-family-thrive-afternoon-2/
END:VEVENT
BEGIN:VEVENT
DTSTART;VALUE=DATE:20241023
DTEND;VALUE=DATE:20241024
DTSTAMP:20260420T215201
CREATED:20240903T140225Z
LAST-MODIFIED:20240903T140301Z
UID:8730-1729641600-1729727999@www.parkside.worcs.sch.uk
SUMMARY:Year 5 Girls Netball Tournament
DESCRIPTION:North Worcestershire – turn up & play tournament to be held at Catshill Middle School. \nTimings to be confirmed.
URL:https://www.parkside.worcs.sch.uk/event/year-5-girls-netball-tournament/
END:VEVENT
BEGIN:VEVENT
DTSTART;VALUE=DATE:20241023
DTEND;VALUE=DATE:20241024
DTSTAMP:20260420T215201
CREATED:20240903T140801Z
LAST-MODIFIED:20240903T140801Z
UID:8732-1729641600-1729727999@www.parkside.worcs.sch.uk
SUMMARY:Year 5 Boys Football Tournament
DESCRIPTION:North Worcestershire – turn up & play tournament to be held at Catshill Middle School. \nTimings to be confirmed.
URL:https://www.parkside.worcs.sch.uk/event/year-5-boys-football-tournament/
END:VEVENT
BEGIN:VEVENT
DTSTART;TZID=Europe/London:20241024T151500
DTEND;TZID=Europe/London:20241024T151500
DTSTAMP:20260420T215201
CREATED:20240123T101817Z
LAST-MODIFIED:20240123T101817Z
UID:7348-1729782900-1729782900@www.parkside.worcs.sch.uk
SUMMARY:School closes for half term
DESCRIPTION:
URL:https://www.parkside.worcs.sch.uk/event/school-closes-for-half-term-7/
END:VEVENT
BEGIN:VEVENT
DTSTART;VALUE=DATE:20241025
DTEND;VALUE=DATE:20241026
DTSTAMP:20260420T215201
CREATED:20240123T101948Z
LAST-MODIFIED:20240716T082656Z
UID:7350-1729814400-1729900799@www.parkside.worcs.sch.uk
SUMMARY:School closed - TE day
DESCRIPTION:
URL:https://www.parkside.worcs.sch.uk/event/school-closed-te-day-2-2/
END:VEVENT
BEGIN:VEVENT
DTSTART;TZID=Europe/London:20241104T085000
DTEND;TZID=Europe/London:20241104T151500
DTSTAMP:20260420T215201
CREATED:20240123T102130Z
LAST-MODIFIED:20240123T102130Z
UID:7352-1730710200-1730733300@www.parkside.worcs.sch.uk
SUMMARY:School reopens
DESCRIPTION:
URL:https://www.parkside.worcs.sch.uk/event/school-reopens-13/
END:VEVENT
BEGIN:VEVENT
DTSTART;VALUE=DATE:20241106
DTEND;VALUE=DATE:20241107
DTSTAMP:20260420T215201
CREATED:20240902T135113Z
LAST-MODIFIED:20241018T073913Z
UID:8572-1730851200-1730937599@www.parkside.worcs.sch.uk
SUMMARY:5HG Start Swimming
DESCRIPTION:
URL:https://www.parkside.worcs.sch.uk/event/5hg-start-swimming/
END:VEVENT
BEGIN:VEVENT
DTSTART;VALUE=DATE:20241108
DTEND;VALUE=DATE:20241109
DTSTAMP:20260420T215201
CREATED:20240902T131319Z
LAST-MODIFIED:20241018T073825Z
UID:8556-1731024000-1731110399@www.parkside.worcs.sch.uk
SUMMARY:Year 6 - Black Country Museum Trip
DESCRIPTION:
URL:https://www.parkside.worcs.sch.uk/event/year-6-black-country-museum-trip/
END:VEVENT
BEGIN:VEVENT
DTSTART;TZID=Europe/London:20241108T090000
DTEND;TZID=Europe/London:20241108T150000
DTSTAMP:20260420T215201
CREATED:20240902T135250Z
LAST-MODIFIED:20240902T135250Z
UID:8574-1731056400-1731078000@www.parkside.worcs.sch.uk
SUMMARY:Inspiration Day - Year 5 Neurodiversity Day
DESCRIPTION:
URL:https://www.parkside.worcs.sch.uk/event/inspiration-day-year-5-neurodiversity-day/
END:VEVENT
BEGIN:VEVENT
DTSTART;TZID=Europe/London:20241112T093000
DTEND;TZID=Europe/London:20241112T103000
DTSTAMP:20260420T215201
CREATED:20240902T135436Z
LAST-MODIFIED:20240913T075438Z
UID:8576-1731403800-1731407400@www.parkside.worcs.sch.uk
SUMMARY:Open Morning #1
DESCRIPTION:
URL:https://www.parkside.worcs.sch.uk/event/open-morning-1/
END:VEVENT
BEGIN:VEVENT
DTSTART;TZID=Europe/London:20241112T113000
DTEND;TZID=Europe/London:20241112T123000
DTSTAMP:20260420T215201
CREATED:20240902T135622Z
LAST-MODIFIED:20240913T075310Z
UID:8579-1731411000-1731414600@www.parkside.worcs.sch.uk
SUMMARY:Open Morning #1 - second session
DESCRIPTION:
URL:https://www.parkside.worcs.sch.uk/event/open-morning-1-second-session/
END:VEVENT
BEGIN:VEVENT
DTSTART;TZID=Europe/London:20241112T160000
DTEND;TZID=Europe/London:20241112T190000
DTSTAMP:20260420T215201
CREATED:20240902T135906Z
LAST-MODIFIED:20240902T141040Z
UID:8583-1731427200-1731438000@www.parkside.worcs.sch.uk
SUMMARY:Parents' Evening (Face-to-Face)
DESCRIPTION:
URL:https://www.parkside.worcs.sch.uk/event/parents-evening-face-to-face/
END:VEVENT
BEGIN:VEVENT
DTSTART;VALUE=DATE:20241113
DTEND;VALUE=DATE:20241114
DTSTAMP:20260420T215201
CREATED:20240903T141205Z
LAST-MODIFIED:20240903T141734Z
UID:8734-1731456000-1731542399@www.parkside.worcs.sch.uk
SUMMARY:Key Stage 3 Boys Tag Rugby Tournament
DESCRIPTION:North Worcestershire – turn up & play tournament to be held at Westacre Middle School. \nTimings to be confirmed.
URL:https://www.parkside.worcs.sch.uk/event/key-stage-3-boys-tag-rugby-tournament/
END:VEVENT
BEGIN:VEVENT
DTSTART;VALUE=DATE:20241113
DTEND;VALUE=DATE:20241114
DTSTAMP:20260420T215201
CREATED:20240903T141934Z
LAST-MODIFIED:20240906T124501Z
UID:8736-1731456000-1731542399@www.parkside.worcs.sch.uk
SUMMARY:Key Stage 3 Girls Football Tournament
DESCRIPTION:North Worcestershire – turn up & play tournament to be held at Westacre Middle School. \nTimings to be confirmed.
URL:https://www.parkside.worcs.sch.uk/event/key-stage-3-girls-football-tournament/
END:VEVENT
BEGIN:VEVENT
DTSTART;TZID=Europe/London:20241114T090000
DTEND;TZID=Europe/London:20241114T150000
DTSTAMP:20260420T215201
CREATED:20240902T140013Z
LAST-MODIFIED:20240902T140013Z
UID:8585-1731574800-1731596400@www.parkside.worcs.sch.uk
SUMMARY:Primary Maths Challenge
DESCRIPTION:
URL:https://www.parkside.worcs.sch.uk/event/primary-maths-challenge/
END:VEVENT
BEGIN:VEVENT
DTSTART;TZID=Europe/London:20241114T160000
DTEND;TZID=Europe/London:20241114T190000
DTSTAMP:20260420T215201
CREATED:20240902T140121Z
LAST-MODIFIED:20241018T140310Z
UID:8587-1731600000-1731610800@www.parkside.worcs.sch.uk
SUMMARY:Parents' Evening (Face-to-Face)
DESCRIPTION:
URL:https://www.parkside.worcs.sch.uk/event/parents-evening-face-to-face-2/
END:VEVENT
BEGIN:VEVENT
DTSTART;TZID=Europe/London:20241115T090000
DTEND;TZID=Europe/London:20241115T150000
DTSTAMP:20260420T215201
CREATED:20240902T140457Z
LAST-MODIFIED:20240902T140457Z
UID:8591-1731661200-1731682800@www.parkside.worcs.sch.uk
SUMMARY:Flu vaccine
DESCRIPTION:
URL:https://www.parkside.worcs.sch.uk/event/flu-vaccine/
END:VEVENT
BEGIN:VEVENT
DTSTART;TZID=Europe/London:20241119T093000
DTEND;TZID=Europe/London:20241119T103000
DTSTAMP:20260420T215201
CREATED:20240902T140623Z
LAST-MODIFIED:20240913T075136Z
UID:8593-1732008600-1732012200@www.parkside.worcs.sch.uk
SUMMARY:Open Morning #2
DESCRIPTION:
URL:https://www.parkside.worcs.sch.uk/event/open-morning-2/
END:VEVENT
BEGIN:VEVENT
DTSTART;TZID=Europe/London:20241119T113000
DTEND;TZID=Europe/London:20241119T123000
DTSTAMP:20260420T215201
CREATED:20240902T140735Z
LAST-MODIFIED:20240913T075031Z
UID:8595-1732015800-1732019400@www.parkside.worcs.sch.uk
SUMMARY:Open Morning #2 - second session
DESCRIPTION:
URL:https://www.parkside.worcs.sch.uk/event/open-morning-2-second-session/
END:VEVENT
BEGIN:VEVENT
DTSTART;TZID=Europe/London:20241119T160000
DTEND;TZID=Europe/London:20241119T190000
DTSTAMP:20260420T215201
CREATED:20240902T140904Z
LAST-MODIFIED:20241018T141338Z
UID:8597-1732032000-1732042800@www.parkside.worcs.sch.uk
SUMMARY:Parents' Evening (Virtual)
DESCRIPTION:
URL:https://www.parkside.worcs.sch.uk/event/parents-evening-virtual-2/
END:VEVENT
BEGIN:VEVENT
DTSTART;VALUE=DATE:20241120
DTEND;VALUE=DATE:20241121
DTSTAMP:20260420T215201
CREATED:20240906T123034Z
LAST-MODIFIED:20240906T123112Z
UID:8741-1732060800-1732147199@www.parkside.worcs.sch.uk
SUMMARY:Key Stage 2 Boys Tag Rugby Tournament
DESCRIPTION:North Worcestershire – turn up & play tournament to be held at Westacre Middle School. \nTimings to be confirmed.
URL:https://www.parkside.worcs.sch.uk/event/key-stage-2-boys-tag-rugby-tournament/
END:VEVENT
BEGIN:VEVENT
DTSTART;VALUE=DATE:20241120
DTEND;VALUE=DATE:20241121
DTSTAMP:20260420T215201
CREATED:20240906T123805Z
LAST-MODIFIED:20240906T124220Z
UID:8743-1732060800-1732147199@www.parkside.worcs.sch.uk
SUMMARY:Key Stage 2 Girls Football Tournament
DESCRIPTION:North Worcestershire – turn up & play tournament to be held at Westacre Middle School. \nTimings to be confirmed.
URL:https://www.parkside.worcs.sch.uk/event/key-stage-2-girls-football-tournament/
END:VEVENT
BEGIN:VEVENT
DTSTART;TZID=Europe/London:20241204T090000
DTEND;TZID=Europe/London:20241204T150000
DTSTAMP:20260420T215201
CREATED:20240902T141241Z
LAST-MODIFIED:20240902T142711Z
UID:8601-1733302800-1733324400@www.parkside.worcs.sch.uk
SUMMARY:Key Stage 2 - 66 Test #3
DESCRIPTION:
URL:https://www.parkside.worcs.sch.uk/event/key-stage-2-66-test-3/
END:VEVENT
BEGIN:VEVENT
DTSTART;VALUE=DATE:20241210
DTEND;VALUE=DATE:20241211
DTSTAMP:20260420T215201
CREATED:20240902T141432Z
LAST-MODIFIED:20240902T141432Z
UID:8604-1733788800-1733875199@www.parkside.worcs.sch.uk
SUMMARY:Christmas Arts Concert
DESCRIPTION:
URL:https://www.parkside.worcs.sch.uk/event/christmas-arts-concert/
END:VEVENT
BEGIN:VEVENT
DTSTART;VALUE=DATE:20241213
DTEND;VALUE=DATE:20241214
DTSTAMP:20260420T215201
CREATED:20241211T150403Z
LAST-MODIFIED:20241211T150403Z
UID:9391-1734048000-1734134399@www.parkside.worcs.sch.uk
SUMMARY:Santa Dash - All Years
DESCRIPTION:
URL:https://www.parkside.worcs.sch.uk/event/santa-dash-all-years/
END:VEVENT
BEGIN:VEVENT
DTSTART;TZID=Europe/London:20241217T090000
DTEND;TZID=Europe/London:20241217T150000
DTSTAMP:20260420T215201
CREATED:20241210T123030Z
LAST-MODIFIED:20241211T151216Z
UID:9368-1734426000-1734447600@www.parkside.worcs.sch.uk
SUMMARY:Year 8 Cinema reward trip
DESCRIPTION:
URL:https://www.parkside.worcs.sch.uk/event/year-8-cinema-reward-trip-2/
END:VEVENT
BEGIN:VEVENT
DTSTART;TZID=Europe/London:20241217T164500
DTEND;TZID=Europe/London:20241217T180000
DTSTAMP:20260420T215201
CREATED:20241211T151012Z
LAST-MODIFIED:20241211T151056Z
UID:9393-1734453900-1734458400@www.parkside.worcs.sch.uk
SUMMARY:Music Concert
DESCRIPTION:Parents/carers with reserved places are welcome to arrive from 4.45pm\, where there will be mince pies on offer.\nThe concert will run between 5-6pm.
URL:https://www.parkside.worcs.sch.uk/event/music-concert-2/
END:VEVENT
BEGIN:VEVENT
DTSTART;VALUE=DATE:20241218
DTEND;VALUE=DATE:20241219
DTSTAMP:20260420T215201
CREATED:20240902T141542Z
LAST-MODIFIED:20240902T141611Z
UID:8606-1734480000-1734566399@www.parkside.worcs.sch.uk
SUMMARY:Christmas Dinner
DESCRIPTION:
URL:https://www.parkside.worcs.sch.uk/event/christmas-dinner-2/
END:VEVENT
END:VCALENDAR