BEGIN:VCALENDAR
VERSION:2.0
PRODID:-//Parkside Middle School - ECPv6.15.20//NONSGML v1.0//EN
CALSCALE:GREGORIAN
METHOD:PUBLISH
X-WR-CALNAME:Parkside Middle School
X-ORIGINAL-URL:https://www.parkside.worcs.sch.uk
X-WR-CALDESC:Events for Parkside Middle School
REFRESH-INTERVAL;VALUE=DURATION:PT1H
X-Robots-Tag:noindex
X-PUBLISHED-TTL:PT1H
BEGIN:VTIMEZONE
TZID:Europe/London
BEGIN:DAYLIGHT
TZOFFSETFROM:+0000
TZOFFSETTO:+0100
TZNAME:BST
DTSTART:20230326T010000
END:DAYLIGHT
BEGIN:STANDARD
TZOFFSETFROM:+0100
TZOFFSETTO:+0000
TZNAME:GMT
DTSTART:20231029T010000
END:STANDARD
BEGIN:DAYLIGHT
TZOFFSETFROM:+0000
TZOFFSETTO:+0100
TZNAME:BST
DTSTART:20240331T010000
END:DAYLIGHT
BEGIN:STANDARD
TZOFFSETFROM:+0100
TZOFFSETTO:+0000
TZNAME:GMT
DTSTART:20241027T010000
END:STANDARD
BEGIN:DAYLIGHT
TZOFFSETFROM:+0000
TZOFFSETTO:+0100
TZNAME:BST
DTSTART:20250330T010000
END:DAYLIGHT
BEGIN:STANDARD
TZOFFSETFROM:+0100
TZOFFSETTO:+0000
TZNAME:GMT
DTSTART:20251026T010000
END:STANDARD
END:VTIMEZONE
BEGIN:VEVENT
DTSTART;TZID=Europe/London:20240711T090000
DTEND;TZID=Europe/London:20240711T151500
DTSTAMP:20260421T014440
CREATED:20230922T143920Z
LAST-MODIFIED:20230922T143920Z
UID:6803-1720688400-1720710900@www.parkside.worcs.sch.uk
SUMMARY:Year 5 Activity Day
DESCRIPTION:Year 5 Activity Day at Bablake Cricket Ground
URL:https://www.parkside.worcs.sch.uk/event/year-5-activity-day-3/
END:VEVENT
BEGIN:VEVENT
DTSTART;TZID=Europe/London:20240712T090000
DTEND;TZID=Europe/London:20240712T150000
DTSTAMP:20260421T014440
CREATED:20230808T093926Z
LAST-MODIFIED:20230808T093926Z
UID:6626-1720774800-1720796400@www.parkside.worcs.sch.uk
SUMMARY:Social Awareness Day
DESCRIPTION:
URL:https://www.parkside.worcs.sch.uk/event/social-awareness-day-2/
END:VEVENT
BEGIN:VEVENT
DTSTART;VALUE=DATE:20240715
DTEND;VALUE=DATE:20240716
DTSTAMP:20260421T014440
CREATED:20230808T094045Z
LAST-MODIFIED:20230808T094045Z
UID:6628-1721001600-1721087999@www.parkside.worcs.sch.uk
SUMMARY:Transition Day
DESCRIPTION:Year 8 to High Schools
URL:https://www.parkside.worcs.sch.uk/event/transition-day-2/
END:VEVENT
BEGIN:VEVENT
DTSTART;TZID=Europe/London:20240716T084500
DTEND;TZID=Europe/London:20240716T170000
DTSTAMP:20260421T014440
CREATED:20230808T094156Z
LAST-MODIFIED:20230922T145215Z
UID:6630-1721119500-1721149200@www.parkside.worcs.sch.uk
SUMMARY:Year 7 Group 1 Aztec Adventure
DESCRIPTION:Year 7 Group 1 Aztec Adventure held at Upton Warren
URL:https://www.parkside.worcs.sch.uk/event/year-7-group-1-aztec-adventure/
END:VEVENT
BEGIN:VEVENT
DTSTART;TZID=Europe/London:20240717T084500
DTEND;TZID=Europe/London:20240717T170000
DTSTAMP:20260421T014440
CREATED:20230808T094255Z
LAST-MODIFIED:20230922T144728Z
UID:6632-1721205900-1721235600@www.parkside.worcs.sch.uk
SUMMARY:Year 7 Group 2 Aztec Adventure
DESCRIPTION:Year 7 Group 1 Aztec Adventure held at Upton Warren
URL:https://www.parkside.worcs.sch.uk/event/year-7-group-2-aztec-adventure/
END:VEVENT
BEGIN:VEVENT
DTSTART;TZID=Europe/London:20240718T090000
DTEND;TZID=Europe/London:20240718T150000
DTSTAMP:20260421T014440
CREATED:20230808T094408Z
LAST-MODIFIED:20230808T094408Z
UID:6634-1721293200-1721314800@www.parkside.worcs.sch.uk
SUMMARY:Year 8 Inflatables Day
DESCRIPTION:
URL:https://www.parkside.worcs.sch.uk/event/year-8-inflatables-day/
END:VEVENT
BEGIN:VEVENT
DTSTART;TZID=Europe/London:20240719T151500
DTEND;TZID=Europe/London:20240719T151500
DTSTAMP:20260421T014440
CREATED:20230105T142456Z
LAST-MODIFIED:20230117T093456Z
UID:5531-1721402100-1721402100@www.parkside.worcs.sch.uk
SUMMARY:School closes for Summer holidays
DESCRIPTION:
URL:https://www.parkside.worcs.sch.uk/event/school-closes-for-summer-holidays-3/
END:VEVENT
BEGIN:VEVENT
DTSTART;VALUE=DATE:20240722
DTEND;VALUE=DATE:20240723
DTSTAMP:20260421T014440
CREATED:20230117T093030Z
LAST-MODIFIED:20230117T094537Z
UID:5579-1721606400-1721692799@www.parkside.worcs.sch.uk
SUMMARY:School closed – TE Day
DESCRIPTION:Teacher Education day.
URL:https://www.parkside.worcs.sch.uk/event/school-closed-te-day-9/
END:VEVENT
BEGIN:VEVENT
DTSTART;VALUE=DATE:20240902
DTEND;VALUE=DATE:20240903
DTSTAMP:20260421T014440
CREATED:20240123T101449Z
LAST-MODIFIED:20240716T082730Z
UID:7344-1725235200-1725321599@www.parkside.worcs.sch.uk
SUMMARY:School closed - TE day
DESCRIPTION:
URL:https://www.parkside.worcs.sch.uk/event/school-closed-te-day-10/
END:VEVENT
BEGIN:VEVENT
DTSTART;TZID=Europe/London:20240902T090000
DTEND;TZID=Europe/London:20240902T150000
DTSTAMP:20260421T014440
CREATED:20240902T134956Z
LAST-MODIFIED:20240902T134956Z
UID:8570-1725267600-1725289200@www.parkside.worcs.sch.uk
SUMMARY:Battle of the Bands finishes
DESCRIPTION:
URL:https://www.parkside.worcs.sch.uk/event/battle-of-the-bands-finishes/
END:VEVENT
BEGIN:VEVENT
DTSTART;TZID=Europe/London:20240903T085000
DTEND;TZID=Europe/London:20240903T151500
DTSTAMP:20260421T014440
CREATED:20240123T101649Z
LAST-MODIFIED:20240626T094635Z
UID:7346-1725353400-1725376500@www.parkside.worcs.sch.uk
SUMMARY:School reopens - Year 5 only
DESCRIPTION:
URL:https://www.parkside.worcs.sch.uk/event/school-reopens-12/
END:VEVENT
BEGIN:VEVENT
DTSTART;TZID=Europe/London:20240904T085000
DTEND;TZID=Europe/London:20240904T151500
DTSTAMP:20260421T014440
CREATED:20240626T094823Z
LAST-MODIFIED:20240626T094823Z
UID:8237-1725439800-1725462900@www.parkside.worcs.sch.uk
SUMMARY:School reopens for whole school
DESCRIPTION:
URL:https://www.parkside.worcs.sch.uk/event/school-reopens-for-whole-school-2/
END:VEVENT
BEGIN:VEVENT
DTSTART;TZID=Europe/London:20240905T090000
DTEND;TZID=Europe/London:20240905T150000
DTSTAMP:20260421T014440
CREATED:20240902T122544Z
LAST-MODIFIED:20240902T133111Z
UID:8523-1725526800-1725548400@www.parkside.worcs.sch.uk
SUMMARY:Key Stage 2 - 66 Test Baseline
DESCRIPTION:
URL:https://www.parkside.worcs.sch.uk/event/key-stage-2-66-test-baseline/
END:VEVENT
BEGIN:VEVENT
DTSTART;TZID=Europe/London:20240910T180000
DTEND;TZID=Europe/London:20240910T190000
DTSTAMP:20260421T014440
CREATED:20240902T123232Z
LAST-MODIFIED:20240902T123325Z
UID:8528-1725991200-1725994800@www.parkside.worcs.sch.uk
SUMMARY:Year 8 Information Evening
DESCRIPTION:
URL:https://www.parkside.worcs.sch.uk/event/year-8-information-evening-3/
END:VEVENT
BEGIN:VEVENT
DTSTART;VALUE=DATE:20240918
DTEND;VALUE=DATE:20240919
DTSTAMP:20260421T014440
CREATED:20240902T123009Z
LAST-MODIFIED:20240902T132242Z
UID:8526-1726617600-1726703999@www.parkside.worcs.sch.uk
SUMMARY:5JP Start Swimming
DESCRIPTION:
URL:https://www.parkside.worcs.sch.uk/event/5jp-start-swimming-2/
END:VEVENT
BEGIN:VEVENT
DTSTART;VALUE=DATE:20240919
DTEND;VALUE=DATE:20240920
DTSTAMP:20260421T014440
CREATED:20240902T123433Z
LAST-MODIFIED:20240902T124447Z
UID:8530-1726704000-1726790399@www.parkside.worcs.sch.uk
SUMMARY:NBHS Open Evening
DESCRIPTION:
URL:https://www.parkside.worcs.sch.uk/event/nbhs-open-evening-2/
END:VEVENT
BEGIN:VEVENT
DTSTART;VALUE=DATE:20240920
DTEND;VALUE=DATE:20240921
DTSTAMP:20260421T014440
CREATED:20240703T110404Z
LAST-MODIFIED:20240703T110404Z
UID:8284-1726790400-1726876799@www.parkside.worcs.sch.uk
SUMMARY:Whole school photos
DESCRIPTION:
URL:https://www.parkside.worcs.sch.uk/event/whole-school-photos/
END:VEVENT
BEGIN:VEVENT
DTSTART;TZID=Europe/London:20240923T090000
DTEND;TZID=Europe/London:20240923T150000
DTSTAMP:20260421T014440
CREATED:20240902T123801Z
LAST-MODIFIED:20240902T133225Z
UID:8532-1727082000-1727103600@www.parkside.worcs.sch.uk
SUMMARY:'Year 5 Rock Star Day'
DESCRIPTION:
URL:https://www.parkside.worcs.sch.uk/event/year-5-rock-star-day/
END:VEVENT
BEGIN:VEVENT
DTSTART;VALUE=DATE:20240926
DTEND;VALUE=DATE:20240927
DTSTAMP:20260421T014440
CREATED:20240902T124104Z
LAST-MODIFIED:20240902T134200Z
UID:8535-1727308800-1727395199@www.parkside.worcs.sch.uk
SUMMARY:Orchestral Day @ Bromsgrove School
DESCRIPTION:
URL:https://www.parkside.worcs.sch.uk/event/orchestral-day-bromsgrove-school/
END:VEVENT
BEGIN:VEVENT
DTSTART;VALUE=DATE:20240927
DTEND;VALUE=DATE:20240928
DTSTAMP:20260421T014440
CREATED:20240902T124307Z
LAST-MODIFIED:20240902T132001Z
UID:8537-1727395200-1727481599@www.parkside.worcs.sch.uk
SUMMARY:Year 7 Warwick Castle Trip
DESCRIPTION:
URL:https://www.parkside.worcs.sch.uk/event/year-7-warwick-castle-trip-3/
END:VEVENT
BEGIN:VEVENT
DTSTART;TZID=Europe/London:20240927T090000
DTEND;TZID=Europe/London:20240927T150000
DTSTAMP:20260421T014440
CREATED:20240902T124702Z
LAST-MODIFIED:20240902T133909Z
UID:8542-1727427600-1727449200@www.parkside.worcs.sch.uk
SUMMARY:Year 8 Sports Leader Training
DESCRIPTION:
URL:https://www.parkside.worcs.sch.uk/event/year-8-sports-leader-training/
END:VEVENT
BEGIN:VEVENT
DTSTART;TZID=Europe/London:20240927T140000
DTEND;TZID=Europe/London:20240927T150000
DTSTAMP:20260421T014440
CREATED:20240902T130047Z
LAST-MODIFIED:20240927T123735Z
UID:8540-1727445600-1727449200@www.parkside.worcs.sch.uk
SUMMARY:Year 6 Family Thrive Afternoon
DESCRIPTION:
URL:https://www.parkside.worcs.sch.uk/event/year-6-family-thrive-afternoon-2/
END:VEVENT
BEGIN:VEVENT
DTSTART;TZID=Europe/London:20241001T090000
DTEND;TZID=Europe/London:20241001T150000
DTSTAMP:20260421T014440
CREATED:20240902T124851Z
LAST-MODIFIED:20240902T134047Z
UID:8544-1727773200-1727794800@www.parkside.worcs.sch.uk
SUMMARY:KS2 Battle of the Bands 'Rocktober' starts
DESCRIPTION:
URL:https://www.parkside.worcs.sch.uk/event/ks2-battle-of-the-bands-rocktober-starts-2/
END:VEVENT
BEGIN:VEVENT
DTSTART;VALUE=DATE:20241002
DTEND;VALUE=DATE:20241003
DTSTAMP:20260421T014440
CREATED:20240903T123202Z
LAST-MODIFIED:20240903T124111Z
UID:8715-1727827200-1727913599@www.parkside.worcs.sch.uk
SUMMARY:Year 8 Boys Football Tournament
DESCRIPTION:North Worcestershire – turn up & play tournament to be held at Parkside Middle School. \nTimings to be confirmed.
URL:https://www.parkside.worcs.sch.uk/event/year-8-boys-football-tournament/
END:VEVENT
BEGIN:VEVENT
DTSTART;VALUE=DATE:20241002
DTEND;VALUE=DATE:20241003
DTSTAMP:20260421T014440
CREATED:20240903T130951Z
LAST-MODIFIED:20240903T130951Z
UID:8724-1727827200-1727913599@www.parkside.worcs.sch.uk
SUMMARY:Year 8 Girls Netball Tournament
DESCRIPTION:North Worcestershire – turn up & play tournament to be held at Parkside Middle School. \nTimings to be confirmed.
URL:https://www.parkside.worcs.sch.uk/event/year-8-girls-netball-tournament/
END:VEVENT
BEGIN:VEVENT
DTSTART;VALUE=DATE:20241003
DTEND;VALUE=DATE:20241004
DTSTAMP:20260421T014440
CREATED:20240902T124946Z
LAST-MODIFIED:20240902T124946Z
UID:8546-1727913600-1727999999@www.parkside.worcs.sch.uk
SUMMARY:SBHS Open Evening
DESCRIPTION:
URL:https://www.parkside.worcs.sch.uk/event/sbhs-open-evening-3/
END:VEVENT
BEGIN:VEVENT
DTSTART;VALUE=DATE:20241009
DTEND;VALUE=DATE:20241010
DTSTAMP:20260421T014440
CREATED:20240903T125404Z
LAST-MODIFIED:20240903T130629Z
UID:8718-1728432000-1728518399@www.parkside.worcs.sch.uk
SUMMARY:Year 7 Boys Football Tournament
DESCRIPTION:North Worcestershire – turn up & play tournament to be held at Parkside Middle School. \nTimings to be confirmed.
URL:https://www.parkside.worcs.sch.uk/event/year-7-boys-football-tournament/
END:VEVENT
BEGIN:VEVENT
DTSTART;VALUE=DATE:20241009
DTEND;VALUE=DATE:20241010
DTSTAMP:20260421T014440
CREATED:20240903T131220Z
LAST-MODIFIED:20240903T131220Z
UID:8726-1728432000-1728518399@www.parkside.worcs.sch.uk
SUMMARY:Year 7 Girls Netball Tournament
DESCRIPTION:North Worcestershire – turn up & play tournament to be held at Parkside Middle School. \nTimings to be confirmed.
URL:https://www.parkside.worcs.sch.uk/event/year-7-girls-netball-tournament/
END:VEVENT
BEGIN:VEVENT
DTSTART;VALUE=DATE:20241011
DTEND;VALUE=DATE:20241012
DTSTAMP:20260421T014440
CREATED:20240902T125101Z
LAST-MODIFIED:20240902T134307Z
UID:8548-1728604800-1728691199@www.parkside.worcs.sch.uk
SUMMARY:Year 5 - Blackwell Trip
DESCRIPTION:
URL:https://www.parkside.worcs.sch.uk/event/year-5-blackwell-trip/
END:VEVENT
BEGIN:VEVENT
DTSTART;TZID=Europe/London:20241014T091500
DTEND;TZID=Europe/London:20241014T120000
DTSTAMP:20260421T014440
CREATED:20240902T125704Z
LAST-MODIFIED:20240902T125704Z
UID:8550-1728897300-1728907200@www.parkside.worcs.sch.uk
SUMMARY:Year 5 Maths and English Morning for Parents/Carers
DESCRIPTION:
URL:https://www.parkside.worcs.sch.uk/event/year-5-maths-and-english-morning-for-parents-carers-2/
END:VEVENT
END:VCALENDAR