BEGIN:VCALENDAR
VERSION:2.0
PRODID:-//Parkside Middle School - ECPv6.15.20//NONSGML v1.0//EN
CALSCALE:GREGORIAN
METHOD:PUBLISH
X-ORIGINAL-URL:https://www.parkside.worcs.sch.uk
X-WR-CALDESC:Events for Parkside Middle School
REFRESH-INTERVAL;VALUE=DURATION:PT1H
X-Robots-Tag:noindex
X-PUBLISHED-TTL:PT1H
BEGIN:VTIMEZONE
TZID:Europe/London
BEGIN:DAYLIGHT
TZOFFSETFROM:+0000
TZOFFSETTO:+0100
TZNAME:BST
DTSTART:20240331T010000
END:DAYLIGHT
BEGIN:STANDARD
TZOFFSETFROM:+0100
TZOFFSETTO:+0000
TZNAME:GMT
DTSTART:20241027T010000
END:STANDARD
BEGIN:DAYLIGHT
TZOFFSETFROM:+0000
TZOFFSETTO:+0100
TZNAME:BST
DTSTART:20250330T010000
END:DAYLIGHT
BEGIN:STANDARD
TZOFFSETFROM:+0100
TZOFFSETTO:+0000
TZNAME:GMT
DTSTART:20251026T010000
END:STANDARD
BEGIN:DAYLIGHT
TZOFFSETFROM:+0000
TZOFFSETTO:+0100
TZNAME:BST
DTSTART:20260329T010000
END:DAYLIGHT
BEGIN:STANDARD
TZOFFSETFROM:+0100
TZOFFSETTO:+0000
TZNAME:GMT
DTSTART:20261025T010000
END:STANDARD
BEGIN:DAYLIGHT
TZOFFSETFROM:+0000
TZOFFSETTO:+0100
TZNAME:BST
DTSTART:20270328T010000
END:DAYLIGHT
BEGIN:STANDARD
TZOFFSETFROM:+0100
TZOFFSETTO:+0000
TZNAME:GMT
DTSTART:20271031T010000
END:STANDARD
END:VTIMEZONE
BEGIN:VEVENT
DTSTART;TZID=Europe/London:20260226T090000
DTEND;TZID=Europe/London:20260226T150000
DTSTAMP:20260421T103342
CREATED:20250909T095257Z
LAST-MODIFIED:20250909T095811Z
UID:10418-1772096400-1772118000@www.parkside.worcs.sch.uk
SUMMARY:Production Dress Rehearsal
DESCRIPTION:(KS2 & Meadows KS2)
URL:https://www.parkside.worcs.sch.uk/event/production-dress-rehearsal/
END:VEVENT
BEGIN:VEVENT
DTSTART;VALUE=DATE:20260225
DTEND;VALUE=DATE:20260226
DTSTAMP:20260421T103342
CREATED:20250909T095107Z
LAST-MODIFIED:20250909T095107Z
UID:10416-1771977600-1772063999@www.parkside.worcs.sch.uk
SUMMARY:5SN start swimming
DESCRIPTION:
URL:https://www.parkside.worcs.sch.uk/event/5sn-start-swimming-2/
END:VEVENT
BEGIN:VEVENT
DTSTART;TZID=Europe/London:20260223T085000
DTEND;TZID=Europe/London:20260223T151500
DTSTAMP:20260421T103342
CREATED:20250630T120209Z
LAST-MODIFIED:20250630T120209Z
UID:10178-1771836600-1771859700@www.parkside.worcs.sch.uk
SUMMARY:School reopens
DESCRIPTION:
URL:https://www.parkside.worcs.sch.uk/event/school-reopens-20/
END:VEVENT
BEGIN:VEVENT
DTSTART;TZID=Europe/London:20260213T151500
DTEND;TZID=Europe/London:20260213T151500
DTSTAMP:20260421T103342
CREATED:20250630T120056Z
LAST-MODIFIED:20250630T120056Z
UID:10176-1770995700-1770995700@www.parkside.worcs.sch.uk
SUMMARY:School closes for half term
DESCRIPTION:
URL:https://www.parkside.worcs.sch.uk/event/school-closes-for-half-term-10/
END:VEVENT
BEGIN:VEVENT
DTSTART;VALUE=DATE:20260127
DTEND;VALUE=DATE:20260128
DTSTAMP:20260421T103342
CREATED:20250909T094653Z
LAST-MODIFIED:20250909T094653Z
UID:10414-1769472000-1769558399@www.parkside.worcs.sch.uk
SUMMARY:Holocaust Memorial Day
DESCRIPTION:
URL:https://www.parkside.worcs.sch.uk/event/holocaust-memorial-day-2/
END:VEVENT
BEGIN:VEVENT
DTSTART;VALUE=DATE:20260119
DTEND;VALUE=DATE:20260124
DTSTAMP:20260421T103342
CREATED:20250909T094559Z
LAST-MODIFIED:20250909T094559Z
UID:10412-1768780800-1769212799@www.parkside.worcs.sch.uk
SUMMARY:Writing Oscars
DESCRIPTION:
URL:https://www.parkside.worcs.sch.uk/event/writing-oscars/
END:VEVENT
BEGIN:VEVENT
DTSTART;TZID=Europe/London:20260116T151500
DTEND;TZID=Europe/London:20260116T151500
DTSTAMP:20260421T103342
CREATED:20250909T094451Z
LAST-MODIFIED:20250909T094451Z
UID:10410-1768576500-1768576500@www.parkside.worcs.sch.uk
SUMMARY:Mid-year Reports to parents
DESCRIPTION:
URL:https://www.parkside.worcs.sch.uk/event/mid-year-reports-to-parents-2/
END:VEVENT
BEGIN:VEVENT
DTSTART;VALUE=DATE:20260107
DTEND;VALUE=DATE:20260108
DTSTAMP:20260421T103342
CREATED:20250908T140945Z
LAST-MODIFIED:20250908T140945Z
UID:10408-1767744000-1767830399@www.parkside.worcs.sch.uk
SUMMARY:5RS start swimming
DESCRIPTION:
URL:https://www.parkside.worcs.sch.uk/event/5rs-start-swimming/
END:VEVENT
BEGIN:VEVENT
DTSTART;TZID=Europe/London:20260106T085000
DTEND;TZID=Europe/London:20260106T151500
DTSTAMP:20260421T103342
CREATED:20250630T115921Z
LAST-MODIFIED:20250630T115921Z
UID:10174-1767689400-1767712500@www.parkside.worcs.sch.uk
SUMMARY:School reopens
DESCRIPTION:
URL:https://www.parkside.worcs.sch.uk/event/school-reopens-19/
END:VEVENT
BEGIN:VEVENT
DTSTART;VALUE=DATE:20260105
DTEND;VALUE=DATE:20260106
DTSTAMP:20260421T103342
CREATED:20250630T115754Z
LAST-MODIFIED:20250630T115754Z
UID:10171-1767571200-1767657599@www.parkside.worcs.sch.uk
SUMMARY:School closed - TE Day
DESCRIPTION:
URL:https://www.parkside.worcs.sch.uk/event/school-closed-te-day-12/
END:VEVENT
BEGIN:VEVENT
DTSTART;TZID=Europe/London:20251219T151500
DTEND;TZID=Europe/London:20251219T151500
DTSTAMP:20260421T103342
CREATED:20250630T115608Z
LAST-MODIFIED:20250630T115608Z
UID:10169-1766157300-1766157300@www.parkside.worcs.sch.uk
SUMMARY:School closes for Christmas holidays
DESCRIPTION:
URL:https://www.parkside.worcs.sch.uk/event/school-closes-for-christmas-holidays-3/
END:VEVENT
BEGIN:VEVENT
DTSTART;TZID=Europe/London:20251219T090000
DTEND;TZID=Europe/London:20251219T151500
DTSTAMP:20260421T103342
CREATED:20250908T140654Z
LAST-MODIFIED:20250908T140654Z
UID:10406-1766134800-1766157300@www.parkside.worcs.sch.uk
SUMMARY:Christmas Jumper Day
DESCRIPTION:
URL:https://www.parkside.worcs.sch.uk/event/christmas-jumper-day-3/
END:VEVENT
BEGIN:VEVENT
DTSTART;VALUE=DATE:20251217
DTEND;VALUE=DATE:20251218
DTSTAMP:20260421T103342
CREATED:20250908T140514Z
LAST-MODIFIED:20250908T140548Z
UID:10404-1765929600-1766015999@www.parkside.worcs.sch.uk
SUMMARY:Year 5 Panto
DESCRIPTION:
URL:https://www.parkside.worcs.sch.uk/event/year-5-panto-2/
END:VEVENT
BEGIN:VEVENT
DTSTART;TZID=Europe/London:20251216T123000
DTEND;TZID=Europe/London:20251216T132000
DTSTAMP:20260421T103342
CREATED:20250709T150014Z
LAST-MODIFIED:20250709T150014Z
UID:10244-1765888200-1765891200@www.parkside.worcs.sch.uk
SUMMARY:Christmas Lunch
DESCRIPTION:
URL:https://www.parkside.worcs.sch.uk/event/christmas-lunch-2/
END:VEVENT
BEGIN:VEVENT
DTSTART;TZID=Europe/London:20251211T170000
DTEND;TZID=Europe/London:20251211T180000
DTSTAMP:20260421T103342
CREATED:20250908T135822Z
LAST-MODIFIED:20251107T121725Z
UID:10400-1765472400-1765476000@www.parkside.worcs.sch.uk
SUMMARY:Christmas Arts / Carol Concert
DESCRIPTION:
URL:https://www.parkside.worcs.sch.uk/event/christmas-arts-carol-concert/
END:VEVENT
BEGIN:VEVENT
DTSTART;TZID=Europe/London:20251118T160000
DTEND;TZID=Europe/London:20251118T190000
DTSTAMP:20260421T103342
CREATED:20250908T135506Z
LAST-MODIFIED:20250908T135506Z
UID:10398-1763481600-1763492400@www.parkside.worcs.sch.uk
SUMMARY:Parents’ Evening 4-7pm (Virtual)
DESCRIPTION:
URL:https://www.parkside.worcs.sch.uk/event/parents-evening-4-7pm-virtual/
END:VEVENT
BEGIN:VEVENT
DTSTART;TZID=Europe/London:20251118T113000
DTEND;TZID=Europe/London:20251118T123000
DTSTAMP:20260421T103342
CREATED:20250908T135133Z
LAST-MODIFIED:20250908T135133Z
UID:10396-1763465400-1763469000@www.parkside.worcs.sch.uk
SUMMARY:Open Morning #2
DESCRIPTION:
URL:https://www.parkside.worcs.sch.uk/event/open-morning-2-3/
END:VEVENT
BEGIN:VEVENT
DTSTART;TZID=Europe/London:20251118T093000
DTEND;TZID=Europe/London:20251118T223000
DTSTAMP:20260421T103342
CREATED:20250908T134945Z
LAST-MODIFIED:20250908T135025Z
UID:10393-1763458200-1763505000@www.parkside.worcs.sch.uk
SUMMARY:Open Morning #2
DESCRIPTION:
URL:https://www.parkside.worcs.sch.uk/event/open-morning-2-2/
END:VEVENT
BEGIN:VEVENT
DTSTART;VALUE=DATE:20251114
DTEND;VALUE=DATE:20251115
DTSTAMP:20260421T103342
CREATED:20250326T101914Z
LAST-MODIFIED:20250326T101914Z
UID:9875-1763078400-1763164799@www.parkside.worcs.sch.uk
SUMMARY:Flu vaccinations - Years 5 to 8
DESCRIPTION:
URL:https://www.parkside.worcs.sch.uk/event/flu-vaccinations-years-5-to-8/
END:VEVENT
BEGIN:VEVENT
DTSTART;TZID=Europe/London:20251113T160000
DTEND;TZID=Europe/London:20251113T190000
DTSTAMP:20260421T103342
CREATED:20250908T131905Z
LAST-MODIFIED:20250908T131905Z
UID:10391-1763049600-1763060400@www.parkside.worcs.sch.uk
SUMMARY:Parents’ Evening (Face-to-Face) - Not Year 5
DESCRIPTION:
URL:https://www.parkside.worcs.sch.uk/event/parents-evening-face-to-face-not-year-5/
END:VEVENT
BEGIN:VEVENT
DTSTART;TZID=Europe/London:20251111T160000
DTEND;TZID=Europe/London:20251111T190000
DTSTAMP:20260421T103342
CREATED:20250908T131644Z
LAST-MODIFIED:20250908T131644Z
UID:10389-1762876800-1762887600@www.parkside.worcs.sch.uk
SUMMARY:Parents’ Evening (Face-to-Face)
DESCRIPTION:
URL:https://www.parkside.worcs.sch.uk/event/parents-evening-face-to-face-4/
END:VEVENT
BEGIN:VEVENT
DTSTART;TZID=Europe/London:20251111T113000
DTEND;TZID=Europe/London:20251111T123000
DTSTAMP:20260421T103342
CREATED:20250908T131533Z
LAST-MODIFIED:20250908T131533Z
UID:10387-1762860600-1762864200@www.parkside.worcs.sch.uk
SUMMARY:Open Morning #1
DESCRIPTION:
URL:https://www.parkside.worcs.sch.uk/event/open-morning-1-3/
END:VEVENT
BEGIN:VEVENT
DTSTART;TZID=Europe/London:20251111T093000
DTEND;TZID=Europe/London:20251111T223000
DTSTAMP:20260421T103342
CREATED:20250908T131424Z
LAST-MODIFIED:20250908T131424Z
UID:10385-1762853400-1762900200@www.parkside.worcs.sch.uk
SUMMARY:Open Morning #1
DESCRIPTION:
URL:https://www.parkside.worcs.sch.uk/event/open-morning-1-2/
END:VEVENT
BEGIN:VEVENT
DTSTART;VALUE=DATE:20251110
DTEND;VALUE=DATE:20251115
DTSTAMP:20260421T103342
CREATED:20250908T131318Z
LAST-MODIFIED:20250908T131318Z
UID:10383-1762732800-1763164799@www.parkside.worcs.sch.uk
SUMMARY:Anti-bullying Week
DESCRIPTION:
URL:https://www.parkside.worcs.sch.uk/event/anti-bullying-week/
END:VEVENT
BEGIN:VEVENT
DTSTART;TZID=Europe/London:20251107T090000
DTEND;TZID=Europe/London:20251107T150000
DTSTAMP:20260421T103342
CREATED:20250908T131147Z
LAST-MODIFIED:20250908T131147Z
UID:10381-1762506000-1762527600@www.parkside.worcs.sch.uk
SUMMARY:Inspiration Day - Year 5 Neurodiversity Day
DESCRIPTION:
URL:https://www.parkside.worcs.sch.uk/event/inspiration-day-year-5-neurodiversity-day-2/
END:VEVENT
BEGIN:VEVENT
DTSTART;TZID=Europe/London:20251105T090000
DTEND;TZID=Europe/London:20251105T150000
DTSTAMP:20260421T103342
CREATED:20250908T130841Z
LAST-MODIFIED:20250908T130918Z
UID:10378-1762333200-1762354800@www.parkside.worcs.sch.uk
SUMMARY:5OL start swimming
DESCRIPTION:
URL:https://www.parkside.worcs.sch.uk/event/5ol-start-swimming/
END:VEVENT
BEGIN:VEVENT
DTSTART;TZID=Europe/London:20251103T085000
DTEND;TZID=Europe/London:20251103T151500
DTSTAMP:20260421T103342
CREATED:20250630T115440Z
LAST-MODIFIED:20250630T115440Z
UID:10167-1762159800-1762182900@www.parkside.worcs.sch.uk
SUMMARY:School reopens
DESCRIPTION:
URL:https://www.parkside.worcs.sch.uk/event/school-reopens-18/
END:VEVENT
BEGIN:VEVENT
DTSTART;VALUE=DATE:20251031
DTEND;VALUE=DATE:20251101
DTSTAMP:20260421T103342
CREATED:20250908T125405Z
LAST-MODIFIED:20250908T130609Z
UID:10376-1761868800-1761955199@www.parkside.worcs.sch.uk
SUMMARY:Last day of ‘Rocktober’ (in half term)
DESCRIPTION:
URL:https://www.parkside.worcs.sch.uk/event/last-day-of-rocktober-in-half-term/
END:VEVENT
BEGIN:VEVENT
DTSTART;TZID=Europe/London:20251024T151500
DTEND;TZID=Europe/London:20251024T151500
DTSTAMP:20260421T103342
CREATED:20250630T115327Z
LAST-MODIFIED:20250630T115327Z
UID:10165-1761318900-1761318900@www.parkside.worcs.sch.uk
SUMMARY:School closes for half term
DESCRIPTION:
URL:https://www.parkside.worcs.sch.uk/event/school-closes-for-half-term-9/
END:VEVENT
BEGIN:VEVENT
DTSTART;TZID=Europe/London:20251017T140000
DTEND;TZID=Europe/London:20251017T150000
DTSTAMP:20260421T103342
CREATED:20250908T125254Z
LAST-MODIFIED:20250908T125254Z
UID:10374-1760709600-1760713200@www.parkside.worcs.sch.uk
SUMMARY:Year 7 Family Thrive Afternoon
DESCRIPTION:
URL:https://www.parkside.worcs.sch.uk/event/year-7-family-thrive-afternoon-3/
END:VEVENT
END:VCALENDAR