BEGIN:VCALENDAR
VERSION:2.0
PRODID:-//Parkside Middle School - ECPv6.15.20//NONSGML v1.0//EN
CALSCALE:GREGORIAN
METHOD:PUBLISH
X-WR-CALNAME:Parkside Middle School
X-ORIGINAL-URL:https://www.parkside.worcs.sch.uk
X-WR-CALDESC:Events for Parkside Middle School
REFRESH-INTERVAL;VALUE=DURATION:PT1H
X-Robots-Tag:noindex
X-PUBLISHED-TTL:PT1H
BEGIN:VTIMEZONE
TZID:Europe/London
BEGIN:DAYLIGHT
TZOFFSETFROM:+0000
TZOFFSETTO:+0100
TZNAME:BST
DTSTART:20250330T010000
END:DAYLIGHT
BEGIN:STANDARD
TZOFFSETFROM:+0100
TZOFFSETTO:+0000
TZNAME:GMT
DTSTART:20251026T010000
END:STANDARD
BEGIN:DAYLIGHT
TZOFFSETFROM:+0000
TZOFFSETTO:+0100
TZNAME:BST
DTSTART:20260329T010000
END:DAYLIGHT
BEGIN:STANDARD
TZOFFSETFROM:+0100
TZOFFSETTO:+0000
TZNAME:GMT
DTSTART:20261025T010000
END:STANDARD
BEGIN:DAYLIGHT
TZOFFSETFROM:+0000
TZOFFSETTO:+0100
TZNAME:BST
DTSTART:20270328T010000
END:DAYLIGHT
BEGIN:STANDARD
TZOFFSETFROM:+0100
TZOFFSETTO:+0000
TZNAME:GMT
DTSTART:20271031T010000
END:STANDARD
END:VTIMEZONE
BEGIN:VEVENT
DTSTART;TZID=Europe/London:20260608T090000
DTEND;TZID=Europe/London:20260608T150000
DTSTAMP:20260423T101709
CREATED:20250917T104733Z
LAST-MODIFIED:20250917T104733Z
UID:10483-1780909200-1780930800@www.parkside.worcs.sch.uk
SUMMARY:Year 5/7 GL Assessments
DESCRIPTION:
URL:https://www.parkside.worcs.sch.uk/event/year-5-7-gl-assessments-2/
END:VEVENT
BEGIN:VEVENT
DTSTART;TZID=Europe/London:20260604T090000
DTEND;TZID=Europe/London:20260604T150000
DTSTAMP:20260423T101709
CREATED:20250917T110817Z
LAST-MODIFIED:20251204T094213Z
UID:10485-1780563600-1780585200@www.parkside.worcs.sch.uk
SUMMARY:Year 5 Class and Year 8 Individual/Group Photographs
DESCRIPTION:
URL:https://www.parkside.worcs.sch.uk/event/year-5-class-photographs/
END:VEVENT
BEGIN:VEVENT
DTSTART;TZID=Europe/London:20260602T085000
DTEND;TZID=Europe/London:20260602T151500
DTSTAMP:20260423T101709
CREATED:20250630T121122Z
LAST-MODIFIED:20250630T121122Z
UID:10191-1780390200-1780413300@www.parkside.worcs.sch.uk
SUMMARY:School reopens
DESCRIPTION:
URL:https://www.parkside.worcs.sch.uk/event/school-reopens-22/
END:VEVENT
BEGIN:VEVENT
DTSTART;VALUE=DATE:20260601
DTEND;VALUE=DATE:20260602
DTSTAMP:20260423T101709
CREATED:20250630T120949Z
LAST-MODIFIED:20250630T120949Z
UID:10189-1780272000-1780358399@www.parkside.worcs.sch.uk
SUMMARY:School closed - TE Day
DESCRIPTION:
URL:https://www.parkside.worcs.sch.uk/event/school-closed-te-day-13/
END:VEVENT
BEGIN:VEVENT
DTSTART;TZID=Europe/London:20260522T151500
DTEND;TZID=Europe/London:20260522T151500
DTSTAMP:20260423T101709
CREATED:20250630T120813Z
LAST-MODIFIED:20250630T120813Z
UID:10187-1779462900-1779462900@www.parkside.worcs.sch.uk
SUMMARY:School closes for half term
DESCRIPTION:
URL:https://www.parkside.worcs.sch.uk/event/school-closes-for-half-term-11/
END:VEVENT
BEGIN:VEVENT
DTSTART;VALUE=DATE:20260521
DTEND;VALUE=DATE:20260522
DTSTAMP:20260423T101709
CREATED:20240903T075127Z
LAST-MODIFIED:20240903T075325Z
UID:8657-1779321600-1779407999@www.parkside.worcs.sch.uk
SUMMARY:National Numeracy Day
DESCRIPTION:
URL:https://www.parkside.worcs.sch.uk/event/year-8-hpv-vaccinations-m-f/
END:VEVENT
BEGIN:VEVENT
DTSTART;VALUE=DATE:20260518
DTEND;VALUE=DATE:20260523
DTSTAMP:20260423T101709
CREATED:20250916T145005Z
LAST-MODIFIED:20250916T145005Z
UID:10473-1779062400-1779494399@www.parkside.worcs.sch.uk
SUMMARY:Year 6 Inspiration Week
DESCRIPTION:
URL:https://www.parkside.worcs.sch.uk/event/year-6-inspiration-week-3/
END:VEVENT
BEGIN:VEVENT
DTSTART;VALUE=DATE:20260511
DTEND;VALUE=DATE:20260516
DTSTAMP:20260423T101709
CREATED:20240903T070522Z
LAST-MODIFIED:20250917T103718Z
UID:8651-1778457600-1778889599@www.parkside.worcs.sch.uk
SUMMARY:Year 6 SATs Week
DESCRIPTION:
URL:https://www.parkside.worcs.sch.uk/event/year-6-sats-week-3/
END:VEVENT
BEGIN:VEVENT
DTSTART;VALUE=DATE:20260504
DTEND;VALUE=DATE:20260505
DTSTAMP:20260423T101709
CREATED:20250630T120649Z
LAST-MODIFIED:20250630T120649Z
UID:10184-1777852800-1777939199@www.parkside.worcs.sch.uk
SUMMARY:School closed for May Day
DESCRIPTION:
URL:https://www.parkside.worcs.sch.uk/event/school-closed-for-may-day-2/
END:VEVENT
BEGIN:VEVENT
DTSTART;VALUE=DATE:20260414
DTEND;VALUE=DATE:20260415
DTSTAMP:20260423T101709
CREATED:20250916T143258Z
LAST-MODIFIED:20250916T143846Z
UID:10470-1776124800-1776211199@www.parkside.worcs.sch.uk
SUMMARY:Year 8 HPV Vaccines
DESCRIPTION:
URL:https://www.parkside.worcs.sch.uk/event/year-8-hpv-vaccines/
END:VEVENT
BEGIN:VEVENT
DTSTART;TZID=Europe/London:20260413T085000
DTEND;TZID=Europe/London:20260413T151500
DTSTAMP:20260423T101709
CREATED:20250630T120524Z
LAST-MODIFIED:20250630T120524Z
UID:10182-1776070200-1776093300@www.parkside.worcs.sch.uk
SUMMARY:School reopens
DESCRIPTION:
URL:https://www.parkside.worcs.sch.uk/event/school-reopens-21/
END:VEVENT
BEGIN:VEVENT
DTSTART;TZID=Europe/London:20260327T085000
DTEND;TZID=Europe/London:20260327T151500
DTSTAMP:20260423T101709
CREATED:20250630T120341Z
LAST-MODIFIED:20250630T120341Z
UID:10180-1774601400-1774624500@www.parkside.worcs.sch.uk
SUMMARY:School closes for Easter holidays
DESCRIPTION:
URL:https://www.parkside.worcs.sch.uk/event/school-closes-for-easter-holidays-4/
END:VEVENT
BEGIN:VEVENT
DTSTART;TZID=Europe/London:20260324T160000
DTEND;TZID=Europe/London:20260324T190000
DTSTAMP:20260423T101709
CREATED:20250916T142955Z
LAST-MODIFIED:20260224T134724Z
UID:10468-1774368000-1774378800@www.parkside.worcs.sch.uk
SUMMARY:Parents Evening
DESCRIPTION:
URL:https://www.parkside.worcs.sch.uk/event/parents-evening-face-to-face-6/
END:VEVENT
BEGIN:VEVENT
DTSTART;TZID=Europe/London:20260319T160000
DTEND;TZID=Europe/London:20260319T190000
DTSTAMP:20260423T101709
CREATED:20250916T142849Z
LAST-MODIFIED:20260224T134810Z
UID:10466-1773936000-1773946800@www.parkside.worcs.sch.uk
SUMMARY:Parents' Evening
DESCRIPTION:
URL:https://www.parkside.worcs.sch.uk/event/parents-evening-virtual-5/
END:VEVENT
BEGIN:VEVENT
DTSTART;TZID=Europe/London:20260317T160000
DTEND;TZID=Europe/London:20260317T190000
DTSTAMP:20260423T101709
CREATED:20250916T142742Z
LAST-MODIFIED:20260224T134914Z
UID:10464-1773763200-1773774000@www.parkside.worcs.sch.uk
SUMMARY:Parents' Evening
DESCRIPTION:
URL:https://www.parkside.worcs.sch.uk/event/parents-evening-face-to-face-5/
END:VEVENT
BEGIN:VEVENT
DTSTART;VALUE=DATE:20260305
DTEND;VALUE=DATE:20260306
DTSTAMP:20260423T101709
CREATED:20250916T142620Z
LAST-MODIFIED:20250916T142620Z
UID:10462-1772668800-1772755199@www.parkside.worcs.sch.uk
SUMMARY:World Book Day
DESCRIPTION:
URL:https://www.parkside.worcs.sch.uk/event/world-book-day-3/
END:VEVENT
BEGIN:VEVENT
DTSTART;TZID=Europe/London:20260304T180000
DTEND;TZID=Europe/London:20260304T190000
DTSTAMP:20260423T101709
CREATED:20250917T103319Z
LAST-MODIFIED:20250917T103319Z
UID:10478-1772647200-1772650800@www.parkside.worcs.sch.uk
SUMMARY:Production Evening Performance
DESCRIPTION:
URL:https://www.parkside.worcs.sch.uk/event/production-evening-performance-2/
END:VEVENT
BEGIN:VEVENT
DTSTART;TZID=Europe/London:20260303T180000
DTEND;TZID=Europe/London:20260303T190000
DTSTAMP:20260423T101709
CREATED:20250917T103231Z
LAST-MODIFIED:20250917T103231Z
UID:10476-1772560800-1772564400@www.parkside.worcs.sch.uk
SUMMARY:Production Evening Performance
DESCRIPTION:
URL:https://www.parkside.worcs.sch.uk/event/production-evening-performance/
END:VEVENT
BEGIN:VEVENT
DTSTART;TZID=Europe/London:20260302T133000
DTEND;TZID=Europe/London:20260302T150000
DTSTAMP:20260423T101709
CREATED:20250916T134429Z
LAST-MODIFIED:20250916T142236Z
UID:10460-1772458200-1772463600@www.parkside.worcs.sch.uk
SUMMARY:Production Afternoon Performance
DESCRIPTION:
URL:https://www.parkside.worcs.sch.uk/event/production-afternoon-performance/
END:VEVENT
BEGIN:VEVENT
DTSTART;VALUE=DATE:20260302
DTEND;VALUE=DATE:20260307
DTSTAMP:20260423T101709
CREATED:20250916T134137Z
LAST-MODIFIED:20250916T134137Z
UID:10458-1772409600-1772841599@www.parkside.worcs.sch.uk
SUMMARY:National Careers Week
DESCRIPTION:
URL:https://www.parkside.worcs.sch.uk/event/national-careers-week-3/
END:VEVENT
BEGIN:VEVENT
DTSTART;TZID=Europe/London:20260227T090000
DTEND;TZID=Europe/London:20260227T150000
DTSTAMP:20260423T101709
CREATED:20250909T095401Z
LAST-MODIFIED:20250909T095629Z
UID:10420-1772182800-1772204400@www.parkside.worcs.sch.uk
SUMMARY:Production Dress Rehearsal
DESCRIPTION:(KS3)
URL:https://www.parkside.worcs.sch.uk/event/production-dress-rehearsal-2/
END:VEVENT
BEGIN:VEVENT
DTSTART;TZID=Europe/London:20260226T090000
DTEND;TZID=Europe/London:20260226T150000
DTSTAMP:20260423T101709
CREATED:20250909T095257Z
LAST-MODIFIED:20250909T095811Z
UID:10418-1772096400-1772118000@www.parkside.worcs.sch.uk
SUMMARY:Production Dress Rehearsal
DESCRIPTION:(KS2 & Meadows KS2)
URL:https://www.parkside.worcs.sch.uk/event/production-dress-rehearsal/
END:VEVENT
BEGIN:VEVENT
DTSTART;VALUE=DATE:20260225
DTEND;VALUE=DATE:20260226
DTSTAMP:20260423T101709
CREATED:20250909T095107Z
LAST-MODIFIED:20250909T095107Z
UID:10416-1771977600-1772063999@www.parkside.worcs.sch.uk
SUMMARY:5SN start swimming
DESCRIPTION:
URL:https://www.parkside.worcs.sch.uk/event/5sn-start-swimming-2/
END:VEVENT
BEGIN:VEVENT
DTSTART;TZID=Europe/London:20260223T085000
DTEND;TZID=Europe/London:20260223T151500
DTSTAMP:20260423T101709
CREATED:20250630T120209Z
LAST-MODIFIED:20250630T120209Z
UID:10178-1771836600-1771859700@www.parkside.worcs.sch.uk
SUMMARY:School reopens
DESCRIPTION:
URL:https://www.parkside.worcs.sch.uk/event/school-reopens-20/
END:VEVENT
BEGIN:VEVENT
DTSTART;TZID=Europe/London:20260213T151500
DTEND;TZID=Europe/London:20260213T151500
DTSTAMP:20260423T101709
CREATED:20250630T120056Z
LAST-MODIFIED:20250630T120056Z
UID:10176-1770995700-1770995700@www.parkside.worcs.sch.uk
SUMMARY:School closes for half term
DESCRIPTION:
URL:https://www.parkside.worcs.sch.uk/event/school-closes-for-half-term-10/
END:VEVENT
BEGIN:VEVENT
DTSTART;VALUE=DATE:20260127
DTEND;VALUE=DATE:20260128
DTSTAMP:20260423T101709
CREATED:20250909T094653Z
LAST-MODIFIED:20250909T094653Z
UID:10414-1769472000-1769558399@www.parkside.worcs.sch.uk
SUMMARY:Holocaust Memorial Day
DESCRIPTION:
URL:https://www.parkside.worcs.sch.uk/event/holocaust-memorial-day-2/
END:VEVENT
BEGIN:VEVENT
DTSTART;VALUE=DATE:20260119
DTEND;VALUE=DATE:20260124
DTSTAMP:20260423T101709
CREATED:20250909T094559Z
LAST-MODIFIED:20250909T094559Z
UID:10412-1768780800-1769212799@www.parkside.worcs.sch.uk
SUMMARY:Writing Oscars
DESCRIPTION:
URL:https://www.parkside.worcs.sch.uk/event/writing-oscars/
END:VEVENT
BEGIN:VEVENT
DTSTART;TZID=Europe/London:20260116T151500
DTEND;TZID=Europe/London:20260116T151500
DTSTAMP:20260423T101709
CREATED:20250909T094451Z
LAST-MODIFIED:20250909T094451Z
UID:10410-1768576500-1768576500@www.parkside.worcs.sch.uk
SUMMARY:Mid-year Reports to parents
DESCRIPTION:
URL:https://www.parkside.worcs.sch.uk/event/mid-year-reports-to-parents-2/
END:VEVENT
BEGIN:VEVENT
DTSTART;VALUE=DATE:20260107
DTEND;VALUE=DATE:20260108
DTSTAMP:20260423T101709
CREATED:20250908T140945Z
LAST-MODIFIED:20250908T140945Z
UID:10408-1767744000-1767830399@www.parkside.worcs.sch.uk
SUMMARY:5RS start swimming
DESCRIPTION:
URL:https://www.parkside.worcs.sch.uk/event/5rs-start-swimming/
END:VEVENT
BEGIN:VEVENT
DTSTART;TZID=Europe/London:20260106T085000
DTEND;TZID=Europe/London:20260106T151500
DTSTAMP:20260423T101709
CREATED:20250630T115921Z
LAST-MODIFIED:20250630T115921Z
UID:10174-1767689400-1767712500@www.parkside.worcs.sch.uk
SUMMARY:School reopens
DESCRIPTION:
URL:https://www.parkside.worcs.sch.uk/event/school-reopens-19/
END:VEVENT
END:VCALENDAR