BEGIN:VCALENDAR
VERSION:2.0
PRODID:-//Parkside Middle School - ECPv6.15.20//NONSGML v1.0//EN
CALSCALE:GREGORIAN
METHOD:PUBLISH
X-WR-CALNAME:Parkside Middle School
X-ORIGINAL-URL:https://www.parkside.worcs.sch.uk
X-WR-CALDESC:Events for Parkside Middle School
REFRESH-INTERVAL;VALUE=DURATION:PT1H
X-Robots-Tag:noindex
X-PUBLISHED-TTL:PT1H
BEGIN:VTIMEZONE
TZID:Europe/London
BEGIN:DAYLIGHT
TZOFFSETFROM:+0000
TZOFFSETTO:+0100
TZNAME:BST
DTSTART:20230326T010000
END:DAYLIGHT
BEGIN:STANDARD
TZOFFSETFROM:+0100
TZOFFSETTO:+0000
TZNAME:GMT
DTSTART:20231029T010000
END:STANDARD
BEGIN:DAYLIGHT
TZOFFSETFROM:+0000
TZOFFSETTO:+0100
TZNAME:BST
DTSTART:20240331T010000
END:DAYLIGHT
BEGIN:STANDARD
TZOFFSETFROM:+0100
TZOFFSETTO:+0000
TZNAME:GMT
DTSTART:20241027T010000
END:STANDARD
BEGIN:DAYLIGHT
TZOFFSETFROM:+0000
TZOFFSETTO:+0100
TZNAME:BST
DTSTART:20250330T010000
END:DAYLIGHT
BEGIN:STANDARD
TZOFFSETFROM:+0100
TZOFFSETTO:+0000
TZNAME:GMT
DTSTART:20251026T010000
END:STANDARD
END:VTIMEZONE
BEGIN:VEVENT
DTSTART;TZID=Europe/London:20240902T090000
DTEND;TZID=Europe/London:20240902T150000
DTSTAMP:20260420T155639
CREATED:20240902T134956Z
LAST-MODIFIED:20240902T134956Z
UID:8570-1725267600-1725289200@www.parkside.worcs.sch.uk
SUMMARY:Battle of the Bands finishes
DESCRIPTION:
URL:https://www.parkside.worcs.sch.uk/event/battle-of-the-bands-finishes/
END:VEVENT
BEGIN:VEVENT
DTSTART;VALUE=DATE:20240902
DTEND;VALUE=DATE:20240903
DTSTAMP:20260420T155639
CREATED:20240123T101449Z
LAST-MODIFIED:20240716T082730Z
UID:7344-1725235200-1725321599@www.parkside.worcs.sch.uk
SUMMARY:School closed - TE day
DESCRIPTION:
URL:https://www.parkside.worcs.sch.uk/event/school-closed-te-day-10/
END:VEVENT
BEGIN:VEVENT
DTSTART;VALUE=DATE:20240722
DTEND;VALUE=DATE:20240723
DTSTAMP:20260420T155639
CREATED:20230117T093030Z
LAST-MODIFIED:20230117T094537Z
UID:5579-1721606400-1721692799@www.parkside.worcs.sch.uk
SUMMARY:School closed – TE Day
DESCRIPTION:Teacher Education day.
URL:https://www.parkside.worcs.sch.uk/event/school-closed-te-day-9/
END:VEVENT
BEGIN:VEVENT
DTSTART;TZID=Europe/London:20240719T151500
DTEND;TZID=Europe/London:20240719T151500
DTSTAMP:20260420T155639
CREATED:20230105T142456Z
LAST-MODIFIED:20230117T093456Z
UID:5531-1721402100-1721402100@www.parkside.worcs.sch.uk
SUMMARY:School closes for Summer holidays
DESCRIPTION:
URL:https://www.parkside.worcs.sch.uk/event/school-closes-for-summer-holidays-3/
END:VEVENT
BEGIN:VEVENT
DTSTART;TZID=Europe/London:20240718T090000
DTEND;TZID=Europe/London:20240718T150000
DTSTAMP:20260420T155639
CREATED:20230808T094408Z
LAST-MODIFIED:20230808T094408Z
UID:6634-1721293200-1721314800@www.parkside.worcs.sch.uk
SUMMARY:Year 8 Inflatables Day
DESCRIPTION:
URL:https://www.parkside.worcs.sch.uk/event/year-8-inflatables-day/
END:VEVENT
BEGIN:VEVENT
DTSTART;TZID=Europe/London:20240717T084500
DTEND;TZID=Europe/London:20240717T170000
DTSTAMP:20260420T155639
CREATED:20230808T094255Z
LAST-MODIFIED:20230922T144728Z
UID:6632-1721205900-1721235600@www.parkside.worcs.sch.uk
SUMMARY:Year 7 Group 2 Aztec Adventure
DESCRIPTION:Year 7 Group 1 Aztec Adventure held at Upton Warren
URL:https://www.parkside.worcs.sch.uk/event/year-7-group-2-aztec-adventure/
END:VEVENT
BEGIN:VEVENT
DTSTART;TZID=Europe/London:20240716T084500
DTEND;TZID=Europe/London:20240716T170000
DTSTAMP:20260420T155639
CREATED:20230808T094156Z
LAST-MODIFIED:20230922T145215Z
UID:6630-1721119500-1721149200@www.parkside.worcs.sch.uk
SUMMARY:Year 7 Group 1 Aztec Adventure
DESCRIPTION:Year 7 Group 1 Aztec Adventure held at Upton Warren
URL:https://www.parkside.worcs.sch.uk/event/year-7-group-1-aztec-adventure/
END:VEVENT
BEGIN:VEVENT
DTSTART;VALUE=DATE:20240715
DTEND;VALUE=DATE:20240716
DTSTAMP:20260420T155639
CREATED:20230808T094045Z
LAST-MODIFIED:20230808T094045Z
UID:6628-1721001600-1721087999@www.parkside.worcs.sch.uk
SUMMARY:Transition Day
DESCRIPTION:Year 8 to High Schools
URL:https://www.parkside.worcs.sch.uk/event/transition-day-2/
END:VEVENT
BEGIN:VEVENT
DTSTART;TZID=Europe/London:20240712T090000
DTEND;TZID=Europe/London:20240712T150000
DTSTAMP:20260420T155639
CREATED:20230808T093926Z
LAST-MODIFIED:20230808T093926Z
UID:6626-1720774800-1720796400@www.parkside.worcs.sch.uk
SUMMARY:Social Awareness Day
DESCRIPTION:
URL:https://www.parkside.worcs.sch.uk/event/social-awareness-day-2/
END:VEVENT
BEGIN:VEVENT
DTSTART;TZID=Europe/London:20240711T090000
DTEND;TZID=Europe/London:20240711T151500
DTSTAMP:20260420T155639
CREATED:20230922T143920Z
LAST-MODIFIED:20230922T143920Z
UID:6803-1720688400-1720710900@www.parkside.worcs.sch.uk
SUMMARY:Year 5 Activity Day
DESCRIPTION:Year 5 Activity Day at Bablake Cricket Ground
URL:https://www.parkside.worcs.sch.uk/event/year-5-activity-day-3/
END:VEVENT
BEGIN:VEVENT
DTSTART;VALUE=DATE:20240711
DTEND;VALUE=DATE:20240712
DTSTAMP:20260420T155639
CREATED:20230808T093649Z
LAST-MODIFIED:20230808T093649Z
UID:6624-1720656000-1720742399@www.parkside.worcs.sch.uk
SUMMARY:Year 5 Trip to Bablake
DESCRIPTION:
URL:https://www.parkside.worcs.sch.uk/event/year-5-trip-to-bablake/
END:VEVENT
BEGIN:VEVENT
DTSTART;VALUE=DATE:20240710
DTEND;VALUE=DATE:20240711
DTSTAMP:20260420T155639
CREATED:20240612T123232Z
LAST-MODIFIED:20240612T123403Z
UID:8169-1720569600-1720655999@www.parkside.worcs.sch.uk
SUMMARY:Reserve Day for Inter House Competition
DESCRIPTION:
URL:https://www.parkside.worcs.sch.uk/event/reserve-day-for-inter-house-competition/
END:VEVENT
BEGIN:VEVENT
DTSTART;TZID=Europe/London:20240709T180000
DTEND;TZID=Europe/London:20240709T193000
DTSTAMP:20260420T155639
CREATED:20230711T080732Z
LAST-MODIFIED:20230922T143731Z
UID:6532-1720548000-1720553400@www.parkside.worcs.sch.uk
SUMMARY:New Intake Induction Evening
DESCRIPTION:
URL:https://www.parkside.worcs.sch.uk/event/new-intake-induction-evening-2/
END:VEVENT
BEGIN:VEVENT
DTSTART;VALUE=DATE:20240709
DTEND;VALUE=DATE:20240710
DTSTAMP:20260420T155639
CREATED:20240612T122603Z
LAST-MODIFIED:20240612T122603Z
UID:8167-1720483200-1720569599@www.parkside.worcs.sch.uk
SUMMARY:Inter House Competition
DESCRIPTION:
URL:https://www.parkside.worcs.sch.uk/event/inter-house-competition/
END:VEVENT
BEGIN:VEVENT
DTSTART;VALUE=DATE:20240703
DTEND;VALUE=DATE:20240706
DTSTAMP:20260420T155639
CREATED:20230808T093357Z
LAST-MODIFIED:20230808T093429Z
UID:6622-1719964800-1720223999@www.parkside.worcs.sch.uk
SUMMARY:Year 8 Residential
DESCRIPTION:
URL:https://www.parkside.worcs.sch.uk/event/year-8-residential-2/
END:VEVENT
BEGIN:VEVENT
DTSTART;VALUE=DATE:20240701
DTEND;VALUE=DATE:20240704
DTSTAMP:20260420T155639
CREATED:20230808T093257Z
LAST-MODIFIED:20230808T093257Z
UID:6620-1719792000-1720051199@www.parkside.worcs.sch.uk
SUMMARY:Year 6 Residential
DESCRIPTION:
URL:https://www.parkside.worcs.sch.uk/event/year-6-residential-2/
END:VEVENT
BEGIN:VEVENT
DTSTART;VALUE=DATE:20240614
DTEND;VALUE=DATE:20240615
DTSTAMP:20260420T155639
CREATED:20240423T091302Z
LAST-MODIFIED:20240423T091302Z
UID:7860-1718323200-1718409599@www.parkside.worcs.sch.uk
SUMMARY:Year 5 Class Group Photos
DESCRIPTION:
URL:https://www.parkside.worcs.sch.uk/event/year-5-class-group-photos/
END:VEVENT
BEGIN:VEVENT
DTSTART;VALUE=DATE:20240606
DTEND;VALUE=DATE:20240607
DTSTAMP:20260420T155639
CREATED:20240220T080123Z
LAST-MODIFIED:20240510T120218Z
UID:7565-1717632000-1717718399@www.parkside.worcs.sch.uk
SUMMARY:Trip to Bletchley Park
DESCRIPTION:
URL:https://www.parkside.worcs.sch.uk/event/trip-to-bletchley-park/
END:VEVENT
BEGIN:VEVENT
DTSTART;VALUE=DATE:20240605
DTEND;VALUE=DATE:20240606
DTSTAMP:20260420T155639
CREATED:20240405T091830Z
LAST-MODIFIED:20240423T084447Z
UID:7798-1717545600-1717631999@www.parkside.worcs.sch.uk
SUMMARY:Year 8 Group & Individual Photos
DESCRIPTION:
URL:https://www.parkside.worcs.sch.uk/event/year-5-class-year-8-individual-photos/
END:VEVENT
BEGIN:VEVENT
DTSTART;TZID=Europe/London:20240604T090000
DTEND;TZID=Europe/London:20240604T120000
DTSTAMP:20260420T155639
CREATED:20240227T124133Z
LAST-MODIFIED:20240227T124133Z
UID:7607-1717491600-1717502400@www.parkside.worcs.sch.uk
SUMMARY:Year 6 Height and Weight Measuring
DESCRIPTION:
URL:https://www.parkside.worcs.sch.uk/event/year-6-height-and-weight-measuring/
END:VEVENT
BEGIN:VEVENT
DTSTART;TZID=Europe/London:20240604T085000
DTEND;TZID=Europe/London:20240604T151500
DTSTAMP:20260420T155639
CREATED:20230105T140901Z
LAST-MODIFIED:20230117T093638Z
UID:5517-1717491000-1717514100@www.parkside.worcs.sch.uk
SUMMARY:School reopens
DESCRIPTION:Parkside welcomes all pupils at 8:50am.
URL:https://www.parkside.worcs.sch.uk/event/school-reopens-11/
END:VEVENT
BEGIN:VEVENT
DTSTART;VALUE=DATE:20240603
DTEND;VALUE=DATE:20240604
DTSTAMP:20260420T155639
CREATED:20230117T092816Z
LAST-MODIFIED:20230117T094618Z
UID:5577-1717372800-1717459199@www.parkside.worcs.sch.uk
SUMMARY:School closed – TE Day
DESCRIPTION:Teacher Education day.
URL:https://www.parkside.worcs.sch.uk/event/school-closed-te-day-8/
END:VEVENT
BEGIN:VEVENT
DTSTART;TZID=Europe/London:20240524T151500
DTEND;TZID=Europe/London:20240524T151500
DTSTAMP:20260420T155639
CREATED:20230105T141653Z
LAST-MODIFIED:20230105T141653Z
UID:5523-1716563700-1716563700@www.parkside.worcs.sch.uk
SUMMARY:School closes for half term
DESCRIPTION:The school closes to pupils at 3:15pm
URL:https://www.parkside.worcs.sch.uk/event/school-closes-for-half-term-6/
END:VEVENT
BEGIN:VEVENT
DTSTART;TZID=Europe/London:20240524T090000
DTEND;TZID=Europe/London:20240524T150000
DTSTAMP:20260420T155639
CREATED:20240219T153309Z
LAST-MODIFIED:20240219T153415Z
UID:7561-1716541200-1716562800@www.parkside.worcs.sch.uk
SUMMARY:Year 5 Art Scheme in a day
DESCRIPTION:
URL:https://www.parkside.worcs.sch.uk/event/year-5-art-scheme-in-a-day/
END:VEVENT
BEGIN:VEVENT
DTSTART;TZID=Europe/London:20240524T090000
DTEND;TZID=Europe/London:20240524T150000
DTSTAMP:20260420T155639
CREATED:20240219T153044Z
LAST-MODIFIED:20240219T153152Z
UID:7559-1716541200-1716562800@www.parkside.worcs.sch.uk
SUMMARY:Year 6 Young Citizens Challenge
DESCRIPTION:
URL:https://www.parkside.worcs.sch.uk/event/year-6-young-citizens-challenge-2/
END:VEVENT
BEGIN:VEVENT
DTSTART;TZID=Europe/London:20240522T170000
DTEND;TZID=Europe/London:20240522T180000
DTSTAMP:20260420T155639
CREATED:20240521T112645Z
LAST-MODIFIED:20240521T112645Z
UID:8069-1716397200-1716400800@www.parkside.worcs.sch.uk
SUMMARY:Bushcraft Parents Information Meeting
DESCRIPTION:
URL:https://www.parkside.worcs.sch.uk/event/bushcraft-parents-information-meeting/
END:VEVENT
BEGIN:VEVENT
DTSTART;TZID=Europe/London:20240522T090000
DTEND;TZID=Europe/London:20240522T150000
DTSTAMP:20260420T155639
CREATED:20230711T080551Z
LAST-MODIFIED:20230711T080551Z
UID:6530-1716368400-1716390000@www.parkside.worcs.sch.uk
SUMMARY:Year 8 HPV Vaccinations (single dose)
DESCRIPTION:
URL:https://www.parkside.worcs.sch.uk/event/year-8-hpv-vaccinations-single-dose/
END:VEVENT
BEGIN:VEVENT
DTSTART;TZID=Europe/London:20240521T173000
DTEND;TZID=Europe/London:20240521T183000
DTSTAMP:20260420T155639
CREATED:20240219T152923Z
LAST-MODIFIED:20240521T112516Z
UID:7557-1716312600-1716316200@www.parkside.worcs.sch.uk
SUMMARY:Year 6 Oaker Wood Parent Information Evening
DESCRIPTION:
URL:https://www.parkside.worcs.sch.uk/event/year-6-oakerwood-parent-information-evening/
END:VEVENT
BEGIN:VEVENT
DTSTART;TZID=Europe/London:20240520T153000
DTEND;TZID=Europe/London:20240520T163000
DTSTAMP:20260420T155639
CREATED:20240510T092055Z
LAST-MODIFIED:20240510T092135Z
UID:8024-1716219000-1716222600@www.parkside.worcs.sch.uk
SUMMARY:Year 7 & 8 Rounders vs. Dodderhill
DESCRIPTION:Venue: Parkside Middle School.\nTime 3:30 to 4:30pm
URL:https://www.parkside.worcs.sch.uk/event/year-7-8-rounders-vs-dodderhill/
END:VEVENT
BEGIN:VEVENT
DTSTART;TZID=Europe/London:20240520T080000
DTEND;TZID=Europe/London:20240524T170000
DTSTAMP:20260420T155639
CREATED:20230808T092517Z
LAST-MODIFIED:20230808T092517Z
UID:6610-1716192000-1716570000@www.parkside.worcs.sch.uk
SUMMARY:Year 6 Inspiration Week
DESCRIPTION:
URL:https://www.parkside.worcs.sch.uk/event/year-6-inspiration-week/
END:VEVENT
END:VCALENDAR