BEGIN:VCALENDAR
VERSION:2.0
PRODID:-//Parkside Middle School - ECPv6.15.20//NONSGML v1.0//EN
CALSCALE:GREGORIAN
METHOD:PUBLISH
X-ORIGINAL-URL:https://www.parkside.worcs.sch.uk
X-WR-CALDESC:Events for Parkside Middle School
REFRESH-INTERVAL;VALUE=DURATION:PT1H
X-Robots-Tag:noindex
X-PUBLISHED-TTL:PT1H
BEGIN:VTIMEZONE
TZID:Europe/London
BEGIN:DAYLIGHT
TZOFFSETFROM:+0000
TZOFFSETTO:+0100
TZNAME:BST
DTSTART:20250330T010000
END:DAYLIGHT
BEGIN:STANDARD
TZOFFSETFROM:+0100
TZOFFSETTO:+0000
TZNAME:GMT
DTSTART:20251026T010000
END:STANDARD
BEGIN:DAYLIGHT
TZOFFSETFROM:+0000
TZOFFSETTO:+0100
TZNAME:BST
DTSTART:20260329T010000
END:DAYLIGHT
BEGIN:STANDARD
TZOFFSETFROM:+0100
TZOFFSETTO:+0000
TZNAME:GMT
DTSTART:20261025T010000
END:STANDARD
BEGIN:DAYLIGHT
TZOFFSETFROM:+0000
TZOFFSETTO:+0100
TZNAME:BST
DTSTART:20270328T010000
END:DAYLIGHT
BEGIN:STANDARD
TZOFFSETFROM:+0100
TZOFFSETTO:+0000
TZNAME:GMT
DTSTART:20271031T010000
END:STANDARD
BEGIN:DAYLIGHT
TZOFFSETFROM:+0000
TZOFFSETTO:+0100
TZNAME:BST
DTSTART:20280326T010000
END:DAYLIGHT
BEGIN:STANDARD
TZOFFSETFROM:+0100
TZOFFSETTO:+0000
TZNAME:GMT
DTSTART:20281029T010000
END:STANDARD
END:VTIMEZONE
BEGIN:VEVENT
DTSTART;VALUE=DATE:20260504
DTEND;VALUE=DATE:20260505
DTSTAMP:20260420T135043
CREATED:20250630T120649Z
LAST-MODIFIED:20250630T120649Z
UID:10184-1777852800-1777939199@www.parkside.worcs.sch.uk
SUMMARY:School closed for May Day
DESCRIPTION:
URL:https://www.parkside.worcs.sch.uk/event/school-closed-for-may-day-2/
END:VEVENT
BEGIN:VEVENT
DTSTART;VALUE=DATE:20260511
DTEND;VALUE=DATE:20260516
DTSTAMP:20260420T135043
CREATED:20240903T070522Z
LAST-MODIFIED:20250917T103718Z
UID:8651-1778457600-1778889599@www.parkside.worcs.sch.uk
SUMMARY:Year 6 SATs Week
DESCRIPTION:
URL:https://www.parkside.worcs.sch.uk/event/year-6-sats-week-3/
END:VEVENT
BEGIN:VEVENT
DTSTART;VALUE=DATE:20260518
DTEND;VALUE=DATE:20260523
DTSTAMP:20260420T135043
CREATED:20250916T145005Z
LAST-MODIFIED:20250916T145005Z
UID:10473-1779062400-1779494399@www.parkside.worcs.sch.uk
SUMMARY:Year 6 Inspiration Week
DESCRIPTION:
URL:https://www.parkside.worcs.sch.uk/event/year-6-inspiration-week-3/
END:VEVENT
BEGIN:VEVENT
DTSTART;VALUE=DATE:20260521
DTEND;VALUE=DATE:20260522
DTSTAMP:20260420T135043
CREATED:20240903T075127Z
LAST-MODIFIED:20240903T075325Z
UID:8657-1779321600-1779407999@www.parkside.worcs.sch.uk
SUMMARY:National Numeracy Day
DESCRIPTION:
URL:https://www.parkside.worcs.sch.uk/event/year-8-hpv-vaccinations-m-f/
END:VEVENT
BEGIN:VEVENT
DTSTART;TZID=Europe/London:20260522T151500
DTEND;TZID=Europe/London:20260522T151500
DTSTAMP:20260420T135043
CREATED:20250630T120813Z
LAST-MODIFIED:20250630T120813Z
UID:10187-1779462900-1779462900@www.parkside.worcs.sch.uk
SUMMARY:School closes for half term
DESCRIPTION:
URL:https://www.parkside.worcs.sch.uk/event/school-closes-for-half-term-11/
END:VEVENT
BEGIN:VEVENT
DTSTART;VALUE=DATE:20260601
DTEND;VALUE=DATE:20260602
DTSTAMP:20260420T135043
CREATED:20250630T120949Z
LAST-MODIFIED:20250630T120949Z
UID:10189-1780272000-1780358399@www.parkside.worcs.sch.uk
SUMMARY:School closed - TE Day
DESCRIPTION:
URL:https://www.parkside.worcs.sch.uk/event/school-closed-te-day-13/
END:VEVENT
BEGIN:VEVENT
DTSTART;TZID=Europe/London:20260602T085000
DTEND;TZID=Europe/London:20260602T151500
DTSTAMP:20260420T135043
CREATED:20250630T121122Z
LAST-MODIFIED:20250630T121122Z
UID:10191-1780390200-1780413300@www.parkside.worcs.sch.uk
SUMMARY:School reopens
DESCRIPTION:
URL:https://www.parkside.worcs.sch.uk/event/school-reopens-22/
END:VEVENT
BEGIN:VEVENT
DTSTART;TZID=Europe/London:20260604T090000
DTEND;TZID=Europe/London:20260604T150000
DTSTAMP:20260420T135043
CREATED:20250917T110817Z
LAST-MODIFIED:20251204T094213Z
UID:10485-1780563600-1780585200@www.parkside.worcs.sch.uk
SUMMARY:Year 5 Class and Year 8 Individual/Group Photographs
DESCRIPTION:
URL:https://www.parkside.worcs.sch.uk/event/year-5-class-photographs/
END:VEVENT
BEGIN:VEVENT
DTSTART;TZID=Europe/London:20260608T090000
DTEND;TZID=Europe/London:20260608T150000
DTSTAMP:20260420T135043
CREATED:20250917T104733Z
LAST-MODIFIED:20250917T104733Z
UID:10483-1780909200-1780930800@www.parkside.worcs.sch.uk
SUMMARY:Year 5/7 GL Assessments
DESCRIPTION:
URL:https://www.parkside.worcs.sch.uk/event/year-5-7-gl-assessments-2/
END:VEVENT
BEGIN:VEVENT
DTSTART;TZID=Europe/London:20260622T090000
DTEND;TZID=Europe/London:20260622T150000
DTSTAMP:20260420T135043
CREATED:20250917T110922Z
LAST-MODIFIED:20250917T110922Z
UID:10487-1782118800-1782140400@www.parkside.worcs.sch.uk
SUMMARY:Year 8 GL Assessments
DESCRIPTION:
URL:https://www.parkside.worcs.sch.uk/event/year-8-gl-assessments-2/
END:VEVENT
BEGIN:VEVENT
DTSTART;TZID=Europe/London:20260707T090000
DTEND;TZID=Europe/London:20260707T150000
DTSTAMP:20260420T135043
CREATED:20250917T111037Z
LAST-MODIFIED:20250917T111554Z
UID:10489-1783414800-1783436400@www.parkside.worcs.sch.uk
SUMMARY:Inter-house Sports Competition (Sports Day)
DESCRIPTION:
URL:https://www.parkside.worcs.sch.uk/event/inter-house-sports-competition/
END:VEVENT
BEGIN:VEVENT
DTSTART;TZID=Europe/London:20260707T180000
DTEND;TZID=Europe/London:20260707T193000
DTSTAMP:20260420T135043
CREATED:20250917T111235Z
LAST-MODIFIED:20250917T111235Z
UID:10491-1783447200-1783452600@www.parkside.worcs.sch.uk
SUMMARY:Music Concert
DESCRIPTION:
URL:https://www.parkside.worcs.sch.uk/event/music-concert-3/
END:VEVENT
BEGIN:VEVENT
DTSTART;TZID=Europe/London:20260708T090000
DTEND;TZID=Europe/London:20260708T150000
DTSTAMP:20260420T135043
CREATED:20250917T111433Z
LAST-MODIFIED:20250917T111433Z
UID:10493-1783501200-1783522800@www.parkside.worcs.sch.uk
SUMMARY:Reserve Inter-house Sports Competition (Sports Day)
DESCRIPTION:
URL:https://www.parkside.worcs.sch.uk/event/reserve-inter-house-sports-competition-sports-day/
END:VEVENT
BEGIN:VEVENT
DTSTART;TZID=Europe/London:20260708T180000
DTEND;TZID=Europe/London:20260708T190000
DTSTAMP:20260420T135043
CREATED:20250917T113046Z
LAST-MODIFIED:20250917T113046Z
UID:10496-1783533600-1783537200@www.parkside.worcs.sch.uk
SUMMARY:New Intake Induction Evening
DESCRIPTION:
URL:https://www.parkside.worcs.sch.uk/event/new-intake-induction-evening-4/
END:VEVENT
BEGIN:VEVENT
DTSTART;TZID=Europe/London:20260713T090000
DTEND;TZID=Europe/London:20260713T150000
DTSTAMP:20260420T135043
CREATED:20250917T113204Z
LAST-MODIFIED:20250917T113204Z
UID:10498-1783933200-1783954800@www.parkside.worcs.sch.uk
SUMMARY:Transition Day - Year 8 to High Schools
DESCRIPTION:
URL:https://www.parkside.worcs.sch.uk/event/transition-day-year-8-to-high-schools-2/
END:VEVENT
BEGIN:VEVENT
DTSTART;TZID=Europe/London:20260715T133000
DTEND;TZID=Europe/London:20260715T150000
DTSTAMP:20260420T135043
CREATED:20250917T113326Z
LAST-MODIFIED:20250917T113326Z
UID:10500-1784122200-1784127600@www.parkside.worcs.sch.uk
SUMMARY:Year 8 Presentation Afternoon
DESCRIPTION:
URL:https://www.parkside.worcs.sch.uk/event/year-8-presentation-afternoon-4/
END:VEVENT
BEGIN:VEVENT
DTSTART;TZID=Europe/London:20260715T160000
DTEND;TZID=Europe/London:20260715T160000
DTSTAMP:20260420T135043
CREATED:20250917T113442Z
LAST-MODIFIED:20250917T113442Z
UID:10502-1784131200-1784131200@www.parkside.worcs.sch.uk
SUMMARY:Reports to Parents/Carers - digitally
DESCRIPTION:
URL:https://www.parkside.worcs.sch.uk/event/reports-to-parents-carers-digitally/
END:VEVENT
BEGIN:VEVENT
DTSTART;TZID=Europe/London:20260716T090000
DTEND;TZID=Europe/London:20260716T150000
DTSTAMP:20260420T135043
CREATED:20250917T121601Z
LAST-MODIFIED:20250917T121601Z
UID:10504-1784192400-1784214000@www.parkside.worcs.sch.uk
SUMMARY:Year 8 Treat Day
DESCRIPTION:
URL:https://www.parkside.worcs.sch.uk/event/year-8-treat-day/
END:VEVENT
BEGIN:VEVENT
DTSTART;TZID=Europe/London:20260717T140000
DTEND;TZID=Europe/London:20260717T150000
DTSTAMP:20260420T135043
CREATED:20250917T121708Z
LAST-MODIFIED:20250917T121831Z
UID:10506-1784296800-1784300400@www.parkside.worcs.sch.uk
SUMMARY:Year 8 Leavers' Assembly
DESCRIPTION:
URL:https://www.parkside.worcs.sch.uk/event/year-8-leavers-assembly/
END:VEVENT
BEGIN:VEVENT
DTSTART;TZID=Europe/London:20260717T151500
DTEND;TZID=Europe/London:20260717T151500
DTSTAMP:20260420T135043
CREATED:20250630T121326Z
LAST-MODIFIED:20250630T121326Z
UID:10193-1784301300-1784301300@www.parkside.worcs.sch.uk
SUMMARY:School closes for Summer holidays
DESCRIPTION:
URL:https://www.parkside.worcs.sch.uk/event/school-closes-for-summer-holidays-5/
END:VEVENT
BEGIN:VEVENT
DTSTART;VALUE=DATE:20260720
DTEND;VALUE=DATE:20260721
DTSTAMP:20260420T135043
CREATED:20250630T121453Z
LAST-MODIFIED:20250630T121453Z
UID:10196-1784505600-1784591999@www.parkside.worcs.sch.uk
SUMMARY:School closed - TE Day
DESCRIPTION:
URL:https://www.parkside.worcs.sch.uk/event/school-closed-te-day-14/
END:VEVENT
BEGIN:VEVENT
DTSTART;VALUE=DATE:20260901
DTEND;VALUE=DATE:20260902
DTSTAMP:20260420T135043
CREATED:20260225T091024Z
LAST-MODIFIED:20260225T091024Z
UID:11110-1788220800-1788307199@www.parkside.worcs.sch.uk
SUMMARY:School closed - TE Day
DESCRIPTION:
URL:https://www.parkside.worcs.sch.uk/event/school-closed-te-day-15/
END:VEVENT
BEGIN:VEVENT
DTSTART;VALUE=DATE:20260902
DTEND;VALUE=DATE:20260903
DTSTAMP:20260420T135043
CREATED:20260225T091159Z
LAST-MODIFIED:20260225T091159Z
UID:11112-1788307200-1788393599@www.parkside.worcs.sch.uk
SUMMARY:School closed - TE Day
DESCRIPTION:
URL:https://www.parkside.worcs.sch.uk/event/school-closed-te-day-16/
END:VEVENT
BEGIN:VEVENT
DTSTART;VALUE=DATE:20260903
DTEND;VALUE=DATE:20260904
DTSTAMP:20260420T135043
CREATED:20260225T091548Z
LAST-MODIFIED:20260225T091548Z
UID:11120-1788393600-1788479999@www.parkside.worcs.sch.uk
SUMMARY:School reopens
DESCRIPTION:
URL:https://www.parkside.worcs.sch.uk/event/school-reopens-23/
END:VEVENT
BEGIN:VEVENT
DTSTART;VALUE=DATE:20260910
DTEND;VALUE=DATE:20260911
DTSTAMP:20260420T135043
CREATED:20260107T085745Z
LAST-MODIFIED:20260107T085745Z
UID:10958-1788998400-1789084799@www.parkside.worcs.sch.uk
SUMMARY:Whole School Individual Photographs
DESCRIPTION:
URL:https://www.parkside.worcs.sch.uk/event/whole-school-individual-photographs/
END:VEVENT
BEGIN:VEVENT
DTSTART;VALUE=DATE:20261023
DTEND;VALUE=DATE:20261024
DTSTAMP:20260420T135043
CREATED:20260225T092258Z
LAST-MODIFIED:20260225T092258Z
UID:11132-1792713600-1792799999@www.parkside.worcs.sch.uk
SUMMARY:School closes for half term
DESCRIPTION:
URL:https://www.parkside.worcs.sch.uk/event/school-closes-for-half-term-12/
END:VEVENT
BEGIN:VEVENT
DTSTART;VALUE=DATE:20261102
DTEND;VALUE=DATE:20261103
DTSTAMP:20260420T135043
CREATED:20260225T091629Z
LAST-MODIFIED:20260225T091629Z
UID:11122-1793577600-1793663999@www.parkside.worcs.sch.uk
SUMMARY:School reopens
DESCRIPTION:
URL:https://www.parkside.worcs.sch.uk/event/school-reopens-24/
END:VEVENT
BEGIN:VEVENT
DTSTART;VALUE=DATE:20261218
DTEND;VALUE=DATE:20261219
DTSTAMP:20260420T135043
CREATED:20260225T093831Z
LAST-MODIFIED:20260225T093831Z
UID:11138-1797552000-1797638399@www.parkside.worcs.sch.uk
SUMMARY:School closes for Christmas holidays
DESCRIPTION:
URL:https://www.parkside.worcs.sch.uk/event/school-closes-for-christmas-holidays-4/
END:VEVENT
BEGIN:VEVENT
DTSTART;VALUE=DATE:20270104
DTEND;VALUE=DATE:20270105
DTSTAMP:20260420T135043
CREATED:20260225T091300Z
LAST-MODIFIED:20260225T091300Z
UID:11114-1799020800-1799107199@www.parkside.worcs.sch.uk
SUMMARY:School closed - TE Day
DESCRIPTION:
URL:https://www.parkside.worcs.sch.uk/event/school-closed-te-day-17/
END:VEVENT
BEGIN:VEVENT
DTSTART;VALUE=DATE:20270105
DTEND;VALUE=DATE:20270106
DTSTAMP:20260420T135043
CREATED:20260225T091701Z
LAST-MODIFIED:20260225T091701Z
UID:11124-1799107200-1799193599@www.parkside.worcs.sch.uk
SUMMARY:School reopens
DESCRIPTION:
URL:https://www.parkside.worcs.sch.uk/event/school-reopens-25/
END:VEVENT
END:VCALENDAR